{"text_format":"1","workbook":"xlsx","n_sheets":6,"sheets":["RM","Cash Equities Summary","Derivatives Summary","Futures Data","Options Data","AuC"],"not_rendered":{"charts":0,"images":0,"macros":0,"external_links":10,"defined_names":0,"comments":0,"pivot_tables":0},"unopened":[],"bounds":{"document_bytes":16777216,"sheet_cells":100000,"rows_first":2000,"rows_last":500,"rows_between":2000,"halvings":0,"cell_chars":16384,"cell_head_chars":4096},"cells_cut":0,"cells_raw":0,"read":"whole","date_system":"1900"}

{"sheet":"RM","index":0,"n_rows":78,"n_cols":17,"rows_kept":78,"cut":false,"hidden":false,"merged":[[2,0,3,16]]}
["MEXICAN STOCK EXCHANGE"]
["DECEMBER OPERATIONAL HIGHLIGHTS"]
["Mexico City, Mexico, January 8th, 2021.  Bolsa Mexicana de Valores, S.A.B. de C.V. (BMV: BOLSAA), today announced its trading volumes for the month of December 2020."]
[]
[]
[null,null,null,"2020-12-01","2020-11-01","%",null,"2019-12-01","%",null,"QTD '20","QTD '19","%",null,"YTD '20","YTD '19","%"]
["Debt Listings",null,null,"                           "]
[]
[null,"Medium & Long Term Listings"]
[null,"New Listings",null,5,7,-0.2857142857142857,null,10,-0.5,null,22,39,-0.4358974358974359,null,77,158,-0.51265822784810133]
[null,"Amounts Raised(1)",null,18480,13897,0.32978340649060955,null,26097,-0.29187262903782041,null,51607,57482,-0.1022059079363975,null,144953,215508,-0.3273892384505448]
[]
[null,"Short Term Listing"]
[null,"New Listings",null,75,88,-0.14772727272727271,null,68,0.10294117647058831,null,282,278,1.4388489208633004E-2,null,1160,1187,-2.2746419545071617E-2]
[null,"Amounts Raised(1)",null,9991,13722,-0.27189914006704563,null,9798,1.9697897530108088E-2,null,41814,50779,-0.1765493609563008,null,162446,217722,-0.25388339258320247]
[]
["Development Certificates (CKDs)"]
[null,"New Listings",null,0,0,"-",null,0,"-",null,0,0,"-",null,3,3,0]
[null,"Amounts Raised(1)",null,0,0,"-",null,0,"-",null,0,0,"-",null,3498,1194,1.9296482412060301]
[]
["Inv. Project Certificates (CERPIS)"]
[null,"New Listings",null,0,0,"-",null,7,-1,null,0,7,-1,null,1,11,-0.90909090909090906]
[null,"Amounts Raised(1)",null,0,0,"-",null,1304,-1,null,0,1304,-1,null,677,5896,-0.88517639077340571]
[]
["Equity Listings"]
[null,"New Listings",null,0,0,"-",null,0,"-",null,0,0,"-",null,0,1,-1]
[null,"Amounts Raised(1)",null,0,0,"-",null,0,"-",null,0,0,"-",null,0,2031,-1]
[]
["FIBRAS"]
[null,"New Listings",null,0,0,"-",null,0,"-",null,0,1,-1,null,1,1,0]
[null,"Amounts Raised(1)",null,0,0,"-",null,0,"-",null,0,3900,-1,null,12037,3900,2.0864102564102565]
[]
["FIBRAS E"]
[null,"New Listings",null,0,0,"-",null,0,"-",null,0,0,"-",null,1,0,"-"]
[null,"Amounts Raised(1)",null,0,0,"-",null,0,"-",null,0,0,"-",null,25827,0,"-"]
[]
["Equity Trading(3) "]
[]
[null,"Total Market"]
[null,null,"Value Traded(1)",14884.111200370513,18680.140282315821,-0.20321202221050483,null,12526.008556362242,0.18825650911842451,null,15594.306443900256,12368.807985441146,0.26077682362404864,null,16048.525768827534,13245.358794879281,0.21163390266422755]
[null,null,"Transaction",367862.77272727276,425966.4736842105,-0.13640439928146275,null,301529.45,0.21998953245619202,null,372644.07936507935,318916.17460317462,0.16847030361115434,null,383661.66666666669,353585.83665338642,8.505948738767799E-2]
[null,null,"Volume(2)",444260.03595454548,537821.48005263158,-0.17396375482981841,null,212183.79055000001,1.0937510580001537,null,419376.47811111109,214302.48801587301,0.95693704722666872,null,307252.52387301589,239522.01370119522,0.28277363372668862]
[]
[null,"Local market"]
[null,null,"Value Traded(1)",7299.674757953695,9352.84782656266,-0.2195238398702295,null,6628.0646856507401,0.1013282314152637,null,7713.6884488848573,6991.6206616627496,0.10327616759608138,null,7762.3464434600746,7640.1085523378197,1.599949664129463E-2]
[null,null,"Transaction",353670.04545454547,409950.26315789472,-0.13728547768164889,null,298157.75,0.1861843116757671,null,358475.01587301586,315439.44444444444,0.1364305326633013,null,371653.87698412698,350179.56573705177,6.1323713169489036E-2]
[null,null,"Volume(2)",429566.39972727274,523278.73363157891,-0.17908683820177096,null,199007.4915,1.1585438643010719,null,405085.40285714285,203053.94112698411,0.99496449371457452,null,291915.66090873018,227054.58839840637,0.28566290145396178]
[]
[null,"Global Market"]
[null,null,"Value Traded(1)",7584.436442416818,9327.2924557531587,-0.18685551263714595,null,5897.9438707115005,0.28594584971895753,null,7880.6179950153974,5377.1873237783966,0.46556508458736579,null,8286.1793253674605,5605.2502425414623,0.47828891964160469]
[null,null,"Transaction",14192.727272727272,16016.21052631579,-0.11385235293906781,null,3371.7,3.2093683520856757,null,14169.063492063493,3476.7301587301586,3.0753992530839964,null,12007.789682539682,3406.2709163346613,2.5252010123319075]
[null,null,"Volume(2)",14693.636227272727,14542.74642105263,1.0375605944807242E-2,null,13176.299050000001,0.11515655280097237,null,14291.075253968253,11248.54688888889,0.27048190269666894,null,15336.862964285714,12467.425302788846,0.23015479072932576]
[]
["Derivatives(3)"]
[null,"Futures Volume"]
[null,null,"IPC Index",2766.090909090909,1621.2631578947369,0.70613320584103589,null,6163.5,-0.55121425990250517,null,1872.063492063492,2964.4126984126983,-0.36848756144315098,null,2344.4087301587301,3587.0039840637451,-0.34641591128016225]
[null,null,"Mini IPC",9.454545454545455,10.052631578947368,-5.9495478343645769E-2,null,25.3,-0.62630255120373701,null,9.8095238095238102,16.920634920634921,-0.42026266416510316,null,17.099206349206348,34.768924302788847,-0.50820433211289184]
[null,null,"28 Day TIIE",0,0,"-",null,0,"-",null,0,0,"-",null,0,0,"-"]
[null,null,"91 Day Cete",0,0,"-",null,0,"-",null,0,0,"-",null,0,0,"-"]
[null,null,"Currencies",54152.227272727272,5971.7894736842109,8.0680067526424075,null,30307.75,0.78674521443285217,null,23171.444444444445,25326.095238095237,-8.5076312530397047E-2,null,23480.579365079364,20300.585657370517,0.15664541710176172]
[null,null,"Bonds",409.09090909090907,78.94736842105263,4.1818181818181817,null,1430,-0.71392244119516857,null,203.17460317460316,831.1111111111112,-0.75553857906799093,null,237.10714285714286,1271.6454183266933,-0.81354303688748186]
[null,null,"Equities",22.727272727272727,143.68421052631578,-0.84182484182484185,null,735.6,-0.96910376192594794,null,87.460317460317469,279.65079365079362,-0.68725167442388457,null,67.722222222222229,129.29880478087651,-0.47623473908369451]
[null,null,"Centrally Cleared Swaps",0,0,"-",null,0,"-",null,0,0,"-",null,0,0,"-"]
[null,null,"Swaps",0,0,"-",null,0,"-",null,0,0,"-",null,0,0,"-"]
[null,null,"Tracks",0,0,"-",null,0,"-",null,0,0,"-",null,0,0,"-"]
[null,null,"TOTAL FUTURES",57359.590909090912,7825.7368421052633,6.3296089641649838,null,38662.15,0.48361099703691868,null,25343.952380952385,29418.190476190473,-0.1384938376320447,null,26146.916666666664,25323.302788844619,3.2523951740799806E-2]
[null,"Swaps "]
[null,null,"Swaps TIIE 28",5091.045454545455,61038.84210526316,-0.91659334812141735,null,22647.5,-0.77520496944274397,null,38318.111111111109,29740.476190476191,0.28841619299228771,null,31695.944444444445,28173.988047808765,0.12500737881549573]
[null,"TOTAL DERIVATIVES",null,62450.636363636368,68864.578947368427,-9.3138485441609742E-2,null,61309.65,1.8610224713994761E-2,null,63662.063492063491,59158.666666666664,7.6124041989849234E-2,null,57842.861111111109,53497.290836653381,8.1229725963625432E-2]
[]
[null,null,"Margin Deposits(1)",39977.794458881901,42225.691647522006,-5.3235295881104205E-2,null,34845.876433778598,0.14727475817277957,null,39958.7109793993,32656.4982138544,0.22360672959254901,null,40168.351104156805,32332.892842522444,0.24233706213041351]
[]
["Total Assets Under Custody"]
[null,null,"Local Market (4)",26707.09959439321,26059.075586928495,2.4867497901183144E-2,null,25229.386788836637,5.8571094807996937E-2,null,26128.402021161612,25099.902304174782,4.0976243832461456E-2,null,25330.460386882041,24405.411909978986,3.790341586182433E-2]
[null,null,"Global Market (4)",1398.4835890000525,1360.0579576529649,2.8252936671462336E-2,null,1079.7255409118798,0.29522136506928076,null,1370.1934188267419,1067.3463214170265,0.28373836245357609,null,1260.2705830523048,1057.4323099678313,0.19182152008448106]
[]
["(1) Million Pesos",null,null,"(3) Daily Average"]
["(2) Thousand Shares",null,null,"(4) Billion Pesos"]

{"sheet":"Cash Equities Summary","index":1,"n_rows":61,"n_cols":13,"rows_kept":61,"cut":false,"hidden":false,"merged":[[6,11,7,11],[6,5,7,5],[6,0,7,0],[6,1,7,1],[6,2,7,2],[6,3,7,3],[6,4,7,4],[28,8,29,8],[6,12,7,12],[17,0,18,0],[17,1,18,1],[17,2,18,2],[17,3,18,3],[17,4,18,4],[17,5,18,5],[17,6,18,6],[17,7,18,7],[17,8,18,8],[6,6,7,6],[6,7,7,7],[6,8,7,8],[6,9,7,9],[6,10,7,10],[17,9,18,9],[17,10,18,10],[17,11,18,11],[17,12,18,12],[28,0,29,0],[28,1,29,1],[28,2,29,2],[28,3,29,3],[28,4,29,4],[28,5,29,5],[28,12,29,12],[28,9,29,9],[28,10,29,10],[28,11,29,11],[28,6,29,6],[28,7,29,7],[39,0,40,0],[39,1,40,1],[39,2,40,2],[39,3,40,3],[39,4,40,4],[51,5,52,5],[51,12,52,12],[51,6,52,6],[51,7,52,7],[51,8,52,8],[51,9,52,9],[51,10,52,10],[51,11,52,11],[51,0,52,0],[51,1,52,1],[51,2,52,2],[51,3,52,3],[51,4,52,4],[39,5,40,5],[39,6,40,6],[39,7,40,7],[39,8,40,8],[39,12,40,12],[39,9,40,9],[39,10,40,10],[39,11,40,11]]}
["MEXICAN STOCK EXCHANGE"]
["DECEMBER OPERATIONAL HIGHLIGHTS"]
[]
["OPERATING FIGURES OF THE STOCK MARKET"]
[]
[null,"               Trading on the Exchange"]
["Domestic Equities","2019-01-01","2019-02-01","2019-03-01","2019-04-01","2019-05-01","2019-06-01","2019-07-01","2019-08-01","2019-09-01","2019-10-01","2019-11-01","2019-12-01"]
[]
["Number of Trades",7336560,6535104,7978313,6712681,8818952,7522374,7225423,8708409,7184570,7365167,6544363,5963155]
["Daily Average",333480,343952.84210526315,398915.65,335634.05,400861.45454545453,376118.7,314148.82608695654,395836.77272727271,359228.5,320224.65217391303,327218.15000000002,298157.75]
["Value Traded(1)",187770.54395771702,144389.42995864499,161544.08613650218,140801.06582257309,177044.9826263602,145525.74489577411,142634.0037720617,197044.70702358673,180440.58075881918,173472.50531287299,134438.3026588654,132561.29371301478]
["Daily Average(1)",8535.0247253507732,7599.443682033947,8077.2043068251096,7040.0532911286546,8047.4992102891001,7276.2872447887057,6201.4784248722481,8956.5775919812149,9022.0290379409598,7542.2828396901305,6721.9151329432698,6628.0646856507401]
["Trading Volume(2)",5298835.4189999998,4185688.3909999998,4955951.4440000001,4029692.1460000002,5944810.6040000003,4208813.7740000002,4080583.412,6432203.9189999998,5061724.2879999997,4821230.1030000001,3991018.358,3980149.83]
["Daily Average(2)",240856.15540909092,220299.389,247797.5722,201484.6073,270218.66381818184,210440.6887,177416.67008695652,292372.90540909092,253086.2144,209618.70013043479,199550.9179,199007.4915]
[]
[]
[null,"               Trading on the Exchange"]
["Domestic Equities","2020-01-01","2020-02-01","2020-03-01","2020-04-01","2020-05-01","2020-06-01","2020-07-01","2020-08-01","2020-09-01","2020-10-01","2020-11-01","2020-12-01"]
[]
["Number of Trades",6425766,7048238,11222511,7960404,8095911,8908589,8135917,6534661,6740854,7014130,7789055,7780741]
["Daily Average",292080.27272727271,370959.89473684208,534405.28571428568,398020.2,404795.55,404935.86363636365,353735.52173913043,311174.33333333331,320993.04761904763,318824.09090909088,409950.26315789472,353670.04545454547]
["Value Traded(1)",165575.89748815601,156085.43108131809,228971.09583792882,148409.06727551337,152442.46432212938,187938.35248008688,138751.39291066528,129836.94396525538,162138.2861111394,147665.418900074,177704.108704691,160592.844674981]
["Daily Average(1)",7526.1771585525457,8215.0226884904259,10903.385516091848,7420.4533637756685,7622.12321610647,8542.6523854584957,6032.6692569854467,6182.7116173931145,7720.8707671971151,6712.0644954579093,9352.84782656266,7299.674757953695]
["Trading Volume(2)",4672287.1320000002,4610458.9970000004,7887317.1579999998,5409981.1579999998,5274423.45,6195545.2560000001,4414862.1919999998,4145318.8730000001,5432171.9529999997,6127623.6469999999,9942295.9389999993,9450460.7939999998]
["Daily Average(2)",212376.68781818182,242655.73668421054,375586.53133333329,270499.05789999996,263721.17249999999,281615.69345454546,191950.53008695654,197396.13680952383,258674.85490476192,278528.34759090905,523278.73363157891,429566.39972727274]
[]
[]
[null,"Trading on the Global BMV Market"]
["Foreign Equities","2019-01-01","2019-02-01","2019-03-01","2019-04-01","2019-05-01","2019-06-01","2019-07-01","2019-08-01","2019-09-01","2019-10-01","2019-11-01","2019-12-01"]
[]
["Number of Trades",78110,63356,70224,68394,67272,68533,68083,87521,64447,76873,74727,67434]
["Daily Average",3550.4545454545455,3334.5263157894738,3511.2,3419.7,3057.818181818182,3426.65,2960.1304347826085,3978.2272727272725,3222.35,3342.304347826087,3736.35,3371.7]
["Value Traded(1)",124749.50662197999,112859.51591235999,126303.67731891001,123039.13147919001,100323.52323964,105985.96562033999,153850.36450341,128366.84932036797,92676.47546366998,111804.15073693001,108999.77324687899,117958.87741423]
["Daily Average(1)",5670.4321191809095,5939.9745217031577,6315.1838659455007,6151.9565739595,4560.1601472563634,5299.2982810170006,6689.1462827569567,5834.8567872894528,4633.8237731834997,4861.0500320404344,5449.9886623439506,5897.9438707115005]
["Trading Volume(2)",201120.73499999999,212738.64300000001,215905.93700000001,273152.783,186748.93400000001,192520.12100000001,747101.80700000003,210206.019,181170.318,226585.21299999999,218547.26,263525.98100000003]
["Daily Average(2)",9141.8515909090911,11196.770684210525,10795.296849999999,13657.639150000001,8488.5879090909075,9626.00605,32482.687260869567,9554.8190454545456,9058.5159000000003,9851.5310000000009,10927.362999999999,13176.299050000001]
[]
[]
[null,"Trading on the Global BMV Market"]
["Foreign Equities","2020-01-01","2020-02-01","2020-03-01","2020-04-01","2020-05-01","2020-06-01","2020-07-01","2020-08-01","2020-09-01","2020-10-01","2020-11-01","2020-12-01"]
[]
["Number of Trades",105762,121314,252523,246861,226457,308997,281591,290208,299599,276103,304308,312240]
["Daily Average",4807.363636363636,6384.9473684210525,12024.904761904761,12343.05,11322.85,14045.318181818182,12243.08695652174,13819.428571428571,14266.619047619048,12550.136363636364,16016.21052631579,14192.727272727272]
["Value Traded(1)",131943.98193371002,161751.90961903997,269169.66813369002,162116.49908548998,192418.82141845999,178363.77644264002,183192.72242167001,160995.08409800997,151685.79315392001,152402.77529349001,177218.55665931001,166857.60173317001]
["Daily Average(1)",5997.4537242595452,8513.2584010021037,12817.60324446143,8105.8249542744998,9620.9410709229996,8107.444383756364,7964.900974855218,7666.4325760957136,7223.1330073295239,6927.3988769768184,9327.2924557531587,7584.436442416818]
["Trading Volume(2)",245890.46400000001,287052.89500000002,525102.70700000005,309101.88,348820.48700000002,405973.75900000002,399604.44799999997,235008.264,207996.82199999999,300765.56199999998,276312.18199999997,323259.99699999997]
["Daily Average(2)",11176.839272727273,15108.047105263158,25004.890809523811,15455.093999999999,17441.02435,18453.352681818182,17374.10643478261,11190.869714285715,9904.6105714285713,13671.161909090908,14542.74642105263,14693.636227272727]
[]
[]
[null,"FIXED INCOME TRADING"]
[]
["Fixed Income","2020-01-01","2020-02-01","2020-03-01","2020-04-01","2020-05-01","2020-06-01","2020-07-01","2020-08-01","2020-09-01","2020-10-01","2020-11-01","2020-12-01"]
[]
["Value Traded(1)",6.1520239999999999,3.9348000000000001,2.6530517999999996,30.253699999999998,11,20.325600000000001,30.203800000000001,0.36,0.1,31,1.0457000000000001,3.6543000000000001]
["Daily Average(1)",0.27963745454545452,0.20709473684210525,0.1263358,1.5126850000000001,0.55000000000000004,0.9238909090909091,1.3132086956521738,1.714285714285714E-2,4.7619047619047615E-3,1.4090909090909092,5.5036842105263162E-2,0.1740142857142857]
["Trading Volume(2)",61.32,39.301000000000002,26.356000000000002,302.53699999999998,110,203.256,302.04399999999998,3.6,1,310,10.457000000000001,36.542999999999999]
["Daily Average(2)",2.7872727272727276,2.0684736842105265,1.255047619047619,15.126850000000001,5.5,9.2389090909090896,13.132347826086956,0.17142857142857143,4.7619047619047623E-2,14.09090909090909,0.55036842105263151,1.7401428571428572]
[]
["(1) In Millions"]
["(2) In thousands"]
["Source:  BMV"]

{"sheet":"Derivatives Summary","index":2,"n_rows":85,"n_cols":13,"rows_kept":85,"cut":false,"hidden":false,"merged":[[73,10,74,10],[73,11,74,11],[73,12,74,12],[73,1,74,1],[73,2,74,2],[73,3,74,3],[73,4,74,4],[73,5,74,5],[73,6,74,6],[73,7,74,7],[73,8,74,8],[73,9,74,9],[6,12,7,12],[15,0,16,0],[15,1,16,1],[15,2,16,2],[15,3,16,3],[15,4,16,4],[15,5,16,5],[15,6,16,6],[15,7,16,7],[15,8,16,8],[6,6,7,6],[6,7,7,7],[6,8,7,8],[6,9,7,9],[6,10,7,10],[6,11,7,11],[15,9,16,9],[15,10,16,10],[15,11,16,11],[15,12,16,12],[33,0,34,0],[33,1,34,1],[33,2,34,2],[33,3,34,3],[33,4,34,4],[6,5,7,5],[6,0,7,0],[6,1,7,1],[6,2,7,2],[6,3,7,3],[6,4,7,4],[24,0,25,0],[24,1,25,1],[24,2,25,2],[24,3,25,3],[24,4,25,4],[24,5,25,5],[24,12,25,12],[24,9,25,9],[24,10,25,10],[24,11,25,11],[24,6,25,6],[24,7,25,7],[24,8,25,8],[43,1,44,1],[43,2,44,2],[43,3,44,3],[43,4,44,4],[43,5,44,5],[43,6,44,6],[43,7,44,7],[43,8,44,8],[53,1,54,1],[53,2,54,2],[53,3,54,3],[53,4,54,4],[53,5,54,5],[53,10,54,10],[53,11,54,11],[53,12,54,12],[33,5,34,5],[33,6,34,6],[33,7,34,7],[33,8,34,8],[33,12,34,12],[33,9,34,9],[33,10,34,10],[33,11,34,11],[53,6,54,6],[53,7,54,7],[53,8,54,8],[53,9,54,9],[43,12,44,12],[43,11,44,11],[43,9,44,9],[43,10,44,10],[65,11,66,11],[65,12,66,12],[65,6,66,6],[65,7,66,7],[65,8,66,8],[65,9,66,9],[65,10,66,10],[65,1,66,1],[65,2,66,2],[65,3,66,3],[65,4,66,4],[65,5,66,5],[80,11,81,11],[80,12,81,12],[80,6,81,6],[80,7,81,7],[80,8,81,8],[80,9,81,9],[80,10,81,10],[80,1,81,1],[80,2,81,2],[80,3,81,3],[80,4,81,4],[80,5,81,5]]}
["MEXICAN STOCK EXCHANGE"]
["DECEMBER OPERATIONAL HIGHLIGHTS"]
[]
["OPERATING FIGURES FUTURES MARKET"]
[]
[null,"               Futures Trading (MexDer)"]
[null,"2019-01-01","2019-02-01","2019-03-01","2019-04-01","2019-05-01","2019-06-01","2019-07-01","2019-08-01","2019-09-01","2019-10-01","2019-11-01","2019-12-01"]
[]
["Number of Trades",24258,17660,19933,20072,21485,21189,20036,22564,25147,18697,13114,19621]
["Volume (1)",234443,305668,774262,281247,511251,980335,185122,426624,812955,195391,891912,778373]
["Notional Value (2)",56035.551693000001,65746.495150000002,173093.31192199999,63913.673864999997,105284.91416499999,226332.52676800001,43733.756646000002,94275.864879999994,192925.45126900001,46539.254366000001,178484.08966299999,177015.291409]
["Open Interest (1)",508560,514975,488530,521261,531068,529384,515216,564975,504277,492993,734408,594781]
[]
[]
[null,"               Futures Trading (MexDer)"]
[null,"2020-01-01","2020-02-01","2020-03-01","2020-04-01","2020-05-01","2020-06-01","2020-07-01","2020-08-01","2020-09-01","2020-10-01","2020-11-01","2020-12-01"]
[]
["Number of Trades",16700,13484,29089,14382,13477,17658,18732,12481,17176,15818,16136,12619]
["Volume (1)",342015,301589,1103217,223183,167142,1202058,174544,100317,1395549,186789,149359,1265225]
["Notional Value (2)",73226.852243000001,64267.123295999998,257885.31159699999,56327.909484000003,42207.672079999997,277335.34659999999,44099.011255999998,25592.239766999999,311243.13905100001,43684.028900999998,35855.421428000001,265960.85278199997]
["Open Interest (1)",670506,728139,529135,491277,449794,451407,496147,524289,519325,534422,552562,491875]
[]
[]
[null,"Swaps Trading (MexDer)"]
[null,"2019-01-01","2019-02-01","2019-03-01","2019-04-01","2019-05-01","2019-06-01","2019-07-01","2019-08-01","2019-09-01","2019-10-01","2019-11-01","2019-12-01"]
[]
["Number of Trades",49,49,35,45,31,97,184,40,63,41,29,23]
["Volume (1)",194600,197730,334670,491125,137216,476021,2577870,176289,612500,848100,572600,452950]
["Notional Value (2)",19460,19773,33467,49112.5,13721.6,47602.1,257787,17628.900000000001,61250,84810,57260,45295]
["Open Interest (1)",6301842,6234712,6232252,6534517,6264203,6247752,5469023,5331253,5395653,5988234,6355234,6761534]
[]
[]
[null,"Swaps Trading (MexDer)"]
[null,"2020-01-01","2020-02-01","2020-03-01","2020-04-01","2020-05-01","2020-06-01","2020-07-01","2020-08-01","2020-09-01","2020-10-01","2020-11-01","2020-12-01"]
[]
["Number of Trades",40,38,60,25,40,45,31,34,38,54,147,18]
["Volume (1)",503320,522240,1213820,695100,887575,456950,209150,276594,808588,1142300,1159738,112003]
["Notional Value (2)",50332,52224,121382,69510,88757.5,45695,20915,27659.4,80858.8,114230,115973.8,11200.3]
["Open Interest (1)",6675094,6408844,6576865,6458765,5940240,5963827,5287454,5215452,5786540,6669440,6498387,5707850]
[]
[]
[]
[null,"               Options Trading (MexDer)"]
[null,"2019-01-01","2019-02-01","2019-03-01","2019-04-01","2019-05-01","2019-06-01","2019-07-01","2019-08-01","2019-09-01","2019-10-01","2019-11-01","2019-12-01"]
[]
["Number of Trades",260,183,226,190,259,458,376,334,425,450,422,647]
["Volume (1)",28058,44736,62220,79924,166457,47213,28993,60242,48574,45387,126405,124866]
["Notional Value (2)",4235.2856000000002,444.89,840.53250000000003,848.51,1092.7045000000001,1482.9369999999999,957.89,1839.075,716.38499999999999,943.63284999999996,801.87350000000004,1298.3153500000001]
["Open Interest (1)",97612,123743,99145,162942,210733,39249,67286,89112,39740,71887,152258,17143]
[]
[]
[]
[null,"               Options Trading (MexDer)"]
[null,"2020-01-01","2020-02-01","2020-03-01","2020-04-01","2020-05-01","2020-06-01","2020-07-01","2020-08-01","2020-09-01","2020-10-01","2020-11-01","2020-12-01"]
[]
["Number of Trades",808,635,445,164,205,509,497,376,439,496,187,384]
["Volume (1)",29317,70553,29275,235,2114,3029,12491,43860,27158,9223,1598,7570]
["Notional Value (2)",1076.85655,5468.7710500000003,4703.6949999999997,74.418000000000006,520.79499999999996,740.85,641.48500000000001,439.29239999999999,2830.105,1191.345,279.70499999999998,1260.06]
["Open Interest (1)",30694,71139,26914,26970,28953,5982,18056,61446,32018,40728,42190,2668]
[]
[]
["(1) contracts"]
["(2) million pesos"]
[]
[null,"               Margin Deposits"]
[null,"2019-01-01","2019-02-01","2019-03-01","2019-04-01","2019-05-01","2019-06-01","2019-07-01","2019-08-01","2019-09-01","2019-10-01","2019-11-01","2019-12-01"]
[]
["Margin Deposits (2)",30540.9086250248,30420.116030782701,32022.948328014703,32078.187710323597,32504.132694248099,33041.644999999997,33747.016757495599,33096.300000035,32573.964322781601,31266.393296754901,31857.224911029702,34845.876433778598]
[]
[]
[]
[]
[null,"               Margin Deposits"]
[null,"2020-01-01","2020-02-01","2020-03-01","2020-04-01","2020-05-01","2020-06-01","2020-07-01","2020-08-01","2020-09-01","2020-10-01","2020-11-01","2020-12-01"]
[]
["Margin Deposits (2)",35114.758026150899,35897.152856928995,39375.702546982102,40801.9773209224,41684.853177216799,41787.728902021903,41309.407837653598,44129.413248609002,42043.086395198101,37672.646831794002,42225.691647522006,39977.794458881901]
[]
["(1) contracts"]
[]
[null,"Open Interest OTC"]
[null,"2020-01-01","2020-02-01","2020-03-01","2020-04-01","2020-05-01","2020-06-01","2020-07-01","2020-08-01","2020-09-01","2020-10-01","2020-11-01","2020-12-01"]
[]
["Open Interest (1)",5801474,5807474,5832774,5922924,5929374,5913974,6061434,6438996,6541034,7325982,7290360,7329290]
[]
["(1) contracts"]

{"sheet":"Futures Data","index":3,"n_rows":63,"n_cols":65,"rows_kept":63,"cut":false,"hidden":false,"merged":[[35,10,36,10],[35,11,36,11],[35,12,36,12],[35,15,36,15],[35,16,36,16],[35,17,36,17],[35,18,36,18],[35,19,36,19],[35,20,36,20],[35,1,36,1],[35,2,36,2],[35,3,36,3],[35,4,36,4],[35,5,36,5],[35,6,36,6],[35,7,36,7],[35,8,36,8],[35,9,36,9],[34,1,34,4],[34,5,34,8],[34,9,34,12],[34,15,34,18],[34,19,34,22],[34,23,34,26],[34,29,34,32],[34,33,34,36],[34,37,34,40],[5,43,5,46],[5,47,5,50],[5,51,5,54],[5,1,5,4],[5,5,5,8],[5,9,5,12],[5,15,5,18],[5,19,5,22],[5,23,5,26],[6,1,7,1],[6,2,7,2],[6,3,7,3],[6,4,7,4],[6,5,7,5],[6,6,7,6],[5,29,5,32],[5,33,5,36],[5,37,5,40],[6,15,7,15],[6,16,7,16],[6,17,7,17],[6,18,7,18],[6,19,7,19],[6,20,7,20],[6,7,7,7],[6,8,7,8],[6,9,7,9],[6,10,7,10],[6,11,7,11],[6,12,7,12],[6,29,7,29],[6,30,7,30],[6,31,7,31],[6,32,7,32],[6,33,7,33],[6,34,7,34],[6,21,7,21],[6,22,7,22],[6,23,7,23],[6,24,7,24],[6,25,7,25],[6,26,7,26],[6,43,7,43],[6,44,7,44],[6,45,7,45],[6,46,7,46],[6,47,7,47],[6,48,7,48],[6,35,7,35],[6,36,7,36],[6,37,7,37],[6,38,7,38],[6,39,7,39],[6,40,7,40],[35,21,36,21],[35,22,36,22],[35,23,36,23],[35,24,36,24],[35,25,36,25],[35,26,36,26],[35,29,36,29],[35,30,36,30],[35,31,36,31],[35,32,36,32],[35,33,36,33],[35,34,36,34],[35,35,36,35],[35,36,36,36],[35,37,36,37],[34,43,34,46],[35,38,36,38],[35,39,36,39],[35,40,36,40],[35,43,36,43],[35,44,36,44],[35,45,36,45],[35,46,36,46],[6,49,7,49],[6,50,7,50],[6,51,7,51],[6,52,7,52],[6,53,7,53],[6,54,7,54],[34,47,34,50],[34,51,34,54],[35,47,36,47],[35,48,36,48],[35,49,36,49],[35,50,36,50],[35,51,36,51],[35,52,36,52],[35,53,36,53],[35,54,36,54]]}
["MEXICAN STOCK EXCHANGE",null,null,null,null,null,null,null,null,null,null,null,null,null,"MEXICAN STOCK EXCHANGE",null,null,null,null,null,null,null,null,null,null,null,null,null,"MEXICAN STOCK EXCHANGE",null,null,null,null,null,null,null,null,null,null,null,null,null,"MEXICAN STOCK EXCHANGE",null,null,null,null,null,null,null,null,null,null,null,null,null,"MEXICAN STOCK EXCHANGE"]
["DECEMBER OPERATIONAL HIGHLIGHTS",null,null,null,null,null,null,null,null,null,null,null,null,null,"DECEMBER OPERATIONAL HIGHLIGHTS",null,null,null,null,null,null,null,null,null,null,null,null,null,"DECEMBER OPERATIONAL HIGHLIGHTS",null,null,null,null,null,null,null,null,null,null,null,null,null,"DECEMBER OPERATIONAL HIGHLIGHTS",null,null,null,null,null,null,null,null,null,null,null,null,null,"DECEMBER OPERATIONAL HIGHLIGHTS"]
[]
["OPERATING FIGURES FUTURES MARKET",null,null,null,null,null,null,null,null,null,null,null,null,null,"OPERATING FIGURES FUTURES MARKET",null,null,null,null,null,null,null,null,null,null,null,null,null,"OPERATING FIGURES FUTURES MARKET",null,null,null,null,null,null,null,null,null,null,null,null,null,"OPERATING FIGURES FUTURES MARKET"]
[]
[null,"DOLLAR",null,null,null,"EURO",null,null,null,"IPC",null,null,null,null,null,"TIIE 28",null,null,null,"CETE 91",null,null,null,"AMERICA MOVIL (AXL)",null,null,null,null,null,"10 YEAR CENTRALLY CLEARED SWAP",null,null,null,"2 YEAR CENTRALLY CLEARED SWAP",null,null,null,"MINI IPC",null,null,null,null,null,"30 YEAR BOND",null,null,null,"DC24",null,null,null,"NV42",null,null,null,null,null,"JN22",null,null,null,"NV47"]
[null,"Trades","Volume","Notional Value(1)","Open Interest","Trades","Volume","Notional Value(1)","Open Interest","Trades","Volume","Notional Value(1)","Open Interest",null,null,"Trades","Volume","Notional Value(1)","Open Interest","Trades","Volume","Notional Value(1)","Open Interest","Trades","Volume","Notional Value(1)","Open Interest",null,null,"Trades","Volume","Notional Value(1)","Open Interest","Trades","Volume","Notional Value(1)","Open Interest","Trades","Volume","Notional Value(1)","Open Interest",null,null,"Trades","Volume","Notional Value(1)","Open Interest","Trades","Volume","Notional Value(1)","Open Interest","Trades","Volume","Notional Value(1)","Open Interest",null,null,"Trades","Volume","Notional Value(1)","Open Interest","Trades","Volume","Notional Value(1)","Open Interest"]
[]
["2019-01-01",431,155534,30006.036128,372963,0,0,0,0,22891,53474,23379.059440000001,39995,null,"2019-01-01",0,0,0,65521,0,0,0,0,0,0,0,0,null,"2019-01-01",0,0,0,0,0,0,0,0,863,1432,125.72150000000001,779,null,"2019-01-01",0,0,0,0,61,22703,2502.4939250000002,23002,0,0,0,0,null,"2019-01-01",0,0,0,0,0,0,0,0]
["2019-02-01",448,244025,47028.307289999997,385675,1,150,33.6,150,16560,37162,16173.65552,40917,null,"2019-02-01",0,0,0,59768,0,0,0,0,0,0,0,0,null,"2019-02-01",0,0,0,0,0,0,0,0,580,991,86.355599999999995,1363,null,"2019-02-01",0,0,0,0,52,20700,2304.0650000000001,20402,0,0,0,0,null,"2019-02-01",0,0,0,0,1,500,46.637500000000003,500]
["2019-03-01",569,600152,117433.21835700001,382214,0,0,0,150,18780,118734,50161.90883,29846,null,"2019-03-01",0,0,0,54015,0,0,0,0,1,200,0.28179999999999999,200,null,"2019-03-01",0,0,0,0,0,0,0,0,520,865,73.786292000000003,96,null,"2019-03-01",0,0,0,0,41,41202,4566.4090999999999,16600,0,0,0,0,null,"2019-03-01",0,0,0,0,0,0,0,0]
["2019-04-01",516,213092,40788.954935000002,406130,0,0,0,150,19167,47231,21145.60284,35983,null,"2019-04-01",0,0,0,48262,0,0,0,0,5,600,0.88600000000000001,0,null,"2019-04-01",0,0,0,0,0,0,0,0,343,674,60.339739999999999,177,null,"2019-04-01",0,0,0,0,27,16100,1767.84,23900,0,0,0,0,null,"2019-04-01",0,0,0,0,1,500,47.35,500]
["2019-05-01",708,422897,81557.622864999998,414848,1,150,32.369999999999997,0,20109,44935,19389.529119999999,41695,null,"2019-05-01",0,0,0,42509,0,0,0,0,7,800,1.1012,0,null,"2019-05-01",0,0,0,0,0,0,0,0,597,1119,96.90598,407,null,"2019-05-01",0,0,0,0,43,31000,3427.1325000000002,24200,0,0,0,0,null,"2019-05-01",0,0,0,0,1,500,47.225000000000001,0]
["2019-06-01",656,796849,156620.88920100001,430734,0,0,0,0,20166,152892,66648.080100000006,39331,null,"2019-06-01",0,0,0,36756,0,0,0,0,0,0,0,0,null,"2019-06-01",0,0,0,0,0,0,0,0,293,453,39.263039999999997,33,null,"2019-06-01",0,0,0,0,53,26723,3008.0754000000002,16921,0,0,0,0,null,"2019-06-01",0,0,0,0,0,0,0,0]
["2019-07-01",519,115658,22273.653152999999,421548,0,0,0,0,18892,43397,18551.909230000001,41848,null,"2019-07-01",0,0,0,31200,0,0,0,0,0,0,0,0,null,"2019-07-01",0,0,0,0,0,0,0,0,584,1025,87.903679999999994,393,null,"2019-07-01",0,0,0,0,36,24133,2772.8023499999999,14127,0,0,0,0,null,"2019-07-01",0,0,0,0,0,0,0,0]
["2019-08-01",633,341573,67937.754593999998,470249,0,0,0,0,21484,58572,23538.884709999998,46481,null,"2019-08-01",0,0,0,25644,0,0,0,0,0,0,0,0,null,"2019-08-01",0,0,0,0,0,0,0,0,387,704,57.486719999999998,63,null,"2019-08-01",0,0,0,0,39,23210,2686.5185000000001,15937,0,0,0,0,null,"2019-08-01",0,0,0,0,0,0,0,0]
["2019-09-01",409,609816,119967.97461400001,433265,1,7,1.5315300000000001,7,24456,157183,68112.580679999999,36536,null,"2019-09-01",0,0,0,20088,0,0,0,0,0,0,0,0,null,"2019-09-01",0,0,0,0,0,0,0,0,218,398,34.40352,31,null,"2019-09-01",0,0,0,0,40,36450,4218.7250000000004,13650,0,0,0,0,null,"2019-09-01",0,0,0,0,2,1000,{"$f":"110125000/1000000","v":110.125},0]
["2019-10-01",415,130981,25617.158831000001,425409,2,17,3.6993550000000002,24,18016,42603,18576.014709999999,36851,null,"2019-10-01",0,0,0,14532,0,0,0,0,0,0,0,0,null,"2019-10-01",0,0,0,0,0,0,0,0,213,300,26.111899999999999,47,null,"2019-10-01",0,0,0,0,37,20110,2309.4560499999998,15250,0,0,0,0,null,"2019-10-01",0,0,0,0,0,0,0,0]
["2019-11-01",411,858391,168196.759613,669365,0,0,0,24,12518,20885,9113.7754499999992,37849,null,"2019-11-01",0,0,0,8976,0,0,0,0,0,0,0,0,null,"2019-11-01",0,0,0,0,0,0,0,0,146,260,22.70966,38,null,"2019-11-01",0,0,0,0,7,2150,245.32,15650,0,0,0,0,null,"2019-11-01",0,0,0,0,9,6000,{"$f":"645425000/1000000","v":645.42499999999995},0]
["2019-12-01",435,606155,118094.484296,533976,0,0,0,0,18907,123270,54981.551659999997,40164,null,"2019-12-01",0,0,0,3420,0,0,0,0,3,10000,15.282500000000001,0,null,"2019-12-01",0,0,0,0,0,0,0,0,238,506,44.484394000000002,85,null,"2019-12-01",0,0,0,0,16,28600,3309.9025000000001,14500,0,0,0,0,null,"2019-12-01",0,0,0,0,6,5000,545.23749999999995,0]
["2020-01-01",373,296409,56244.927540999997,605705,2,30,6.3382500000000004,0,15993,35874,16246.75268,43984,null,"2020-01-01",0,0,0,3050,0,0,0,0,2,600,0.92579999999999996,0,null,"2020-01-01",0,0,0,0,0,0,0,0,298,546,49.445099999999996,287,null,"2020-01-01",0,0,0,0,5,2800,327.10750000000002,16300,0,0,0,0,null,"2020-01-01",0,0,0,0,6,3000,340.375,0]
["2020-02-01",{"$f":"VLOOKUP(\"22020DÓLAR\",'[1]Pegar datos'!$C$1406:$L$1893,3,0)","v":426},{"$f":"VLOOKUP(\"22020DÓLAR\",'[1]Pegar datos'!$C$1406:$L$1893,4,0)","v":267765},{"$f":"VLOOKUP(\"22020DÓLAR\",'[1]Pegar datos'!$C$1406:$L$1893,5,0)/1000000","v":51022.439595999997},{"$f":"VLOOKUP(\"22020DÓLAR\",'[1]Pegar datos'!$C$1406:$L$1893,6,0)","v":660347},{"$f":"VLOOKUP(\"22020EURO\",'[1]Pegar datos'!$C$1406:$L$1893,3,0)","v":0},{"$f":"VLOOKUP(\"22020EURO\",'[1]Pegar datos'!$C$1406:$L$1893,4,0)","v":0},{"$f":"VLOOKUP(\"22020EURO\",'[1]Pegar datos'!$C$1406:$L$1893,5,0)/1000000","v":0},{"$f":"VLOOKUP(\"22020EURO\",'[1]Pegar datos'!$C$1406:$L$1893,6,0)","v":0},{"$f":"VLOOKUP(\"22020IPC\",'[1]Pegar datos'!$C$1406:$L$1893,3,0)","v":12806},{"$f":"VLOOKUP(\"22020IPC\",'[1]Pegar datos'!$C$1406:$L$1893,4,0)","v":29399},{"$f":"VLOOKUP(\"22020IPC\",'[1]Pegar datos'!$C$1406:$L$1893,5,0)/1000000","v":12936.58612},{"$f":"VLOOKUP(\"22020IPC\",'[1]Pegar datos'!$C$1406:$L$1893,6,0)","v":45097},null,"2020-02-01",{"$f":"VLOOKUP(\"22020TIIE 28\",'[1]Pegar datos'!$C$1406:$L$1893,3,0)","v":0},{"$f":"VLOOKUP(\"22020TIIE 28\",'[1]Pegar datos'!$C$1406:$L$1893,4,0)","v":0},{"$f":"VLOOKUP(\"22020TIIE 28\",'[1]Pegar datos'!$C$1406:$L$1893,5,0)/1000000","v":0},{"$f":"VLOOKUP(\"22020TIIE 28\",'[1]Pegar datos'!$C$1406:$L$1893,6,0)","v":2680},{"$f":"VLOOKUP(\"22020CETE 91\",'[1]Pegar datos'!$C$1406:$L$1893,3,0)","v":0},{"$f":"VLOOKUP(\"22020CETE 91\",'[1]Pegar datos'!$C$1406:$L$1893,4,0)","v":0},{"$f":"VLOOKUP(\"22020CETE 91\",'[1]Pegar datos'!$C$1406:$L$1893,5,0)/1000000","v":0},{"$f":"VLOOKUP(\"22020CETE 91\",'[1]Pegar datos'!$C$1406:$L$1893,6,0)","v":0},{"$f":"VLOOKUP(\"22020AMOVIL\",'[1]Pegar datos'!$C$1406:$L$1893,3,0)","v":0},{"$f":"VLOOKUP(\"22020AMOVIL\",'[1]Pegar datos'!$C$1406:$L$1893,4,0)","v":0},{"$f":"VLOOKUP(\"22020AMOVIL\",'[1]Pegar datos'!$C$1406:$L$1893,5,0)/1000000","v":0},{"$f":"VLOOKUP(\"22020AMOVIL\",'[1]Pegar datos'!$C$1406:$L$1893,6,0)","v":0},null,"2020-02-01",{"$f":"VLOOKUP(\"22020SWAP D10\",'[1]Pegar datos'!$C$1406:$L$1893,3,0)","v":0},{"$f":"VLOOKUP(\"22020SWAP D10\",'[1]Pegar datos'!$C$1406:$L$1893,4,0)","v":0},{"$f":"VLOOKUP(\"22020SWAP D10\",'[1]Pegar datos'!$C$1406:$L$1893,5,0)/1000000","v":0},{"$f":"VLOOKUP(\"22020SWAP D10\",'[1]Pegar datos'!$C$1406:$L$1893,6,0)","v":0},{"$f":"VLOOKUP(\"22020SWAP D2\",'[1]Pegar datos'!$C$1406:$L$1893,3,0)","v":0},{"$f":"VLOOKUP(\"22020SWAP D2\",'[1]Pegar datos'!$C$1406:$L$1893,4,0)","v":0},{"$f":"VLOOKUP(\"22020SWAP D2\",'[1]Pegar datos'!$C$1406:$L$1893,5,0)/1000000","v":0},{"$f":"VLOOKUP(\"22020SWAP D2\",'[1]Pegar datos'!$C$1406:$L$1893,6,0)","v":0},{"$f":"VLOOKUP(\"22020Mini IPC\",'[1]Pegar datos'!$C$1406:$L$1893,3,0)","v":233},{"$f":"VLOOKUP(\"22020Mini IPC\",'[1]Pegar datos'!$C$1406:$L$1893,4,0)","v":345},{"$f":"VLOOKUP(\"22020Mini IPC\",'[1]Pegar datos'!$C$1406:$L$1893,5,0)/1000000","v":30.0182},{"$f":"VLOOKUP(\"22020Mini IPC\",'[1]Pegar datos'!$C$1406:$L$1893,6,0)","v":315},null,"2020-02-01",{"$f":"VLOOKUP(\"22020M30\",'[1]Pegar datos'!$C$1406:$L$1893,3,0)","v":0},{"$f":"VLOOKUP(\"22020M30\",'[1]Pegar datos'!$C$1406:$L$1893,4,0)","v":0},{"$f":"VLOOKUP(\"22020M30\",'[1]Pegar datos'!$C$1406:$L$1893,5,0)/1000000","v":0},{"$f":"VLOOKUP(\"22020M30\",'[1]Pegar datos'!$C$1406:$L$1893,6,0)","v":0},{"$f":"VLOOKUP(\"22020DC24\",'[1]Pegar datos'!$C$1406:$L$1893,3,0)","v":4},{"$f":"VLOOKUP(\"22020DC24\",'[1]Pegar datos'!$C$1406:$L$1893,4,0)","v":1800},{"$f":"VLOOKUP(\"22020DC24\",'[1]Pegar datos'!$C$1406:$L$1893,5,0)/1000000","v":211.3425},{"$f":"VLOOKUP(\"22020DC24\",'[1]Pegar datos'!$C$1406:$L$1893,6,0)","v":17200},{"$f":"VLOOKUP(\"22020NV42\",'[1]Pegar datos'!$C$1406:$L$1893,3,0)","v":0},{"$f":"VLOOKUP(\"22020NV42\",'[1]Pegar datos'!$C$1406:$L$1893,4,0)","v":0},{"$f":"VLOOKUP(\"22020NV42\",'[1]Pegar datos'!$C$1406:$L$1893,5,0)/1000000","v":0},{"$f":"VLOOKUP(\"22020NV42\",'[1]Pegar datos'!$C$1406:$L$1893,6,0)","v":0},null,"2020-02-01",{"$f":"VLOOKUP(\"22020JN22\",'[1]Pegar datos'!$C$1406:$L$1893,3,0)","v":0},{"$f":"VLOOKUP(\"22020JN22\",'[1]Pegar datos'!$C$1406:$L$1893,4,0)","v":0},{"$f":"VLOOKUP(\"22020JN22\",'[1]Pegar datos'!$C$1406:$L$1893,5,0)/1000000","v":0},{"$f":"VLOOKUP(\"22020JN22\",'[1]Pegar datos'!$C$1406:$L$1893,6,0)","v":0},{"$f":"VLOOKUP(\"22020NV47\",'[1]Pegar datos'!$C$1406:$L$1893,3,0)","v":1},{"$f":"VLOOKUP(\"22020NV47\",'[1]Pegar datos'!$C$1406:$L$1893,4,0)","v":500},{"$f":"VLOOKUP(\"22020NV47\",'[1]Pegar datos'!$C$1406:$L$1893,5,0)/1000000","v":57.962499999999999},{"$f":"VLOOKUP(\"22020NV47\",'[1]Pegar datos'!$C$1406:$L$1893,6,0)","v":500}]
["2020-03-01",{"$f":"VLOOKUP(\"32020DÓLAR\",'[2]Pegar datos'!$C$1406:$L$1894,3,0)","v":906},{"$f":"VLOOKUP(\"32020DÓLAR\",'[2]Pegar datos'!$C$1406:$L$1894,4,0)","v":955577},{"$f":"VLOOKUP(\"32020DÓLAR\",'[2]Pegar datos'!$C$1406:$L$1894,5,0)/1000000","v":209037.52003700001},{"$f":"VLOOKUP(\"32020DÓLAR\",'[2]Pegar datos'!$C$1406:$L$1894,6,0)","v":483706},{"$f":"VLOOKUP(\"32020EURO\",'[2]Pegar datos'!$C$1406:$L$1894,3,0)","v":0},{"$f":"VLOOKUP(\"32020EURO\",'[2]Pegar datos'!$C$1406:$L$1894,4,0)","v":0},{"$f":"VLOOKUP(\"32020EURO\",'[2]Pegar datos'!$C$1406:$L$1894,5,0)/1000000","v":0},{"$f":"VLOOKUP(\"32020EURO\",'[2]Pegar datos'!$C$1406:$L$1894,6,0)","v":0},{"$f":"VLOOKUP(\"32020IPC\",'[2]Pegar datos'!$C$1406:$L$1894,3,0)","v":27659},{"$f":"VLOOKUP(\"32020IPC\",'[2]Pegar datos'!$C$1406:$L$1894,4,0)","v":126930},{"$f":"VLOOKUP(\"32020IPC\",'[2]Pegar datos'!$C$1406:$L$1894,5,0)/1000000","v":47507.90612},{"$f":"VLOOKUP(\"32020IPC\",'[2]Pegar datos'!$C$1406:$L$1894,6,0)","v":34526},null,"2020-03-01",{"$f":"VLOOKUP(\"32020TIIE 28\",'[2]Pegar datos'!$C$1406:$L$1894,3,0)","v":0},{"$f":"VLOOKUP(\"32020TIIE 28\",'[2]Pegar datos'!$C$1406:$L$1894,4,0)","v":0},{"$f":"VLOOKUP(\"32020TIIE 28\",'[2]Pegar datos'!$C$1406:$L$1894,5,0)/1000000","v":0},{"$f":"VLOOKUP(\"32020TIIE 28\",'[2]Pegar datos'!$C$1406:$L$1894,6,0)","v":2310},{"$f":"VLOOKUP(\"32020CETE 91\",'[2]Pegar datos'!$C$1406:$L$1894,3,0)","v":0},{"$f":"VLOOKUP(\"32020CETE 91\",'[2]Pegar datos'!$C$1406:$L$1894,4,0)","v":0},{"$f":"VLOOKUP(\"32020CETE 91\",'[2]Pegar datos'!$C$1406:$L$1894,5,0)/1000000","v":0},{"$f":"VLOOKUP(\"32020CETE 91\",'[2]Pegar datos'!$C$1406:$L$1894,6,0)","v":0},{"$f":"VLOOKUP(\"32020AMOVIL\",'[2]Pegar datos'!$C$1406:$L$1894,3,0)","v":0},{"$f":"VLOOKUP(\"32020AMOVIL\",'[2]Pegar datos'!$C$1406:$L$1894,4,0)","v":0},{"$f":"VLOOKUP(\"32020AMOVIL\",'[2]Pegar datos'!$C$1406:$L$1894,5,0)/1000000","v":0},{"$f":"VLOOKUP(\"32020AMOVIL\",'[2]Pegar datos'!$C$1406:$L$1894,6,0)","v":0},null,"2020-03-01",{"$f":"VLOOKUP(\"32020SWAP D10\",'[2]Pegar datos'!$C$1406:$L$1894,3,0)","v":0},{"$f":"VLOOKUP(\"32020SWAP D10\",'[2]Pegar datos'!$C$1406:$L$1894,4,0)","v":0},{"$f":"VLOOKUP(\"32020SWAP D10\",'[2]Pegar datos'!$C$1406:$L$1894,5,0)/1000000","v":0},{"$f":"VLOOKUP(\"32020SWAP D10\",'[2]Pegar datos'!$C$1406:$L$1894,6,0)","v":0},{"$f":"VLOOKUP(\"32020SWAP D2\",'[2]Pegar datos'!$C$1406:$L$1894,3,0)","v":0},{"$f":"VLOOKUP(\"32020SWAP D2\",'[2]Pegar datos'!$C$1406:$L$1894,4,0)","v":0},{"$f":"VLOOKUP(\"32020SWAP D2\",'[2]Pegar datos'!$C$1406:$L$1894,5,0)/1000000","v":0},{"$f":"VLOOKUP(\"32020SWAP D2\",'[2]Pegar datos'!$C$1406:$L$1894,6,0)","v":0},{"$f":"VLOOKUP(\"32020Mini IPC\",'[2]Pegar datos'!$C$1406:$L$1894,3,0)","v":455},{"$f":"VLOOKUP(\"32020Mini IPC\",'[2]Pegar datos'!$C$1406:$L$1894,4,0)","v":950},{"$f":"VLOOKUP(\"32020Mini IPC\",'[2]Pegar datos'!$C$1406:$L$1894,5,0)/1000000","v":71.263319999999993},{"$f":"VLOOKUP(\"32020Mini IPC\",'[2]Pegar datos'!$C$1406:$L$1894,6,0)","v":53},null,"2020-03-01",{"$f":"VLOOKUP(\"32020M30\",'[2]Pegar datos'!$C$1406:$L$1894,3,0)","v":0},{"$f":"VLOOKUP(\"32020M30\",'[2]Pegar datos'!$C$1406:$L$1894,4,0)","v":0},{"$f":"VLOOKUP(\"32020M30\",'[2]Pegar datos'!$C$1406:$L$1894,5,0)/1000000","v":0},{"$f":"VLOOKUP(\"32020M30\",'[2]Pegar datos'!$C$1406:$L$1894,6,0)","v":0},{"$f":"VLOOKUP(\"32020DC24\",'[2]Pegar datos'!$C$1406:$L$1894,3,0)","v":3},{"$f":"VLOOKUP(\"32020DC24\",'[2]Pegar datos'!$C$1406:$L$1894,4,0)","v":11000},{"$f":"VLOOKUP(\"32020DC24\",'[2]Pegar datos'!$C$1406:$L$1894,5,0)/1000000","v":1240.7750000000001},{"$f":"VLOOKUP(\"32020DC24\",'[2]Pegar datos'!$C$1406:$L$1894,6,0)","v":5000},{"$f":"VLOOKUP(\"32020NV42\",'[2]Pegar datos'!$C$1406:$L$1894,3,0)","v":0},{"$f":"VLOOKUP(\"32020NV42\",'[2]Pegar datos'!$C$1406:$L$1894,4,0)","v":0},{"$f":"VLOOKUP(\"32020NV42\",'[2]Pegar datos'!$C$1406:$L$1894,5,0)/1000000","v":0},{"$f":"VLOOKUP(\"32020NV42\",'[2]Pegar datos'!$C$1406:$L$1894,6,0)","v":0},null,"2020-03-01",{"$f":"VLOOKUP(\"32020JN22\",'[2]Pegar datos'!$C$1406:$L$1894,3,0)","v":0},{"$f":"VLOOKUP(\"32020JN22\",'[2]Pegar datos'!$C$1406:$L$1894,4,0)","v":0},{"$f":"VLOOKUP(\"32020JN22\",'[2]Pegar datos'!$C$1406:$L$1894,5,0)/1000000","v":0},{"$f":"VLOOKUP(\"32020JN22\",'[2]Pegar datos'!$C$1406:$L$1894,6,0)","v":0},{"$f":"VLOOKUP(\"32020NV47\",'[2]Pegar datos'!$C$1406:$L$1894,3,0)","v":0},{"$f":"VLOOKUP(\"32020NV47\",'[2]Pegar datos'!$C$1406:$L$1894,4,0)","v":0},{"$f":"VLOOKUP(\"32020NV47\",'[2]Pegar datos'!$C$1406:$L$1894,5,0)/1000000","v":0},{"$f":"VLOOKUP(\"32020NV47\",'[2]Pegar datos'!$C$1406:$L$1894,6,0)","v":0}]
["2020-04-01",681,197228,48067.164303999998,445146,0,0,0,0,13418,23399,8226.3845099999999,37111,null,"2020-04-01",0,0,0,1940,0,0,0,0,0,0,0,0,null,"2020-04-01",0,0,0,0,0,0,0,0,265,416,29.46602,80,null,"2020-04-01",0,0,0,0,0,0,0,5000,0,0,0,0,null,"2020-04-01",{"$f":"VLOOKUP(\"32020JN22\",'[2]Pegar datos'!$C$1406:$L$1894,3,0)","v":0},{"$f":"VLOOKUP(\"32020JN22\",'[2]Pegar datos'!$C$1406:$L$1894,4,0)","v":0},{"$f":"VLOOKUP(\"32020JN22\",'[2]Pegar datos'!$C$1406:$L$1894,5,0)/1000000","v":0},{"$f":"VLOOKUP(\"32020JN22\",'[2]Pegar datos'!$C$1406:$L$1894,6,0)","v":0},{"$f":"VLOOKUP(\"32020NV47\",'[2]Pegar datos'!$C$1406:$L$1894,3,0)","v":0},{"$f":"VLOOKUP(\"32020NV47\",'[2]Pegar datos'!$C$1406:$L$1894,4,0)","v":0},{"$f":"VLOOKUP(\"32020NV47\",'[2]Pegar datos'!$C$1406:$L$1894,5,0)/1000000","v":0},{"$f":"VLOOKUP(\"32020NV47\",'[2]Pegar datos'!$C$1406:$L$1894,6,0)","v":0}]
["2020-05-01",{"$f":"VLOOKUP(\"52020DÓLAR\",'[3]Pegar datos'!$C$1407:$L$1898,3,0)","v":703},{"$f":"VLOOKUP(\"52020DÓLAR\",'[3]Pegar datos'!$C$1407:$L$1898,4,0)","v":127226},{"$f":"VLOOKUP(\"52020DÓLAR\",'[3]Pegar datos'!$C$1407:$L$1898,5,0)/1000000","v":29752.30155},{"$f":"VLOOKUP(\"52020DÓLAR\",'[3]Pegar datos'!$C$1407:$L$1898,6,0)","v":413780},{"$f":"VLOOKUP(\"52020EURO\",'[3]Pegar datos'!$C$1407:$L$1898,3,0)","v":0},{"$f":"VLOOKUP(\"52020EURO\",'[3]Pegar datos'!$C$1407:$L$1898,4,0)","v":0},{"$f":"VLOOKUP(\"52020EURO\",'[3]Pegar datos'!$C$1407:$L$1898,5,0)/1000000","v":0},{"$f":"VLOOKUP(\"52020EURO\",'[3]Pegar datos'!$C$1407:$L$1898,6,0)","v":0},{"$f":"VLOOKUP(\"52020IPC\",'[3]Pegar datos'!$C$1407:$L$1898,3,0)","v":12587},{"$f":"VLOOKUP(\"52020IPC\",'[3]Pegar datos'!$C$1407:$L$1898,4,0)","v":32397},{"$f":"VLOOKUP(\"52020IPC\",'[3]Pegar datos'!$C$1407:$L$1898,5,0)/1000000","v":11800.203289999999},{"$f":"VLOOKUP(\"52020IPC\",'[3]Pegar datos'!$C$1407:$L$1898,6,0)","v":27102},null,"2020-05-01",{"$f":"VLOOKUP(\"52020TIIE 28\",'[3]Pegar datos'!$C$1407:$L$1898,3,0)","v":0},{"$f":"VLOOKUP(\"52020TIIE 28\",'[3]Pegar datos'!$C$1407:$L$1898,4,0)","v":0},{"$f":"VLOOKUP(\"52020TIIE 28\",'[3]Pegar datos'!$C$1407:$L$1898,5,0)/1000000","v":0},{"$f":"VLOOKUP(\"52020TIIE 28\",'[3]Pegar datos'!$C$1407:$L$1898,6,0)","v":1570},{"$f":"VLOOKUP(\"52020CETE 91\",'[3]Pegar datos'!$C$1407:$L$1898,3,0)","v":0},{"$f":"VLOOKUP(\"52020CETE 91\",'[3]Pegar datos'!$C$1407:$L$1898,4,0)","v":0},{"$f":"VLOOKUP(\"52020CETE 91\",'[3]Pegar datos'!$C$1407:$L$1898,5,0)/1000000","v":0},{"$f":"VLOOKUP(\"52020CETE 91\",'[3]Pegar datos'!$C$1407:$L$1898,6,0)","v":0},{"$f":"VLOOKUP(\"52020AMOVIL\",'[3]Pegar datos'!$C$1407:$L$1898,3,0)","v":0},{"$f":"VLOOKUP(\"52020AMOVIL\",'[3]Pegar datos'!$C$1407:$L$1898,4,0)","v":0},{"$f":"VLOOKUP(\"52020AMOVIL\",'[3]Pegar datos'!$C$1407:$L$1898,5,0)/1000000","v":0},{"$f":"VLOOKUP(\"52020AMOVIL\",'[3]Pegar datos'!$C$1407:$L$1898,6,0)","v":0},null,"2020-05-01",{"$f":"VLOOKUP(\"52020SWAP D10\",'[3]Pegar datos'!$C$1407:$L$1898,3,0)","v":0},{"$f":"VLOOKUP(\"52020SWAP D10\",'[3]Pegar datos'!$C$1407:$L$1898,4,0)","v":0},{"$f":"VLOOKUP(\"52020SWAP D10\",'[3]Pegar datos'!$C$1407:$L$1898,5,0)/1000000","v":0},{"$f":"VLOOKUP(\"52020SWAP D10\",'[3]Pegar datos'!$C$1407:$L$1898,6,0)","v":0},{"$f":"VLOOKUP(\"52020SWAP D2\",'[3]Pegar datos'!$C$1407:$L$1898,3,0)","v":0},{"$f":"VLOOKUP(\"52020SWAP D2\",'[3]Pegar datos'!$C$1407:$L$1898,4,0)","v":0},{"$f":"VLOOKUP(\"52020SWAP D2\",'[3]Pegar datos'!$C$1407:$L$1898,5,0)/1000000","v":0},{"$f":"VLOOKUP(\"52020SWAP D2\",'[3]Pegar datos'!$C$1407:$L$1898,6,0)","v":0},{"$f":"VLOOKUP(\"52020Mini IPC\",'[3]Pegar datos'!$C$1407:$L$1898,3,0)","v":165},{"$f":"VLOOKUP(\"52020Mini IPC\",'[3]Pegar datos'!$C$1407:$L$1898,4,0)","v":319},{"$f":"VLOOKUP(\"52020Mini IPC\",'[3]Pegar datos'!$C$1407:$L$1898,5,0)/1000000","v":23.33494},{"$f":"VLOOKUP(\"52020Mini IPC\",'[3]Pegar datos'!$C$1407:$L$1898,6,0)","v":142},null,"2020-05-01",{"$f":"VLOOKUP(\"52020M30\",'[3]Pegar datos'!$C$1407:$L$1898,3,0)","v":0},{"$f":"VLOOKUP(\"52020M30\",'[3]Pegar datos'!$C$1407:$L$1898,4,0)","v":0},{"$f":"VLOOKUP(\"52020M30\",'[3]Pegar datos'!$C$1407:$L$1898,5,0)/1000000","v":0},{"$f":"VLOOKUP(\"52020M30\",'[3]Pegar datos'!$C$1407:$L$1898,6,0)","v":0},{"$f":"VLOOKUP(\"52020DC24\",'[3]Pegar datos'!$C$1407:$L$1898,3,0)","v":2},{"$f":"VLOOKUP(\"52020DC24\",'[3]Pegar datos'!$C$1407:$L$1898,4,0)","v":800},{"$f":"VLOOKUP(\"52020DC24\",'[3]Pegar datos'!$C$1407:$L$1898,5,0)/1000000","v":95.6},{"$f":"VLOOKUP(\"52020DC24\",'[3]Pegar datos'!$C$1407:$L$1898,6,0)","v":5000},{"$f":"VLOOKUP(\"52020NV42\",'[3]Pegar datos'!$C$1407:$L$1898,3,0)","v":4},{"$f":"VLOOKUP(\"52020NV42\",'[3]Pegar datos'!$C$1407:$L$1898,4,0)","v":800},{"$f":"VLOOKUP(\"52020NV42\",'[3]Pegar datos'!$C$1407:$L$1898,5,0)/1000000","v":87.25},{"$f":"VLOOKUP(\"52020NV42\",'[3]Pegar datos'!$C$1407:$L$1898,6,0)","v":0},null,"2020-05-01",{"$f":"VLOOKUP(\"52020JN22\",'[3]Pegar datos'!$C$1407:$L$1898,3,0)","v":0},{"$f":"VLOOKUP(\"52020JN22\",'[3]Pegar datos'!$C$1407:$L$1898,4,0)","v":0},{"$f":"VLOOKUP(\"52020JN22\",'[3]Pegar datos'!$C$1407:$L$1898,5,0)/1000000","v":0},{"$f":"VLOOKUP(\"52020JN22\",'[3]Pegar datos'!$C$1407:$L$1898,6,0)","v":0},{"$f":"VLOOKUP(\"52020NV47\",'[3]Pegar datos'!$C$1407:$L$1898,3,0)","v":8},{"$f":"VLOOKUP(\"52020NV47\",'[3]Pegar datos'!$C$1407:$L$1898,4,0)","v":4000},{"$f":"VLOOKUP(\"52020NV47\",'[3]Pegar datos'!$C$1407:$L$1898,5,0)/1000000","v":445.33749999999998},{"$f":"VLOOKUP(\"52020NV47\",'[3]Pegar datos'!$C$1407:$L$1898,6,0)","v":0}]
["2020-06-01",{"$f":"VLOOKUP(\"62020DÓLAR\",'[4]Pegar datos'!$C$1409:$L$1900,3,0)","v":774},{"$f":"VLOOKUP(\"62020DÓLAR\",'[4]Pegar datos'!$C$1409:$L$1900,4,0)","v":1096996},{"$f":"VLOOKUP(\"62020DÓLAR\",'[4]Pegar datos'!$C$1409:$L$1900,5,0)/1000000","v":242018.827425},{"$f":"VLOOKUP(\"62020DÓLAR\",'[4]Pegar datos'!$C$1409:$L$1900,6,0)","v":415152},{"$f":"VLOOKUP(\"62020EURO\",'[4]Pegar datos'!$C$1409:$L$1900,3,0)","v":0},{"$f":"VLOOKUP(\"62020EURO\",'[4]Pegar datos'!$C$1409:$L$1900,4,0)","v":0},{"$f":"VLOOKUP(\"62020EURO\",'[4]Pegar datos'!$C$1409:$L$1900,5,0)/1000000","v":0},{"$f":"VLOOKUP(\"62020EURO\",'[4]Pegar datos'!$C$1409:$L$1900,6,0)","v":0},{"$f":"VLOOKUP(\"62020IPC\",'[4]Pegar datos'!$C$1409:$L$1900,3,0)","v":16576},{"$f":"VLOOKUP(\"62020IPC\",'[4]Pegar datos'!$C$1409:$L$1900,4,0)","v":88584},{"$f":"VLOOKUP(\"62020IPC\",'[4]Pegar datos'!$C$1409:$L$1900,5,0)/1000000","v":33605.348209999996},{"$f":"VLOOKUP(\"62020IPC\",'[4]Pegar datos'!$C$1409:$L$1900,6,0)","v":28730},null,"2020-06-01",{"$f":"VLOOKUP(\"62020TIIE 28\",'[4]Pegar datos'!$C$1409:$L$1900,3,0)","v":0},{"$f":"VLOOKUP(\"62020TIIE 28\",'[4]Pegar datos'!$C$1409:$L$1900,4,0)","v":0},{"$f":"VLOOKUP(\"62020TIIE 28\",'[4]Pegar datos'!$C$1409:$L$1900,5,0)/1000000","v":0},{"$f":"VLOOKUP(\"62020TIIE 28\",'[4]Pegar datos'!$C$1409:$L$1900,6,0)","v":1200},{"$f":"VLOOKUP(\"62020CETE 91\",'[4]Pegar datos'!$C$1409:$L$1900,3,0)","v":0},{"$f":"VLOOKUP(\"62020CETE 91\",'[4]Pegar datos'!$C$1409:$L$1900,4,0)","v":0},{"$f":"VLOOKUP(\"62020CETE 91\",'[4]Pegar datos'!$C$1409:$L$1900,5,0)/1000000","v":0},{"$f":"VLOOKUP(\"62020CETE 91\",'[4]Pegar datos'!$C$1409:$L$1900,6,0)","v":0},{"$f":"VLOOKUP(\"62020AMOVIL\",'[4]Pegar datos'!$C$1409:$L$1900,3,0)","v":0},{"$f":"VLOOKUP(\"62020AMOVIL\",'[4]Pegar datos'!$C$1409:$L$1900,4,0)","v":0},{"$f":"VLOOKUP(\"62020AMOVIL\",'[4]Pegar datos'!$C$1409:$L$1900,5,0)/1000000","v":0},{"$f":"VLOOKUP(\"62020AMOVIL\",'[4]Pegar datos'!$C$1409:$L$1900,6,0)","v":0},null,"2020-06-01",{"$f":"VLOOKUP(\"62020SWAP D10\",'[4]Pegar datos'!$C$1409:$L$1900,3,0)","v":0},{"$f":"VLOOKUP(\"62020SWAP D10\",'[4]Pegar datos'!$C$1409:$L$1900,4,0)","v":0},{"$f":"VLOOKUP(\"62020SWAP D10\",'[4]Pegar datos'!$C$1409:$L$1900,5,0)/1000000","v":0},{"$f":"VLOOKUP(\"62020SWAP D10\",'[4]Pegar datos'!$C$1409:$L$1900,6,0)","v":0},{"$f":"VLOOKUP(\"62020SWAP D2\",'[4]Pegar datos'!$C$1409:$L$1900,3,0)","v":0},{"$f":"VLOOKUP(\"62020SWAP D2\",'[4]Pegar datos'!$C$1409:$L$1900,4,0)","v":0},{"$f":"VLOOKUP(\"62020SWAP D2\",'[4]Pegar datos'!$C$1409:$L$1900,5,0)/1000000","v":0},{"$f":"VLOOKUP(\"62020SWAP D2\",'[4]Pegar datos'!$C$1409:$L$1900,6,0)","v":0},{"$f":"VLOOKUP(\"62020Mini IPC\",'[4]Pegar datos'!$C$1409:$L$1900,3,0)","v":274},{"$f":"VLOOKUP(\"62020Mini IPC\",'[4]Pegar datos'!$C$1409:$L$1900,4,0)","v":528},{"$f":"VLOOKUP(\"62020Mini IPC\",'[4]Pegar datos'!$C$1409:$L$1900,5,0)/1000000","v":40.142240000000001},{"$f":"VLOOKUP(\"62020Mini IPC\",'[4]Pegar datos'!$C$1409:$L$1900,6,0)","v":25},null,"2020-06-01",{"$f":"VLOOKUP(\"62020M30\",'[4]Pegar datos'!$C$1409:$L$1900,3,0)","v":0},{"$f":"VLOOKUP(\"62020M30\",'[4]Pegar datos'!$C$1409:$L$1900,4,0)","v":0},{"$f":"VLOOKUP(\"62020M30\",'[4]Pegar datos'!$C$1409:$L$1900,5,0)/1000000","v":0},{"$f":"VLOOKUP(\"62020M30\",'[4]Pegar datos'!$C$1409:$L$1900,6,0)","v":0},{"$f":"VLOOKUP(\"62020DC24\",'[4]Pegar datos'!$C$1409:$L$1900,3,0)","v":9},{"$f":"VLOOKUP(\"62020DC24\",'[4]Pegar datos'!$C$1409:$L$1900,4,0)","v":11700},{"$f":"VLOOKUP(\"62020DC24\",'[4]Pegar datos'!$C$1409:$L$1900,5,0)/1000000","v":1414.8},{"$f":"VLOOKUP(\"62020DC24\",'[4]Pegar datos'!$C$1409:$L$1900,6,0)","v":5600},{"$f":"VLOOKUP(\"62020NV42\",'[4]Pegar datos'!$C$1409:$L$1900,3,0)","v":13},{"$f":"VLOOKUP(\"62020NV42\",'[4]Pegar datos'!$C$1409:$L$1900,4,0)","v":2350},{"$f":"VLOOKUP(\"62020NV42\",'[4]Pegar datos'!$C$1409:$L$1900,5,0)/1000000","v":252.733125},{"$f":"VLOOKUP(\"62020NV42\",'[4]Pegar datos'!$C$1409:$L$1900,6,0)","v":0},null,"2020-06-01",{"$f":"VLOOKUP(\"62020JN22\",'[4]Pegar datos'!$C$1409:$L$1900,3,0)","v":0},{"$f":"VLOOKUP(\"62020JN22\",'[4]Pegar datos'!$C$1409:$L$1900,4,0)","v":0},{"$f":"VLOOKUP(\"62020JN22\",'[4]Pegar datos'!$C$1409:$L$1900,5,0)/1000000","v":0},{"$f":"VLOOKUP(\"62020JN22\",'[4]Pegar datos'!$C$1409:$L$1900,6,0)","v":0},{"$f":"VLOOKUP(\"62020NV47\",'[4]Pegar datos'!$C$1409:$L$1900,3,0)","v":0},{"$f":"VLOOKUP(\"62020NV47\",'[4]Pegar datos'!$C$1409:$L$1900,4,0)","v":0},{"$f":"VLOOKUP(\"62020NV47\",'[4]Pegar datos'!$C$1409:$L$1900,5,0)/1000000","v":0},{"$f":"VLOOKUP(\"62020NV47\",'[4]Pegar datos'!$C$1409:$L$1900,6,0)","v":0}]
["2020-07-01",{"$f":"VLOOKUP(\"72020DÓLAR\",'[5]Pegar datos'!$C$1409:$L$1903,3,0)","v":444},{"$f":"VLOOKUP(\"72020DÓLAR\",'[5]Pegar datos'!$C$1409:$L$1903,4,0)","v":139049},{"$f":"VLOOKUP(\"72020DÓLAR\",'[5]Pegar datos'!$C$1409:$L$1903,5,0)/1000000","v":31534.259227999999},{"$f":"VLOOKUP(\"72020DÓLAR\",'[5]Pegar datos'!$C$1409:$L$1903,6,0)","v":465572},{"$f":"VLOOKUP(\"72020EURO\",'[5]Pegar datos'!$C$1409:$L$1903,3,0)","v":0},{"$f":"VLOOKUP(\"72020EURO\",'[5]Pegar datos'!$C$1409:$L$1903,4,0)","v":0},{"$f":"VLOOKUP(\"72020EURO\",'[5]Pegar datos'!$C$1409:$L$1903,5,0)/1000000","v":0},{"$f":"VLOOKUP(\"72020EURO\",'[5]Pegar datos'!$C$1409:$L$1903,6,0)","v":0},{"$f":"VLOOKUP(\"72020IPC\",'[5]Pegar datos'!$C$1409:$L$1903,3,0)","v":18093},{"$f":"VLOOKUP(\"72020IPC\",'[5]Pegar datos'!$C$1409:$L$1903,4,0)","v":33033},{"$f":"VLOOKUP(\"72020IPC\",'[5]Pegar datos'!$C$1409:$L$1903,5,0)/1000000","v":12301.534610000001},{"$f":"VLOOKUP(\"72020IPC\",'[5]Pegar datos'!$C$1409:$L$1903,6,0)","v":23325},null,"2020-07-01",{"$f":"VLOOKUP(\"72020TIIE 28\",'[5]Pegar datos'!$C$1409:$L$1903,3,0)","v":0},{"$f":"VLOOKUP(\"72020TIIE 28\",'[5]Pegar datos'!$C$1409:$L$1903,4,0)","v":0},{"$f":"VLOOKUP(\"72020TIIE 28\",'[5]Pegar datos'!$C$1409:$L$1903,5,0)/1000000","v":0},{"$f":"VLOOKUP(\"72020TIIE 28\",'[5]Pegar datos'!$C$1409:$L$1903,6,0)","v":1000},{"$f":"VLOOKUP(\"72020CETE 91\",'[5]Pegar datos'!$C$1409:$L$1903,3,0)","v":0},{"$f":"VLOOKUP(\"72020CETE 91\",'[5]Pegar datos'!$C$1409:$L$1903,4,0)","v":0},{"$f":"VLOOKUP(\"72020CETE 91\",'[5]Pegar datos'!$C$1409:$L$1903,5,0)/1000000","v":0},{"$f":"VLOOKUP(\"72020CETE 91\",'[5]Pegar datos'!$C$1409:$L$1903,6,0)","v":0},{"$f":"VLOOKUP(\"72020AMOVIL\",'[5]Pegar datos'!$C$1409:$L$1903,3,0)","v":0},{"$f":"VLOOKUP(\"72020AMOVIL\",'[5]Pegar datos'!$C$1409:$L$1903,4,0)","v":0},{"$f":"VLOOKUP(\"72020AMOVIL\",'[5]Pegar datos'!$C$1409:$L$1903,5,0)/1000000","v":0},{"$f":"VLOOKUP(\"72020AMOVIL\",'[5]Pegar datos'!$C$1409:$L$1903,6,0)","v":0},null,"2020-07-01",{"$f":"VLOOKUP(\"72020SWAP D10\",'[5]Pegar datos'!$C$1409:$L$1903,3,0)","v":0},{"$f":"VLOOKUP(\"72020SWAP D10\",'[5]Pegar datos'!$C$1409:$L$1903,4,0)","v":0},{"$f":"VLOOKUP(\"72020SWAP D10\",'[5]Pegar datos'!$C$1409:$L$1903,5,0)/1000000","v":0},{"$f":"VLOOKUP(\"72020SWAP D10\",'[5]Pegar datos'!$C$1409:$L$1903,6,0)","v":0},{"$f":"VLOOKUP(\"72020SWAP D2\",'[5]Pegar datos'!$C$1409:$L$1903,3,0)","v":0},{"$f":"VLOOKUP(\"72020SWAP D2\",'[5]Pegar datos'!$C$1409:$L$1903,4,0)","v":0},{"$f":"VLOOKUP(\"72020SWAP D2\",'[5]Pegar datos'!$C$1409:$L$1903,5,0)/1000000","v":0},{"$f":"VLOOKUP(\"72020SWAP D2\",'[5]Pegar datos'!$C$1409:$L$1903,6,0)","v":0},{"$f":"VLOOKUP(\"72020Mini IPC\",'[5]Pegar datos'!$C$1409:$L$1903,3,0)","v":184},{"$f":"VLOOKUP(\"72020Mini IPC\",'[5]Pegar datos'!$C$1409:$L$1903,4,0)","v":281},{"$f":"VLOOKUP(\"72020Mini IPC\",'[5]Pegar datos'!$C$1409:$L$1903,5,0)/1000000","v":20.994018000000001},{"$f":"VLOOKUP(\"72020Mini IPC\",'[5]Pegar datos'!$C$1409:$L$1903,6,0)","v":50},null,"2020-07-01",{"$f":"VLOOKUP(\"72020M30\",'[5]Pegar datos'!$C$1409:$L$1903,3,0)","v":0},{"$f":"VLOOKUP(\"72020M30\",'[5]Pegar datos'!$C$1409:$L$1903,4,0)","v":0},{"$f":"VLOOKUP(\"72020M30\",'[5]Pegar datos'!$C$1409:$L$1903,5,0)/1000000","v":0},{"$f":"VLOOKUP(\"72020M30\",'[5]Pegar datos'!$C$1409:$L$1903,6,0)","v":0},{"$f":"VLOOKUP(\"72020DC24\",'[5]Pegar datos'!$C$1409:$L$1903,3,0)","v":1},{"$f":"VLOOKUP(\"72020DC24\",'[5]Pegar datos'!$C$1409:$L$1903,4,0)","v":500},{"$f":"VLOOKUP(\"72020DC24\",'[5]Pegar datos'!$C$1409:$L$1903,5,0)/1000000","v":61.3},{"$f":"VLOOKUP(\"72020DC24\",'[5]Pegar datos'!$C$1409:$L$1903,6,0)","v":5600},{"$f":"VLOOKUP(\"72020NV42\",'[5]Pegar datos'!$C$1409:$L$1903,3,0)","v":7},{"$f":"VLOOKUP(\"72020NV42\",'[5]Pegar datos'!$C$1409:$L$1903,4,0)","v":1201},{"$f":"VLOOKUP(\"72020NV42\",'[5]Pegar datos'!$C$1409:$L$1903,5,0)/1000000","v":135.33349999999999},{"$f":"VLOOKUP(\"72020NV42\",'[5]Pegar datos'!$C$1409:$L$1903,6,0)","v":0},null,"2020-07-01",{"$f":"VLOOKUP(\"72020JN22\",'[5]Pegar datos'!$C$1409:$L$1903,3,0)","v":0},{"$f":"VLOOKUP(\"72020JN22\",'[5]Pegar datos'!$C$1409:$L$1903,4,0)","v":0},{"$f":"VLOOKUP(\"72020JN22\",'[5]Pegar datos'!$C$1409:$L$1903,5,0)/1000000","v":0},{"$f":"VLOOKUP(\"72020JN22\",'[5]Pegar datos'!$C$1409:$L$1903,6,0)","v":0},{"$f":"VLOOKUP(\"72020NV47\",'[5]Pegar datos'!$C$1409:$L$1903,3,0)","v":2},{"$f":"VLOOKUP(\"72020NV47\",'[5]Pegar datos'!$C$1409:$L$1903,4,0)","v":380},{"$f":"VLOOKUP(\"72020NV47\",'[5]Pegar datos'!$C$1409:$L$1903,5,0)/1000000","v":45.03},{"$f":"VLOOKUP(\"72020NV47\",'[5]Pegar datos'!$C$1409:$L$1903,6,0)","v":0}]
["2020-08-01",{"$f":"VLOOKUP(\"82020DÓLAR\",'[6]Pegar datos'!$C$1409:$L$1906,3,0)","v":447},{"$f":"VLOOKUP(\"82020DÓLAR\",'[6]Pegar datos'!$C$1409:$L$1906,4,0)","v":75863},{"$f":"VLOOKUP(\"82020DÓLAR\",'[6]Pegar datos'!$C$1409:$L$1906,5,0)/1000000","v":16991.379657000001},{"$f":"VLOOKUP(\"82020DÓLAR\",'[6]Pegar datos'!$C$1409:$L$1906,6,0)","v":493242},{"$f":"VLOOKUP(\"82020EURO\",'[6]Pegar datos'!$C$1409:$L$1906,3,0)","v":0},{"$f":"VLOOKUP(\"82020EURO\",'[6]Pegar datos'!$C$1409:$L$1906,4,0)","v":0},{"$f":"VLOOKUP(\"82020EURO\",'[6]Pegar datos'!$C$1409:$L$1906,5,0)/1000000","v":0},{"$f":"VLOOKUP(\"82020EURO\",'[6]Pegar datos'!$C$1409:$L$1906,6,0)","v":0},{"$f":"VLOOKUP(\"82020IPC\",'[6]Pegar datos'!$C$1409:$L$1906,3,0)","v":11842},{"$f":"VLOOKUP(\"82020IPC\",'[6]Pegar datos'!$C$1409:$L$1906,4,0)","v":21746},{"$f":"VLOOKUP(\"82020IPC\",'[6]Pegar datos'!$C$1409:$L$1906,5,0)/1000000","v":8336.6191500000004},{"$f":"VLOOKUP(\"82020IPC\",'[6]Pegar datos'!$C$1409:$L$1906,6,0)","v":23647},null,"2020-08-01",{"$f":"VLOOKUP(\"82020TIIE 28\",'[6]Pegar datos'!$C$1409:$L$1906,3,0)","v":0},{"$f":"VLOOKUP(\"82020TIIE 28\",'[6]Pegar datos'!$C$1409:$L$1906,4,0)","v":0},{"$f":"VLOOKUP(\"82020TIIE 28\",'[6]Pegar datos'!$C$1409:$L$1906,5,0)/1000000","v":0},{"$f":"VLOOKUP(\"82020TIIE 28\",'[6]Pegar datos'!$C$1409:$L$1906,6,0)","v":800},{"$f":"VLOOKUP(\"82020CETE 91\",'[6]Pegar datos'!$C$1409:$L$1906,3,0)","v":0},{"$f":"VLOOKUP(\"82020CETE 91\",'[6]Pegar datos'!$C$1409:$L$1906,4,0)","v":0},{"$f":"VLOOKUP(\"82020CETE 91\",'[6]Pegar datos'!$C$1409:$L$1906,5,0)/1000000","v":0},{"$f":"VLOOKUP(\"82020CETE 91\",'[6]Pegar datos'!$C$1409:$L$1906,6,0)","v":0},{"$f":"VLOOKUP(\"82020AMOVIL\",'[6]Pegar datos'!$C$1409:$L$1906,3,0)","v":0},{"$f":"VLOOKUP(\"82020AMOVIL\",'[6]Pegar datos'!$C$1409:$L$1906,4,0)","v":0},{"$f":"VLOOKUP(\"82020AMOVIL\",'[6]Pegar datos'!$C$1409:$L$1906,5,0)/1000000","v":0},{"$f":"VLOOKUP(\"82020AMOVIL\",'[6]Pegar datos'!$C$1409:$L$1906,6,0)","v":0},null,"2020-08-01",{"$f":"VLOOKUP(\"82020SWAP D10\",'[6]Pegar datos'!$C$1409:$L$1906,3,0)","v":0},{"$f":"VLOOKUP(\"82020SWAP D10\",'[6]Pegar datos'!$C$1409:$L$1906,4,0)","v":0},{"$f":"VLOOKUP(\"82020SWAP D10\",'[6]Pegar datos'!$C$1409:$L$1906,5,0)/1000000","v":0},{"$f":"VLOOKUP(\"82020SWAP D10\",'[6]Pegar datos'!$C$1409:$L$1906,6,0)","v":0},{"$f":"VLOOKUP(\"82020SWAP D2\",'[6]Pegar datos'!$C$1409:$L$1906,3,0)","v":0},{"$f":"VLOOKUP(\"82020SWAP D2\",'[6]Pegar datos'!$C$1409:$L$1906,4,0)","v":0},{"$f":"VLOOKUP(\"82020SWAP D2\",'[6]Pegar datos'!$C$1409:$L$1906,5,0)/1000000","v":0},{"$f":"VLOOKUP(\"82020SWAP D2\",'[6]Pegar datos'!$C$1409:$L$1906,6,0)","v":0},{"$f":"VLOOKUP(\"82020Mini IPC\",'[6]Pegar datos'!$C$1409:$L$1906,3,0)","v":182},{"$f":"VLOOKUP(\"82020Mini IPC\",'[6]Pegar datos'!$C$1409:$L$1906,4,0)","v":208},{"$f":"VLOOKUP(\"82020Mini IPC\",'[6]Pegar datos'!$C$1409:$L$1906,5,0)/1000000","v":16.008459999999999},{"$f":"VLOOKUP(\"82020Mini IPC\",'[6]Pegar datos'!$C$1409:$L$1906,6,0)","v":50},null,"2020-08-01",{"$f":"VLOOKUP(\"82020M30\",'[6]Pegar datos'!$C$1409:$L$1906,3,0)","v":0},{"$f":"VLOOKUP(\"82020M30\",'[6]Pegar datos'!$C$1409:$L$1906,4,0)","v":0},{"$f":"VLOOKUP(\"82020M30\",'[6]Pegar datos'!$C$1409:$L$1906,5,0)/1000000","v":0},{"$f":"VLOOKUP(\"82020M30\",'[6]Pegar datos'!$C$1409:$L$1906,6,0)","v":0},{"$f":"VLOOKUP(\"82020DC24\",'[6]Pegar datos'!$C$1409:$L$1906,3,0)","v":1},{"$f":"VLOOKUP(\"82020DC24\",'[6]Pegar datos'!$C$1409:$L$1906,4,0)","v":500},{"$f":"VLOOKUP(\"82020DC24\",'[6]Pegar datos'!$C$1409:$L$1906,5,0)/1000000","v":60.8125},{"$f":"VLOOKUP(\"82020DC24\",'[6]Pegar datos'!$C$1409:$L$1906,6,0)","v":5600},{"$f":"VLOOKUP(\"82020NV42\",'[6]Pegar datos'!$C$1409:$L$1906,3,0)","v":7},{"$f":"VLOOKUP(\"82020NV42\",'[6]Pegar datos'!$C$1409:$L$1906,4,0)","v":1650},{"$f":"VLOOKUP(\"82020NV42\",'[6]Pegar datos'!$C$1409:$L$1906,5,0)/1000000","v":185.55},{"$f":"VLOOKUP(\"82020NV42\",'[6]Pegar datos'!$C$1409:$L$1906,6,0)","v":0},null,"2020-08-01",{"$f":"VLOOKUP(\"82020JN22\",'[6]Pegar datos'!$C$1409:$L$1906,3,0)","v":0},{"$f":"VLOOKUP(\"82020JN22\",'[6]Pegar datos'!$C$1409:$L$1906,4,0)","v":0},{"$f":"VLOOKUP(\"82020JN22\",'[6]Pegar datos'!$C$1409:$L$1906,5,0)/1000000","v":0},{"$f":"VLOOKUP(\"82020JN22\",'[6]Pegar datos'!$C$1409:$L$1906,6,0)","v":0},{"$f":"VLOOKUP(\"82020NV47\",'[6]Pegar datos'!$C$1409:$L$1906,3,0)","v":0},{"$f":"VLOOKUP(\"82020NV47\",'[6]Pegar datos'!$C$1409:$L$1906,4,0)","v":0},{"$f":"VLOOKUP(\"82020NV47\",'[6]Pegar datos'!$C$1409:$L$1906,5,0)/1000000","v":0},{"$f":"VLOOKUP(\"82020NV47\",'[6]Pegar datos'!$C$1409:$L$1906,6,0)","v":0}]
["2020-09-01",{"$f":"VLOOKUP(\"92020DÓLAR\",'[7]Pegar datos'!$C$1409:$L$1909,3,0)","v":973},{"$f":"VLOOKUP(\"92020DÓLAR\",'[7]Pegar datos'!$C$1409:$L$1909,4,0)","v":1301162},{"$f":"VLOOKUP(\"92020DÓLAR\",'[7]Pegar datos'!$C$1409:$L$1909,5,0)/1000000","v":279984.60843099997},{"$f":"VLOOKUP(\"92020DÓLAR\",'[7]Pegar datos'!$C$1409:$L$1909,6,0)","v":489972},{"$f":"VLOOKUP(\"92020EURO\",'[7]Pegar datos'!$C$1409:$L$1909,3,0)","v":0},{"$f":"VLOOKUP(\"92020EURO\",'[7]Pegar datos'!$C$1409:$L$1909,4,0)","v":0},{"$f":"VLOOKUP(\"92020EURO\",'[7]Pegar datos'!$C$1409:$L$1909,5,0)/1000000","v":0},{"$f":"VLOOKUP(\"92020EURO\",'[7]Pegar datos'!$C$1409:$L$1909,6,0)","v":0},{"$f":"VLOOKUP(\"92020IPC\",'[7]Pegar datos'!$C$1409:$L$1909,3,0)","v":16117},{"$f":"VLOOKUP(\"92020IPC\",'[7]Pegar datos'!$C$1409:$L$1909,4,0)","v":81489},{"$f":"VLOOKUP(\"92020IPC\",'[7]Pegar datos'!$C$1409:$L$1909,5,0)/1000000","v":29834.634699999999},{"$f":"VLOOKUP(\"92020IPC\",'[7]Pegar datos'!$C$1409:$L$1909,6,0)","v":22547},null,"2020-09-01",{"$f":"VLOOKUP(\"92020TIIE 28\",'[7]Pegar datos'!$C$1409:$L$1909,3,0)","v":0},{"$f":"VLOOKUP(\"92020TIIE 28\",'[7]Pegar datos'!$C$1409:$L$1909,4,0)","v":0},{"$f":"VLOOKUP(\"92020TIIE 28\",'[7]Pegar datos'!$C$1409:$L$1909,5,0)/1000000","v":0},{"$f":"VLOOKUP(\"92020TIIE 28\",'[7]Pegar datos'!$C$1409:$L$1909,6,0)","v":600},{"$f":"VLOOKUP(\"92020CETE 91\",'[7]Pegar datos'!$C$1409:$L$1909,3,0)","v":0},{"$f":"VLOOKUP(\"92020CETE 91\",'[7]Pegar datos'!$C$1409:$L$1909,4,0)","v":0},{"$f":"VLOOKUP(\"92020CETE 91\",'[7]Pegar datos'!$C$1409:$L$1909,5,0)/1000000","v":0},{"$f":"VLOOKUP(\"92020CETE 91\",'[7]Pegar datos'!$C$1409:$L$1909,6,0)","v":0},{"$f":"VLOOKUP(\"92020AMOVIL\",'[7]Pegar datos'!$C$1409:$L$1909,3,0)","v":0},{"$f":"VLOOKUP(\"92020AMOVIL\",'[7]Pegar datos'!$C$1409:$L$1909,4,0)","v":0},{"$f":"VLOOKUP(\"92020AMOVIL\",'[7]Pegar datos'!$C$1409:$L$1909,5,0)/1000000","v":0},{"$f":"VLOOKUP(\"92020AMOVIL\",'[7]Pegar datos'!$C$1409:$L$1909,6,0)","v":0},null,"2020-09-01",{"$f":"VLOOKUP(\"92020SWAP D10\",'[7]Pegar datos'!$C$1409:$L$1909,3,0)","v":0},{"$f":"VLOOKUP(\"92020SWAP D10\",'[7]Pegar datos'!$C$1409:$L$1909,4,0)","v":0},{"$f":"VLOOKUP(\"92020SWAP D10\",'[7]Pegar datos'!$C$1409:$L$1909,5,0)/1000000","v":0},{"$f":"VLOOKUP(\"92020SWAP D10\",'[7]Pegar datos'!$C$1409:$L$1909,6,0)","v":0},{"$f":"VLOOKUP(\"92020SWAP D2\",'[7]Pegar datos'!$C$1409:$L$1909,3,0)","v":0},{"$f":"VLOOKUP(\"92020SWAP D2\",'[7]Pegar datos'!$C$1409:$L$1909,4,0)","v":0},{"$f":"VLOOKUP(\"92020SWAP D2\",'[7]Pegar datos'!$C$1409:$L$1909,5,0)/1000000","v":0},{"$f":"VLOOKUP(\"92020SWAP D2\",'[7]Pegar datos'!$C$1409:$L$1909,6,0)","v":0},{"$f":"VLOOKUP(\"92020Mini IPC\",'[7]Pegar datos'!$C$1409:$L$1909,3,0)","v":63},{"$f":"VLOOKUP(\"92020Mini IPC\",'[7]Pegar datos'!$C$1409:$L$1909,4,0)","v":98},{"$f":"VLOOKUP(\"92020Mini IPC\",'[7]Pegar datos'!$C$1409:$L$1909,5,0)/1000000","v":7.1590199999999999},{"$f":"VLOOKUP(\"92020Mini IPC\",'[7]Pegar datos'!$C$1409:$L$1909,6,0)","v":6},null,"2020-09-01",{"$f":"VLOOKUP(\"92020M30\",'[7]Pegar datos'!$C$1409:$L$1909,3,0)","v":0},{"$f":"VLOOKUP(\"92020M30\",'[7]Pegar datos'!$C$1409:$L$1909,4,0)","v":0},{"$f":"VLOOKUP(\"92020M30\",'[7]Pegar datos'!$C$1409:$L$1909,5,0)/1000000","v":0},{"$f":"VLOOKUP(\"92020M30\",'[7]Pegar datos'!$C$1409:$L$1909,6,0)","v":0},{"$f":"VLOOKUP(\"92020DC24\",'[7]Pegar datos'!$C$1409:$L$1909,3,0)","v":9},{"$f":"VLOOKUP(\"92020DC24\",'[7]Pegar datos'!$C$1409:$L$1909,4,0)","v":10500},{"$f":"VLOOKUP(\"92020DC24\",'[7]Pegar datos'!$C$1409:$L$1909,5,0)/1000000","v":1263.4825000000001},{"$f":"VLOOKUP(\"92020DC24\",'[7]Pegar datos'!$C$1409:$L$1909,6,0)","v":5500},{"$f":"VLOOKUP(\"92020NV42\",'[7]Pegar datos'!$C$1409:$L$1909,3,0)","v":6},{"$f":"VLOOKUP(\"92020NV42\",'[7]Pegar datos'!$C$1409:$L$1909,4,0)","v":1350},{"$f":"VLOOKUP(\"92020NV42\",'[7]Pegar datos'!$C$1409:$L$1909,5,0)/1000000","v":150.255},{"$f":"VLOOKUP(\"92020NV42\",'[7]Pegar datos'!$C$1409:$L$1909,6,0)","v":0},null,"2020-09-01",{"$f":"VLOOKUP(\"92020JN22\",'[7]Pegar datos'!$C$1409:$L$1909,3,0)","v":0},{"$f":"VLOOKUP(\"92020JN22\",'[7]Pegar datos'!$C$1409:$L$1909,4,0)","v":0},{"$f":"VLOOKUP(\"92020JN22\",'[7]Pegar datos'!$C$1409:$L$1909,5,0)/1000000","v":0},{"$f":"VLOOKUP(\"92020JN22\",'[7]Pegar datos'!$C$1409:$L$1909,6,0)","v":0},{"$f":"VLOOKUP(\"92020NV47\",'[7]Pegar datos'!$C$1409:$L$1909,3,0)","v":0},{"$f":"VLOOKUP(\"92020NV47\",'[7]Pegar datos'!$C$1409:$L$1909,4,0)","v":0},{"$f":"VLOOKUP(\"92020NV47\",'[7]Pegar datos'!$C$1409:$L$1909,5,0)/1000000","v":0},{"$f":"VLOOKUP(\"92020NV47\",'[7]Pegar datos'!$C$1409:$L$1909,6,0)","v":0}]
["2020-10-01",{"$f":"VLOOKUP(\"102020DÓLAR\",'[8]Pegar datos'!$C$1409:$L$1912,3,0)","v":759},{"$f":"VLOOKUP(\"102020DÓLAR\",'[8]Pegar datos'!$C$1409:$L$1912,4,0)","v":154988},{"$f":"VLOOKUP(\"102020DÓLAR\",'[8]Pegar datos'!$C$1409:$L$1912,5,0)/1000000","v":33484.462920999998},{"$f":"VLOOKUP(\"102020DÓLAR\",'[8]Pegar datos'!$C$1409:$L$1912,6,0)","v":503172},{"$f":"VLOOKUP(\"102020EURO\",'[8]Pegar datos'!$C$1409:$L$1912,3,0)","v":0},{"$f":"VLOOKUP(\"102020EURO\",'[8]Pegar datos'!$C$1409:$L$1912,4,0)","v":0},{"$f":"VLOOKUP(\"102020EURO\",'[8]Pegar datos'!$C$1409:$L$1912,5,0)/1000000","v":0},{"$f":"VLOOKUP(\"102020EURO\",'[8]Pegar datos'!$C$1409:$L$1912,6,0)","v":0},{"$f":"VLOOKUP(\"102020IPC\",'[8]Pegar datos'!$C$1409:$L$1912,3,0)","v":14883},{"$f":"VLOOKUP(\"102020IPC\",'[8]Pegar datos'!$C$1409:$L$1912,4,0)","v":26282},{"$f":"VLOOKUP(\"102020IPC\",'[8]Pegar datos'!$C$1409:$L$1912,5,0)/1000000","v":9918.9494699999996},{"$f":"VLOOKUP(\"102020IPC\",'[8]Pegar datos'!$C$1409:$L$1912,6,0)","v":20569},null,"2020-10-01",{"$f":"VLOOKUP(\"102020TIIE 28\",'[8]Pegar datos'!$C$1409:$L$1912,3,0)","v":0},{"$f":"VLOOKUP(\"102020TIIE 28\",'[8]Pegar datos'!$C$1409:$L$1912,4,0)","v":0},{"$f":"VLOOKUP(\"102020TIIE 28\",'[8]Pegar datos'!$C$1409:$L$1912,5,0)/1000000","v":0},{"$f":"VLOOKUP(\"102020TIIE 28\",'[8]Pegar datos'!$C$1409:$L$1912,6,0)","v":400},{"$f":"VLOOKUP(\"102020CETE 91\",'[8]Pegar datos'!$C$1409:$L$1912,3,0)","v":0},{"$f":"VLOOKUP(\"102020CETE 91\",'[8]Pegar datos'!$C$1409:$L$1912,4,0)","v":0},{"$f":"VLOOKUP(\"102020CETE 91\",'[8]Pegar datos'!$C$1409:$L$1912,5,0)/1000000","v":0},{"$f":"VLOOKUP(\"102020CETE 91\",'[8]Pegar datos'!$C$1409:$L$1912,6,0)","v":0},{"$f":"VLOOKUP(\"102020AMOVIL\",'[8]Pegar datos'!$C$1409:$L$1912,3,0)","v":8},{"$f":"VLOOKUP(\"102020AMOVIL\",'[8]Pegar datos'!$C$1409:$L$1912,4,0)","v":2100},{"$f":"VLOOKUP(\"102020AMOVIL\",'[8]Pegar datos'!$C$1409:$L$1912,5,0)/1000000","v":2.7349999999999999},{"$f":"VLOOKUP(\"102020AMOVIL\",'[8]Pegar datos'!$C$1409:$L$1912,6,0)","v":2100},null,"2020-10-01",{"$f":"VLOOKUP(\"102020SWAP D10\",'[8]Pegar datos'!$C$1409:$L$1912,3,0)","v":0},{"$f":"VLOOKUP(\"102020SWAP D10\",'[8]Pegar datos'!$C$1409:$L$1912,4,0)","v":0},{"$f":"VLOOKUP(\"102020SWAP D10\",'[8]Pegar datos'!$C$1409:$L$1912,5,0)/1000000","v":0},{"$f":"VLOOKUP(\"102020SWAP D10\",'[8]Pegar datos'!$C$1409:$L$1912,6,0)","v":0},{"$f":"VLOOKUP(\"102020SWAP D2\",'[8]Pegar datos'!$C$1409:$L$1912,3,0)","v":0},{"$f":"VLOOKUP(\"102020SWAP D2\",'[8]Pegar datos'!$C$1409:$L$1912,4,0)","v":0},{"$f":"VLOOKUP(\"102020SWAP D2\",'[8]Pegar datos'!$C$1409:$L$1912,5,0)/1000000","v":0},{"$f":"VLOOKUP(\"102020SWAP D2\",'[8]Pegar datos'!$C$1409:$L$1912,6,0)","v":0},{"$f":"VLOOKUP(\"102020Mini IPC\",'[8]Pegar datos'!$C$1409:$L$1912,3,0)","v":149},{"$f":"VLOOKUP(\"102020Mini IPC\",'[8]Pegar datos'!$C$1409:$L$1912,4,0)","v":219},{"$f":"VLOOKUP(\"102020Mini IPC\",'[8]Pegar datos'!$C$1409:$L$1912,5,0)/1000000","v":16.5518},{"$f":"VLOOKUP(\"102020Mini IPC\",'[8]Pegar datos'!$C$1409:$L$1912,6,0)","v":81},null,"2020-10-01",{"$f":"VLOOKUP(\"102020M30\",'[8]Pegar datos'!$C$1409:$L$1912,3,0)","v":0},{"$f":"VLOOKUP(\"102020M30\",'[8]Pegar datos'!$C$1409:$L$1912,4,0)","v":0},{"$f":"VLOOKUP(\"102020M30\",'[8]Pegar datos'!$C$1409:$L$1912,5,0)/1000000","v":0},{"$f":"VLOOKUP(\"102020M30\",'[8]Pegar datos'!$C$1409:$L$1912,6,0)","v":0},{"$f":"VLOOKUP(\"102020DC24\",'[8]Pegar datos'!$C$1409:$L$1912,3,0)","v":2},{"$f":"VLOOKUP(\"102020DC24\",'[8]Pegar datos'!$C$1409:$L$1912,4,0)","v":1000},{"$f":"VLOOKUP(\"102020DC24\",'[8]Pegar datos'!$C$1409:$L$1912,5,0)/1000000","v":118.46250000000001},{"$f":"VLOOKUP(\"102020DC24\",'[8]Pegar datos'!$C$1409:$L$1912,6,0)","v":6500},{"$f":"VLOOKUP(\"102020NV42\",'[8]Pegar datos'!$C$1409:$L$1912,3,0)","v":6},{"$f":"VLOOKUP(\"102020NV42\",'[8]Pegar datos'!$C$1409:$L$1912,4,0)","v":1300},{"$f":"VLOOKUP(\"102020NV42\",'[8]Pegar datos'!$C$1409:$L$1912,5,0)/1000000","v":138.66874999999999},{"$f":"VLOOKUP(\"102020NV42\",'[8]Pegar datos'!$C$1409:$L$1912,6,0)","v":0},null,"2020-10-01",{"$f":"VLOOKUP(\"102020JN22\",'[8]Pegar datos'!$C$1409:$L$1912,3,0)","v":0},{"$f":"VLOOKUP(\"102020JN22\",'[8]Pegar datos'!$C$1409:$L$1912,4,0)","v":0},{"$f":"VLOOKUP(\"102020JN22\",'[8]Pegar datos'!$C$1409:$L$1912,5,0)/1000000","v":0},{"$f":"VLOOKUP(\"102020JN22\",'[8]Pegar datos'!$C$1409:$L$1912,6,0)","v":0},{"$f":"VLOOKUP(\"102020NV47\",'[8]Pegar datos'!$C$1409:$L$1912,3,0)","v":0},{"$f":"VLOOKUP(\"102020NV47\",'[8]Pegar datos'!$C$1409:$L$1912,4,0)","v":0},{"$f":"VLOOKUP(\"102020NV47\",'[8]Pegar datos'!$C$1409:$L$1912,5,0)/1000000","v":0},{"$f":"VLOOKUP(\"102020NV47\",'[8]Pegar datos'!$C$1409:$L$1912,6,0)","v":0}]
["2020-11-01",{"$f":"VLOOKUP(\"112020DÓLAR\",'[9]Pegar datos'!$C$1409:$L$1915,3,0)","v":403},{"$f":"VLOOKUP(\"112020DÓLAR\",'[9]Pegar datos'!$C$1409:$L$1915,4,0)","v":113464},{"$f":"VLOOKUP(\"112020DÓLAR\",'[9]Pegar datos'!$C$1409:$L$1915,5,0)/1000000","v":23185.041832999999},{"$f":"VLOOKUP(\"112020DÓLAR\",'[9]Pegar datos'!$C$1409:$L$1915,6,0)","v":530041},{"$f":"VLOOKUP(\"112020EURO\",'[9]Pegar datos'!$C$1409:$L$1915,3,0)","v":0},{"$f":"VLOOKUP(\"112020EURO\",'[9]Pegar datos'!$C$1409:$L$1915,4,0)","v":0},{"$f":"VLOOKUP(\"112020EURO\",'[9]Pegar datos'!$C$1409:$L$1915,5,0)/1000000","v":0},{"$f":"VLOOKUP(\"112020EURO\",'[9]Pegar datos'!$C$1409:$L$1915,6,0)","v":0},{"$f":"VLOOKUP(\"112020IPC\",'[9]Pegar datos'!$C$1409:$L$1915,3,0)","v":15621},{"$f":"VLOOKUP(\"112020IPC\",'[9]Pegar datos'!$C$1409:$L$1915,4,0)","v":30804},{"$f":"VLOOKUP(\"112020IPC\",'[9]Pegar datos'!$C$1409:$L$1915,5,0)/1000000","v":12466.04819},{"$f":"VLOOKUP(\"112020IPC\",'[9]Pegar datos'!$C$1409:$L$1915,6,0)","v":15507},null,"2020-11-01",{"$f":"VLOOKUP(\"112020TIIE 28\",'[9]Pegar datos'!$C$1409:$L$1915,3,0)","v":0},{"$f":"VLOOKUP(\"112020TIIE 28\",'[9]Pegar datos'!$C$1409:$L$1915,4,0)","v":0},{"$f":"VLOOKUP(\"112020TIIE 28\",'[9]Pegar datos'!$C$1409:$L$1915,5,0)/1000000","v":0},{"$f":"VLOOKUP(\"112020TIIE 28\",'[9]Pegar datos'!$C$1409:$L$1915,6,0)","v":200},{"$f":"VLOOKUP(\"112020CETE 91\",'[9]Pegar datos'!$C$1409:$L$1915,3,0)","v":0},{"$f":"VLOOKUP(\"112020CETE 91\",'[9]Pegar datos'!$C$1409:$L$1915,4,0)","v":0},{"$f":"VLOOKUP(\"112020CETE 91\",'[9]Pegar datos'!$C$1409:$L$1915,5,0)/1000000","v":0},{"$f":"VLOOKUP(\"112020CETE 91\",'[9]Pegar datos'!$C$1409:$L$1915,6,0)","v":0},{"$f":"VLOOKUP(\"112020AMOVIL\",'[9]Pegar datos'!$C$1409:$L$1915,3,0)","v":5},{"$f":"VLOOKUP(\"112020AMOVIL\",'[9]Pegar datos'!$C$1409:$L$1915,4,0)","v":2100},{"$f":"VLOOKUP(\"112020AMOVIL\",'[9]Pegar datos'!$C$1409:$L$1915,5,0)/1000000","v":3.0514000000000001},{"$f":"VLOOKUP(\"112020AMOVIL\",'[9]Pegar datos'!$C$1409:$L$1915,6,0)","v":0},null,"2020-11-01",{"$f":"VLOOKUP(\"112020SWAP D10\",'[9]Pegar datos'!$C$1409:$L$1915,3,0)","v":0},{"$f":"VLOOKUP(\"112020SWAP D10\",'[9]Pegar datos'!$C$1409:$L$1915,4,0)","v":0},{"$f":"VLOOKUP(\"112020SWAP D10\",'[9]Pegar datos'!$C$1409:$L$1915,5,0)/1000000","v":0},{"$f":"VLOOKUP(\"112020SWAP D10\",'[9]Pegar datos'!$C$1409:$L$1915,6,0)","v":0},{"$f":"VLOOKUP(\"112020SWAP D2\",'[9]Pegar datos'!$C$1409:$L$1915,3,0)","v":0},{"$f":"VLOOKUP(\"112020SWAP D2\",'[9]Pegar datos'!$C$1409:$L$1915,4,0)","v":0},{"$f":"VLOOKUP(\"112020SWAP D2\",'[9]Pegar datos'!$C$1409:$L$1915,5,0)/1000000","v":0},{"$f":"VLOOKUP(\"112020SWAP D2\",'[9]Pegar datos'!$C$1409:$L$1915,6,0)","v":0},{"$f":"VLOOKUP(\"112020Mini IPC\",'[9]Pegar datos'!$C$1409:$L$1915,3,0)","v":89},{"$f":"VLOOKUP(\"112020Mini IPC\",'[9]Pegar datos'!$C$1409:$L$1915,4,0)","v":191},{"$f":"VLOOKUP(\"112020Mini IPC\",'[9]Pegar datos'!$C$1409:$L$1915,5,0)/1000000","v":15.20998},{"$f":"VLOOKUP(\"112020Mini IPC\",'[9]Pegar datos'!$C$1409:$L$1915,6,0)","v":64},null,"2020-11-01",{"$f":"VLOOKUP(\"112020M30\",'[9]Pegar datos'!$C$1409:$L$1915,3,0)","v":0},{"$f":"VLOOKUP(\"112020M30\",'[9]Pegar datos'!$C$1409:$L$1915,4,0)","v":0},{"$f":"VLOOKUP(\"112020M30\",'[9]Pegar datos'!$C$1409:$L$1915,5,0)/1000000","v":0},{"$f":"VLOOKUP(\"112020M30\",'[9]Pegar datos'!$C$1409:$L$1915,6,0)","v":0},{"$f":"VLOOKUP(\"112020DC24\",'[9]Pegar datos'!$C$1409:$L$1915,3,0)","v":3},{"$f":"VLOOKUP(\"112020DC24\",'[9]Pegar datos'!$C$1409:$L$1915,4,0)","v":1500},{"$f":"VLOOKUP(\"112020DC24\",'[9]Pegar datos'!$C$1409:$L$1915,5,0)/1000000","v":178.35},{"$f":"VLOOKUP(\"112020DC24\",'[9]Pegar datos'!$C$1409:$L$1915,6,0)","v":5000},{"$f":"VLOOKUP(\"112020NV42\",'[9]Pegar datos'!$C$1409:$L$1915,3,0)","v":0},{"$f":"VLOOKUP(\"112020NV42\",'[9]Pegar datos'!$C$1409:$L$1915,4,0)","v":0},{"$f":"VLOOKUP(\"112020NV42\",'[9]Pegar datos'!$C$1409:$L$1915,5,0)/1000000","v":0},{"$f":"VLOOKUP(\"112020NV42\",'[9]Pegar datos'!$C$1409:$L$1915,6,0)","v":0},null,"2020-11-01",{"$f":"VLOOKUP(\"112020JN22\",'[9]Pegar datos'!$C$1409:$L$1915,3,0)","v":0},{"$f":"VLOOKUP(\"112020JN22\",'[9]Pegar datos'!$C$1409:$L$1915,4,0)","v":0},{"$f":"VLOOKUP(\"112020JN22\",'[9]Pegar datos'!$C$1409:$L$1915,5,0)/1000000","v":0},{"$f":"VLOOKUP(\"112020JN22\",'[9]Pegar datos'!$C$1409:$L$1915,6,0)","v":0},{"$f":"VLOOKUP(\"112020NV47\",'[9]Pegar datos'!$C$1409:$L$1915,3,0)","v":0},{"$f":"VLOOKUP(\"112020NV47\",'[9]Pegar datos'!$C$1409:$L$1915,4,0)","v":0},{"$f":"VLOOKUP(\"112020NV47\",'[9]Pegar datos'!$C$1409:$L$1915,5,0)/1000000","v":0},{"$f":"VLOOKUP(\"112020NV47\",'[9]Pegar datos'!$C$1409:$L$1915,6,0)","v":0}]
["2020-12-01",{"$f":"VLOOKUP(\"122020DÓLAR\",'[10]Pegar datos'!$C$1409:$L$1918,3,0)","v":479},{"$f":"VLOOKUP(\"122020DÓLAR\",'[10]Pegar datos'!$C$1409:$L$1918,4,0)","v":1191349},{"$f":"VLOOKUP(\"122020DÓLAR\",'[10]Pegar datos'!$C$1409:$L$1918,5,0)/1000000","v":238173.375956},{"$f":"VLOOKUP(\"122020DÓLAR\",'[10]Pegar datos'!$C$1409:$L$1918,6,0)","v":473752},{"$f":"VLOOKUP(\"122020EURO\",'[10]Pegar datos'!$C$1409:$L$1918,3,0)","v":0},{"$f":"VLOOKUP(\"122020EURO\",'[10]Pegar datos'!$C$1409:$L$1918,4,0)","v":0},{"$f":"VLOOKUP(\"122020EURO\",'[10]Pegar datos'!$C$1409:$L$1918,5,0)/1000000","v":0},{"$f":"VLOOKUP(\"122020EURO\",'[10]Pegar datos'!$C$1409:$L$1918,6,0)","v":0},{"$f":"VLOOKUP(\"122020IPC\",'[10]Pegar datos'!$C$1409:$L$1918,3,0)","v":12017},{"$f":"VLOOKUP(\"122020IPC\",'[10]Pegar datos'!$C$1409:$L$1918,4,0)","v":60854},{"$f":"VLOOKUP(\"122020IPC\",'[10]Pegar datos'!$C$1409:$L$1918,5,0)/1000000","v":26679.086930000001},{"$f":"VLOOKUP(\"122020IPC\",'[10]Pegar datos'!$C$1409:$L$1918,6,0)","v":11941},null,"2020-12-01",{"$f":"VLOOKUP(\"122020TIIE 28\",'[10]Pegar datos'!$C$1409:$L$1918,3,0)","v":0},{"$f":"VLOOKUP(\"122020TIIE 28\",'[10]Pegar datos'!$C$1409:$L$1918,4,0)","v":0},{"$f":"VLOOKUP(\"122020TIIE 28\",'[10]Pegar datos'!$C$1409:$L$1918,5,0)/1000000","v":0},{"$f":"VLOOKUP(\"122020TIIE 28\",'[10]Pegar datos'!$C$1409:$L$1918,6,0)","v":0},{"$f":"VLOOKUP(\"122020CETE 91\",'[10]Pegar datos'!$C$1409:$L$1918,3,0)","v":0},{"$f":"VLOOKUP(\"122020CETE 91\",'[10]Pegar datos'!$C$1409:$L$1918,4,0)","v":0},{"$f":"VLOOKUP(\"122020CETE 91\",'[10]Pegar datos'!$C$1409:$L$1918,5,0)/1000000","v":0},{"$f":"VLOOKUP(\"122020CETE 91\",'[10]Pegar datos'!$C$1409:$L$1918,6,0)","v":0},{"$f":"VLOOKUP(\"122020AMOVIL\",'[10]Pegar datos'!$C$1409:$L$1918,3,0)","v":0},{"$f":"VLOOKUP(\"122020AMOVIL\",'[10]Pegar datos'!$C$1409:$L$1918,4,0)","v":0},{"$f":"VLOOKUP(\"122020AMOVIL\",'[10]Pegar datos'!$C$1409:$L$1918,5,0)/1000000","v":0},{"$f":"VLOOKUP(\"122020AMOVIL\",'[10]Pegar datos'!$C$1409:$L$1918,6,0)","v":0},null,"2020-12-01",{"$f":"VLOOKUP(\"122020SWAP D10\",'[10]Pegar datos'!$C$1409:$L$1918,3,0)","v":0},{"$f":"VLOOKUP(\"122020SWAP D10\",'[10]Pegar datos'!$C$1409:$L$1918,4,0)","v":0},{"$f":"VLOOKUP(\"122020SWAP D10\",'[10]Pegar datos'!$C$1409:$L$1918,5,0)/1000000","v":0},{"$f":"VLOOKUP(\"122020SWAP D10\",'[10]Pegar datos'!$C$1409:$L$1918,6,0)","v":0},{"$f":"VLOOKUP(\"122020SWAP D2\",'[10]Pegar datos'!$C$1409:$L$1918,3,0)","v":0},{"$f":"VLOOKUP(\"122020SWAP D2\",'[10]Pegar datos'!$C$1409:$L$1918,4,0)","v":0},{"$f":"VLOOKUP(\"122020SWAP D2\",'[10]Pegar datos'!$C$1409:$L$1918,5,0)/1000000","v":0},{"$f":"VLOOKUP(\"122020SWAP D2\",'[10]Pegar datos'!$C$1409:$L$1918,6,0)","v":0},{"$f":"VLOOKUP(\"122020Mini IPC\",'[10]Pegar datos'!$C$1409:$L$1918,3,0)","v":97},{"$f":"VLOOKUP(\"122020Mini IPC\",'[10]Pegar datos'!$C$1409:$L$1918,4,0)","v":208},{"$f":"VLOOKUP(\"122020Mini IPC\",'[10]Pegar datos'!$C$1409:$L$1918,5,0)/1000000","v":18.4496},{"$f":"VLOOKUP(\"122020Mini IPC\",'[10]Pegar datos'!$C$1409:$L$1918,6,0)","v":118},null,"2020-12-01",{"$f":"VLOOKUP(\"122020M30\",'[10]Pegar datos'!$C$1409:$L$1918,3,0)","v":0},{"$f":"VLOOKUP(\"122020M30\",'[10]Pegar datos'!$C$1409:$L$1918,4,0)","v":0},{"$f":"VLOOKUP(\"122020M30\",'[10]Pegar datos'!$C$1409:$L$1918,5,0)/1000000","v":0},{"$f":"VLOOKUP(\"122020M30\",'[10]Pegar datos'!$C$1409:$L$1918,6,0)","v":0},{"$f":"VLOOKUP(\"122020DC24\",'[10]Pegar datos'!$C$1409:$L$1918,3,0)","v":16},{"$f":"VLOOKUP(\"122020DC24\",'[10]Pegar datos'!$C$1409:$L$1918,4,0)","v":9000},{"$f":"VLOOKUP(\"122020DC24\",'[10]Pegar datos'!$C$1409:$L$1918,5,0)/1000000","v":1078.3800000000001},{"$f":"VLOOKUP(\"122020DC24\",'[10]Pegar datos'!$C$1409:$L$1918,6,0)","v":4000},{"$f":"VLOOKUP(\"122020NV42\",'[10]Pegar datos'!$C$1409:$L$1918,3,0)","v":0},{"$f":"VLOOKUP(\"122020NV42\",'[10]Pegar datos'!$C$1409:$L$1918,4,0)","v":0},{"$f":"VLOOKUP(\"122020NV42\",'[10]Pegar datos'!$C$1409:$L$1918,5,0)/1000000","v":0},{"$f":"VLOOKUP(\"122020NV42\",'[10]Pegar datos'!$C$1409:$L$1918,6,0)","v":0},null,"2020-12-01",{"$f":"VLOOKUP(\"122020JN22\",'[10]Pegar datos'!$C$1409:$L$1918,3,0)","v":0},{"$f":"VLOOKUP(\"122020JN22\",'[10]Pegar datos'!$C$1409:$L$1918,4,0)","v":0},{"$f":"VLOOKUP(\"122020JN22\",'[10]Pegar datos'!$C$1409:$L$1918,5,0)/1000000","v":0},{"$f":"VLOOKUP(\"122020JN22\",'[10]Pegar datos'!$C$1409:$L$1918,6,0)","v":0},{"$f":"VLOOKUP(\"122020NV47\",'[10]Pegar datos'!$C$1409:$L$1918,3,0)","v":0},{"$f":"VLOOKUP(\"122020NV47\",'[10]Pegar datos'!$C$1409:$L$1918,4,0)","v":0},{"$f":"VLOOKUP(\"122020NV47\",'[10]Pegar datos'!$C$1409:$L$1918,5,0)/1000000","v":0},{"$f":"VLOOKUP(\"122020NV47\",'[10]Pegar datos'!$C$1409:$L$1918,6,0)","v":0}]
["(1) In Millions",null,null,null,null,null,null,null,null,null,null,null,null,null,"(1) In Millions",null,null,null,null,null,null,null,null,null,null,null,null,null,"(1) In Millions",null,null,null,null,null,null,null,null,null,null,null,null,null,"(1) In Millions",null,null,null,null,null,null,null,null,null,null,null,null,null,"."]
[]
[null,"3 YEAR BOND",null,null,null,"10 YEAR BOND",null,null,null,"20 YEAR BOND",null,null,null,null,null,"CEMEX",null,null,null,"WALMEX",null,null,null,"GMEXICO",null,null,null,null,null,"GCARSO",null,null,null,"FEMSA",null,null,null,"MR26",null,null,null,null,null,"MY31",null,null,null,"DC18",null,null,null,"JN27-21"]
[null,"Trades","Volume","Notional Value(1)","Open Interest","Trades","Volume","Notional Value(1)","Open Interest","Trades","Volume","Notional Value(1)","Open Interest",null,null,"Trades","Volume","Notional Value(1)","Open Interest","Trades","Volume","Notional Value(1)","Open Interest","Trades","Volume","Notional Value(1)","Open Interest",null,null,"Trades","Volume","Notional Value(1)","Open Interest","Trades","Volume","Notional Value(1)","Open Interest","Trades","Volume","Notional Value(1)","Open Interest",null,null,"Trades","Volume","Notional Value(1)","Open Interest","Trades","Volume","Notional Value(1)","Open Interest","Trades","Volume","Notional Value(1)","Open Interest *"]
[]
["2019-01-01",0,0,0,0,0,0,0,0,0,0,0,0,null,"2019-01-01",0,0,0,0,0,0,0,450,5,500,2.2267000000000001,1750,null,"2019-01-01",0,0,0,0,0,0,0,0,2,200,17.147500000000001,4100,null,"2019-01-01",0,0,null,0,0,0,0,0,0,0,0,0]
["2019-02-01",0,0,0,0,0,0,0,0,0,0,0,0,null,"2019-02-01",0,0,0,0,0,0,0,450,11,1300,6.2441000000000004,1050,null,"2019-02-01",0,0,0,0,0,0,0,0,2,200,17.420000000000002,4100,null,"2019-02-01",1,500,48.962499999999999,500,0,0,0,0,0,0,0,0]
["2019-03-01",0,0,0,0,0,0,0,0,0,0,0,0,null,"2019-03-01",1,500,0.45150000000000001,500,4,559,2.7979430000000001,109,10,2650,13.241,800,null,"2019-03-01",0,0,0,0,0,0,0,0,2,8000,713.6,4000,null,"2019-03-01",4,1300,127.145,0,0,0,0,0,0,0,0,0]
["2019-04-01",0,0,0,0,0,0,0,0,0,0,0,0,null,"2019-04-01",2,200,0.1928,300,0,0,0,109,3,450,2.5225499999999998,350,null,"2019-04-01",0,0,0,0,0,0,0,0,0,0,0,4000,null,"2019-04-01",1,500,48.375,500,0,0,0,0,1,500,48.6,500]
["2019-05-01",0,0,0,0,0,0,0,0,0,0,0,0,null,"2019-05-01",0,0,0,300,0,0,0,109,8,850,4.3361999999999998,1000,null,"2019-05-01",0,0,0,0,0,0,0,0,4,8000,723.1,4000,null,"2019-05-01",0,0,0,500,0,0,0,0,0,0,0,500]
["2019-06-01",0,0,0,0,0,0,0,0,0,0,0,0,null,"2019-06-01",2,600,0.47189999999999999,300,2,218,1.169897,109,6,1600,8.1677,800,null,"2019-06-01",0,0,0,0,0,0,0,0,0,0,0,4000,null,"2019-06-01",0,0,0,0,0,0,0,0,0,0,0,0]
["2019-07-01",0,0,0,0,0,0,0,0,0,0,0,0,null,"2019-07-01",0,0,0,300,1,109,0.61443300000000001,0,2,200,1.0024999999999999,800,null,"2019-07-01",0,0,0,0,0,0,0,0,1,500,45.7,4500,null,"2019-07-01",0,0,0,0,0,0,0,0,0,0,0,0]
["2019-08-01",1,1,101600,1,0,0,0,0,0,0,0,0,null,"2019-08-01",1,100,75800,200,0,0,0,0,6,1000,4.0980999999999996,800,null,"2019-08-01",0,0,0,0,0,0,0,0,1,500,47.174999999999997,5000,null,"2019-08-01",0,0,0,0,0,0,0,0,0,0,0,0]
["2019-09-01",1,1,102625,0,0,0,0,0,0,0,0,0,null,"2019-09-01",1,200,158000,0,2,200,1.1351,0,6,2000,9.3689999999999998,600,null,"2019-09-01",0,0,0,0,0,0,0,0,2,4300,403.76499999999999,0,null,"2019-09-01",2,600,63.7575,0,0,0,0,0,0,0,0,0]
["2019-10-01",0,0,0,0,0,0,0,0,0,0,0,0,null,"2019-10-01",0,0,0,0,6,680,3.7987199999999999,580,7,600,2.8342000000000001,300,null,"2019-10-01",0,0,0,0,0,0,0,0,0,0,0,0,null,"2019-10-01",0,0,0,0,0,0,0,0,0,0,0,0]
["2019-11-01",0,0,0,0,0,0,0,0,0,0,0,0,null,"2019-11-01",2,300,0.2114,300,13,1026,5.6390900000000004,1606,2,300,1.57155,0,null,"2019-11-01",0,0,0,0,0,0,0,0,2,1000,95.95,0,null,"2019-11-01",1,500,52.912500000000001,500,0,0,0,0,2,1000,103.66249999999999,0]
["2019-12-01",0,0,0,0,0,0,0,0,0,0,0,0,null,"2019-12-01",3,600,0.43519999999999998,500,4,3212,18.409094,1606,6,900,4.7428999999999997,300,null,"2019-12-01",0,0,0,0,0,0,0,0,0,0,0,0,null,"2019-12-01",0,0,0,0,0,0,0,0,0,0,0,0]
["2020-01-01",0,0,0,0,0,0,0,0,0,0,0,0,null,"2020-01-01",2,500,0.39379999999999998,0,9,1106,6.2928220000000001,500,8,650,3.5477500000000002,350,null,"2020-01-01",0,0,0,0,0,0,0,0,0,0,0,0,null,"2020-01-01",0,0,0,0,0,0,0,0,0,0,0,0]
["2020-02-01",{"$f":"VLOOKUP(\"22020M3\",'[1]Pegar datos'!$C$1406:$L$1893,3,0)","v":0},{"$f":"VLOOKUP(\"22020M3\",'[1]Pegar datos'!$C$1406:$L$1893,4,0)","v":0},{"$f":"VLOOKUP(\"22020M3\",'[1]Pegar datos'!$C$1406:$L$1893,5,0)/1000000","v":0},{"$f":"VLOOKUP(\"22020M3\",'[1]Pegar datos'!$C$1406:$L$1893,6,0)","v":0},{"$f":"VLOOKUP(\"22020M10\",'[1]Pegar datos'!$C$1406:$L$1893,3,0)","v":0},{"$f":"VLOOKUP(\"22020M10\",'[1]Pegar datos'!$C$1406:$L$1893,4,0)","v":0},{"$f":"VLOOKUP(\"22020M10\",'[1]Pegar datos'!$C$1406:$L$1893,5,0)/1000000","v":0},{"$f":"VLOOKUP(\"22020M10\",'[1]Pegar datos'!$C$1406:$L$1893,6,0)","v":0},{"$f":"VLOOKUP(\"22020M20\",'[1]Pegar datos'!$C$1406:$L$1893,3,0)","v":0},{"$f":"VLOOKUP(\"22020M20\",'[1]Pegar datos'!$C$1406:$L$1893,4,0)","v":0},{"$f":"VLOOKUP(\"22020M20\",'[1]Pegar datos'!$C$1406:$L$1893,5,0)/1000000","v":0},{"$f":"VLOOKUP(\"22020M20\",'[1]Pegar datos'!$C$1406:$L$1893,6,0)","v":0},null,"2020-02-01",{"$f":"VLOOKUP(\"22020CEMEX\",'[1]Pegar datos'!$C$1406:$L$1893,3,0)","v":0},{"$f":"VLOOKUP(\"22020CEMEX\",'[1]Pegar datos'!$C$1406:$L$1893,4,0)","v":0},{"$f":"VLOOKUP(\"22020CEMEX\",'[1]Pegar datos'!$C$1406:$L$1893,5,0)/1000000","v":0},{"$f":"VLOOKUP(\"22020CEMEX\",'[1]Pegar datos'!$C$1406:$L$1893,6,0)","v":0},{"$f":"VLOOKUP(\"22020WALMART\",'[1]Pegar datos'!$C$1406:$L$1893,3,0)","v":3},{"$f":"VLOOKUP(\"22020WALMART\",'[1]Pegar datos'!$C$1406:$L$1893,4,0)","v":300},{"$f":"VLOOKUP(\"22020WALMART\",'[1]Pegar datos'!$C$1406:$L$1893,5,0)/1000000","v":1.7466999999999999},{"$f":"VLOOKUP(\"22020WALMART\",'[1]Pegar datos'!$C$1406:$L$1893,6,0)","v":200},{"$f":"VLOOKUP(\"22020GMEXICO\",'[1]Pegar datos'!$C$1406:$L$1893,3,0)","v":6},{"$f":"VLOOKUP(\"22020GMEXICO\",'[1]Pegar datos'!$C$1406:$L$1893,4,0)","v":650},{"$f":"VLOOKUP(\"22020GMEXICO\",'[1]Pegar datos'!$C$1406:$L$1893,5,0)/1000000","v":3.1739999999999999},{"$f":"VLOOKUP(\"22020GMEXICO\",'[1]Pegar datos'!$C$1406:$L$1893,6,0)","v":700},null,"2020-02-01",{"$f":"VLOOKUP(\"22020GCARSO\",'[1]Pegar datos'!$C$1406:$L$1893,3,0)","v":0},{"$f":"VLOOKUP(\"22020GCARSO\",'[1]Pegar datos'!$C$1406:$L$1893,4,0)","v":0},{"$f":"VLOOKUP(\"22020GCARSO\",'[1]Pegar datos'!$C$1406:$L$1893,5,0)/1000000","v":0},{"$f":"VLOOKUP(\"22020GCARSO\",'[1]Pegar datos'!$C$1406:$L$1893,6,0)","v":0},{"$f":"VLOOKUP(\"22020FEMSA\",'[1]Pegar datos'!$C$1406:$L$1893,3,0)","v":0},{"$f":"VLOOKUP(\"22020FEMSA\",'[1]Pegar datos'!$C$1406:$L$1893,4,0)","v":0},{"$f":"VLOOKUP(\"22020FEMSA\",'[1]Pegar datos'!$C$1406:$L$1893,5,0)/1000000","v":0},{"$f":"VLOOKUP(\"22020FEMSA\",'[1]Pegar datos'!$C$1406:$L$1893,6,0)","v":0},{"$f":"VLOOKUP(\"22020MR26\",'[1]Pegar datos'!$C$1406:$L$1893,3,0)","v":0},{"$f":"VLOOKUP(\"22020MR26\",'[1]Pegar datos'!$C$1406:$L$1893,4,0)","v":0},{"$f":"VLOOKUP(\"22020MR26\",'[1]Pegar datos'!$C$1406:$L$1893,5,0)/1000000","v":0},{"$f":"VLOOKUP(\"22020MR26\",'[1]Pegar datos'!$C$1406:$L$1893,6,0)","v":0},null,"2020-02-01",{"$f":"VLOOKUP(\"22020MY31\",'[1]Pegar datos'!$C$1406:$L$1893,3,0)","v":0},{"$f":"VLOOKUP(\"22020MY31\",'[1]Pegar datos'!$C$1406:$L$1893,4,0)","v":0},{"$f":"VLOOKUP(\"22020MY31\",'[1]Pegar datos'!$C$1406:$L$1893,5,0)/1000000","v":0},{"$f":"VLOOKUP(\"22020MY31\",'[1]Pegar datos'!$C$1406:$L$1893,6,0)","v":0},{"$f":"VLOOKUP(\"22020MY31\",'[1]Pegar datos'!$C$1406:$L$1893,3,0)","v":0},{"$f":"VLOOKUP(\"22020MY31\",'[1]Pegar datos'!$C$1406:$L$1893,4,0)","v":0},{"$f":"VLOOKUP(\"22020MY31\",'[1]Pegar datos'!$C$1406:$L$1893,5,0)/1000000","v":0},{"$f":"VLOOKUP(\"22020MY31\",'[1]Pegar datos'!$C$1406:$L$1893,6,0)","v":0},{"$f":"VLOOKUP(\"22020JN27\",'[1]Pegar datos'!$C$1406:$L$1893,3,0)","v":0},{"$f":"VLOOKUP(\"22020JN27\",'[1]Pegar datos'!$C$1406:$L$1893,4,0)","v":0},{"$f":"VLOOKUP(\"22020JN27\",'[1]Pegar datos'!$C$1406:$L$1893,5,0)/1000000","v":0},{"$f":"VLOOKUP(\"22020JN27\",'[1]Pegar datos'!$C$1406:$L$1893,6,0)","v":0}]
["2020-03-01",{"$f":"VLOOKUP(\"32020M3\",'[2]Pegar datos'!$C$1406:$L$1894,3,0)","v":0},{"$f":"VLOOKUP(\"32020M3\",'[2]Pegar datos'!$C$1406:$L$1894,4,0)","v":0},{"$f":"VLOOKUP(\"32020M3\",'[2]Pegar datos'!$C$1406:$L$1894,5,0)/1000000","v":0},{"$f":"VLOOKUP(\"32020M3\",'[2]Pegar datos'!$C$1406:$L$1894,6,0)","v":0},{"$f":"VLOOKUP(\"32020M10\",'[2]Pegar datos'!$C$1406:$L$1894,3,0)","v":0},{"$f":"VLOOKUP(\"32020M10\",'[2]Pegar datos'!$C$1406:$L$1894,4,0)","v":0},{"$f":"VLOOKUP(\"32020M10\",'[2]Pegar datos'!$C$1406:$L$1894,5,0)/1000000","v":0},{"$f":"VLOOKUP(\"32020M10\",'[2]Pegar datos'!$C$1406:$L$1894,6,0)","v":0},{"$f":"VLOOKUP(\"32020M20\",'[2]Pegar datos'!$C$1406:$L$1894,3,0)","v":0},{"$f":"VLOOKUP(\"32020M20\",'[2]Pegar datos'!$C$1406:$L$1894,4,0)","v":0},{"$f":"VLOOKUP(\"32020M20\",'[2]Pegar datos'!$C$1406:$L$1894,5,0)/1000000","v":0},{"$f":"VLOOKUP(\"32020M20\",'[2]Pegar datos'!$C$1406:$L$1894,6,0)","v":0},null,"2020-03-01",{"$f":"VLOOKUP(\"32020CEMEX\",'[2]Pegar datos'!$C$1406:$L$1894,3,0)","v":4},{"$f":"VLOOKUP(\"32020CEMEX\",'[2]Pegar datos'!$C$1406:$L$1894,4,0)","v":1200},{"$f":"VLOOKUP(\"32020CEMEX\",'[2]Pegar datos'!$C$1406:$L$1894,5,0)/1000000","v":0.6804},{"$f":"VLOOKUP(\"32020CEMEX\",'[2]Pegar datos'!$C$1406:$L$1894,6,0)","v":1000},{"$f":"VLOOKUP(\"32020WALMART\",'[2]Pegar datos'!$C$1406:$L$1894,3,0)","v":13},{"$f":"VLOOKUP(\"32020WALMART\",'[2]Pegar datos'!$C$1406:$L$1894,4,0)","v":1800},{"$f":"VLOOKUP(\"32020WALMART\",'[2]Pegar datos'!$C$1406:$L$1894,5,0)/1000000","v":10.2658},{"$f":"VLOOKUP(\"32020WALMART\",'[2]Pegar datos'!$C$1406:$L$1894,6,0)","v":0},{"$f":"VLOOKUP(\"32020GMEXICO\",'[2]Pegar datos'!$C$1406:$L$1894,3,0)","v":19},{"$f":"VLOOKUP(\"32020GMEXICO\",'[2]Pegar datos'!$C$1406:$L$1894,4,0)","v":2200},{"$f":"VLOOKUP(\"32020GMEXICO\",'[2]Pegar datos'!$C$1406:$L$1894,5,0)/1000000","v":9.1842000000000006},{"$f":"VLOOKUP(\"32020GMEXICO\",'[2]Pegar datos'!$C$1406:$L$1894,6,0)","v":500},null,"2020-03-01",{"$f":"VLOOKUP(\"32020GCARSO\",'[2]Pegar datos'!$C$1406:$L$1894,3,0)","v":0},{"$f":"VLOOKUP(\"32020GCARSO\",'[2]Pegar datos'!$C$1406:$L$1894,4,0)","v":0},{"$f":"VLOOKUP(\"32020GCARSO\",'[2]Pegar datos'!$C$1406:$L$1894,5,0)/1000000","v":0},{"$f":"VLOOKUP(\"32020GCARSO\",'[2]Pegar datos'!$C$1406:$L$1894,6,0)","v":0},{"$f":"VLOOKUP(\"32020FEMSA\",'[2]Pegar datos'!$C$1406:$L$1894,3,0)","v":0},{"$f":"VLOOKUP(\"32020FEMSA\",'[2]Pegar datos'!$C$1406:$L$1894,4,0)","v":0},{"$f":"VLOOKUP(\"32020FEMSA\",'[2]Pegar datos'!$C$1406:$L$1894,5,0)/1000000","v":0},{"$f":"VLOOKUP(\"32020FEMSA\",'[2]Pegar datos'!$C$1406:$L$1894,6,0)","v":0},{"$f":"VLOOKUP(\"32020MR26\",'[2]Pegar datos'!$C$1406:$L$1894,3,0)","v":0},{"$f":"VLOOKUP(\"32020MR26\",'[2]Pegar datos'!$C$1406:$L$1894,4,0)","v":0},{"$f":"VLOOKUP(\"32020MR26\",'[2]Pegar datos'!$C$1406:$L$1894,5,0)/1000000","v":0},{"$f":"VLOOKUP(\"32020MR26\",'[2]Pegar datos'!$C$1406:$L$1894,6,0)","v":0},null,"2020-03-01",{"$f":"VLOOKUP(\"32020MY31\",'[2]Pegar datos'!$C$1406:$L$1894,3,0)","v":0},{"$f":"VLOOKUP(\"32020MY31\",'[2]Pegar datos'!$C$1406:$L$1894,4,0)","v":0},{"$f":"VLOOKUP(\"32020MY31\",'[2]Pegar datos'!$C$1406:$L$1894,5,0)/1000000","v":0},{"$f":"VLOOKUP(\"32020MY31\",'[2]Pegar datos'!$C$1406:$L$1894,6,0)","v":0},{"$f":"VLOOKUP(\"32020MY31\",'[2]Pegar datos'!$C$1406:$L$1894,3,0)","v":0},{"$f":"VLOOKUP(\"32020MY31\",'[2]Pegar datos'!$C$1406:$L$1894,4,0)","v":0},{"$f":"VLOOKUP(\"32020MY31\",'[2]Pegar datos'!$C$1406:$L$1894,5,0)/1000000","v":0},{"$f":"VLOOKUP(\"32020MY31\",'[2]Pegar datos'!$C$1406:$L$1894,6,0)","v":0},{"$f":"VLOOKUP(\"32020JN27\",'[2]Pegar datos'!$C$1406:$L$1894,3,0)","v":0},{"$f":"VLOOKUP(\"32020JN27\",'[2]Pegar datos'!$C$1406:$L$1894,4,0)","v":0},{"$f":"VLOOKUP(\"32020JN27\",'[2]Pegar datos'!$C$1406:$L$1894,5,0)/1000000","v":0},{"$f":"VLOOKUP(\"32020JN27\",'[2]Pegar datos'!$C$1406:$L$1894,6,0)","v":0}]
["2020-04-01",0,0,0,0,0,0,0,0,0,0,0,0,null,"2020-04-01",2,400,0.20499999999999999,600,0,0,0,0,4,600,2.7164000000000001,300,null,"2020-04-01",0,0,0,0,0,0,0,0,0,0,0,0,null,"2020-04-01",{"$f":"VLOOKUP(\"32020MY31\",'[2]Pegar datos'!$C$1406:$L$1894,3,0)","v":0},{"$f":"VLOOKUP(\"32020MY31\",'[2]Pegar datos'!$C$1406:$L$1894,4,0)","v":0},{"$f":"VLOOKUP(\"32020MY31\",'[2]Pegar datos'!$C$1406:$L$1894,5,0)/1000000","v":0},{"$f":"VLOOKUP(\"32020MY31\",'[2]Pegar datos'!$C$1406:$L$1894,6,0)","v":0},{"$f":"VLOOKUP(\"32020MY31\",'[2]Pegar datos'!$C$1406:$L$1894,3,0)","v":0},{"$f":"VLOOKUP(\"32020MY31\",'[2]Pegar datos'!$C$1406:$L$1894,4,0)","v":0},{"$f":"VLOOKUP(\"32020MY31\",'[2]Pegar datos'!$C$1406:$L$1894,5,0)/1000000","v":0},{"$f":"VLOOKUP(\"32020MY31\",'[2]Pegar datos'!$C$1406:$L$1894,6,0)","v":0},{"$f":"VLOOKUP(\"32020JN27\",'[2]Pegar datos'!$C$1406:$L$1894,3,0)","v":0},{"$f":"VLOOKUP(\"32020JN27\",'[2]Pegar datos'!$C$1406:$L$1894,4,0)","v":0},{"$f":"VLOOKUP(\"32020JN27\",'[2]Pegar datos'!$C$1406:$L$1894,5,0)/1000000","v":0},{"$f":"VLOOKUP(\"32020JN27\",'[2]Pegar datos'!$C$1406:$L$1894,6,0)","v":0}]
["2020-05-01",{"$f":"VLOOKUP(\"52020M3\",'[3]Pegar datos'!$C$1407:$L$1898,3,0)","v":0},{"$f":"VLOOKUP(\"52020M3\",'[3]Pegar datos'!$C$1407:$L$1898,4,0)","v":0},{"$f":"VLOOKUP(\"52020M3\",'[3]Pegar datos'!$C$1407:$L$1898,5,0)/1000000","v":0},{"$f":"VLOOKUP(\"52020M3\",'[3]Pegar datos'!$C$1407:$L$1898,6,0)","v":0},{"$f":"VLOOKUP(\"52020M10\",'[3]Pegar datos'!$C$1407:$L$1898,3,0)","v":0},{"$f":"VLOOKUP(\"52020M10\",'[3]Pegar datos'!$C$1407:$L$1898,4,0)","v":0},{"$f":"VLOOKUP(\"52020M10\",'[3]Pegar datos'!$C$1407:$L$1898,5,0)/1000000","v":0},{"$f":"VLOOKUP(\"52020M10\",'[3]Pegar datos'!$C$1407:$L$1898,6,0)","v":0},{"$f":"VLOOKUP(\"52020M20\",'[3]Pegar datos'!$C$1407:$L$1898,3,0)","v":0},{"$f":"VLOOKUP(\"52020M20\",'[3]Pegar datos'!$C$1407:$L$1898,4,0)","v":0},{"$f":"VLOOKUP(\"52020M20\",'[3]Pegar datos'!$C$1407:$L$1898,5,0)/1000000","v":0},{"$f":"VLOOKUP(\"52020M20\",'[3]Pegar datos'!$C$1407:$L$1898,6,0)","v":0},null,"2020-05-01",{"$f":"VLOOKUP(\"52020CEMEX\",'[3]Pegar datos'!$C$1407:$L$1898,3,0)","v":0},{"$f":"VLOOKUP(\"52020CEMEX\",'[3]Pegar datos'!$C$1407:$L$1898,4,0)","v":0},{"$f":"VLOOKUP(\"52020CEMEX\",'[3]Pegar datos'!$C$1407:$L$1898,5,0)/1000000","v":0},{"$f":"VLOOKUP(\"52020CEMEX\",'[3]Pegar datos'!$C$1407:$L$1898,6,0)","v":600},{"$f":"VLOOKUP(\"52020WALMART\",'[3]Pegar datos'!$C$1407:$L$1898,3,0)","v":0},{"$f":"VLOOKUP(\"52020WALMART\",'[3]Pegar datos'!$C$1407:$L$1898,4,0)","v":0},{"$f":"VLOOKUP(\"52020WALMART\",'[3]Pegar datos'!$C$1407:$L$1898,5,0)/1000000","v":0},{"$f":"VLOOKUP(\"52020WALMART\",'[3]Pegar datos'!$C$1407:$L$1898,6,0)","v":0},{"$f":"VLOOKUP(\"52020GMEXICO\",'[3]Pegar datos'!$C$1407:$L$1898,3,0)","v":1},{"$f":"VLOOKUP(\"52020GMEXICO\",'[3]Pegar datos'!$C$1407:$L$1898,4,0)","v":100},{"$f":"VLOOKUP(\"52020GMEXICO\",'[3]Pegar datos'!$C$1407:$L$1898,5,0)/1000000","v":0.50239999999999996},{"$f":"VLOOKUP(\"52020GMEXICO\",'[3]Pegar datos'!$C$1407:$L$1898,6,0)","v":400},null,"2020-05-01",{"$f":"VLOOKUP(\"52020GCARSO\",'[3]Pegar datos'!$C$1407:$L$1898,3,0)","v":0},{"$f":"VLOOKUP(\"52020GCARSO\",'[3]Pegar datos'!$C$1407:$L$1898,4,0)","v":0},{"$f":"VLOOKUP(\"52020GCARSO\",'[3]Pegar datos'!$C$1407:$L$1898,5,0)/1000000","v":0},{"$f":"VLOOKUP(\"52020GCARSO\",'[3]Pegar datos'!$C$1407:$L$1898,6,0)","v":0},{"$f":"VLOOKUP(\"52020FEMSA\",'[3]Pegar datos'!$C$1407:$L$1898,3,0)","v":0},{"$f":"VLOOKUP(\"52020FEMSA\",'[3]Pegar datos'!$C$1407:$L$1898,4,0)","v":0},{"$f":"VLOOKUP(\"52020FEMSA\",'[3]Pegar datos'!$C$1407:$L$1898,5,0)/1000000","v":0},{"$f":"VLOOKUP(\"52020FEMSA\",'[3]Pegar datos'!$C$1407:$L$1898,6,0)","v":0},{"$f":"VLOOKUP(\"52020MR26\",'[3]Pegar datos'!$C$1407:$L$1898,3,0)","v":0},{"$f":"VLOOKUP(\"52020MR26\",'[3]Pegar datos'!$C$1407:$L$1898,4,0)","v":0},{"$f":"VLOOKUP(\"52020MR26\",'[3]Pegar datos'!$C$1407:$L$1898,5,0)/1000000","v":0},{"$f":"VLOOKUP(\"52020MR26\",'[3]Pegar datos'!$C$1407:$L$1898,6,0)","v":0},null,"2020-05-01",{"$f":"VLOOKUP(\"52020MY31\",'[3]Pegar datos'!$C$1407:$L$1898,3,0)","v":0},{"$f":"VLOOKUP(\"52020MY31\",'[3]Pegar datos'!$C$1407:$L$1898,4,0)","v":0},{"$f":"VLOOKUP(\"52020MY31\",'[3]Pegar datos'!$C$1407:$L$1898,5,0)/1000000","v":0},{"$f":"VLOOKUP(\"52020MY31\",'[3]Pegar datos'!$C$1407:$L$1898,6,0)","v":0},{"$f":"VLOOKUP(\"52020MY31\",'[3]Pegar datos'!$C$1407:$L$1898,3,0)","v":0},{"$f":"VLOOKUP(\"52020MY31\",'[3]Pegar datos'!$C$1407:$L$1898,4,0)","v":0},{"$f":"VLOOKUP(\"52020MY31\",'[3]Pegar datos'!$C$1407:$L$1898,5,0)/1000000","v":0},{"$f":"VLOOKUP(\"52020MY31\",'[3]Pegar datos'!$C$1407:$L$1898,6,0)","v":0},{"$f":"VLOOKUP(\"52020JN27\",'[3]Pegar datos'!$C$1407:$L$1898,3,0)","v":0},{"$f":"VLOOKUP(\"52020JN27\",'[3]Pegar datos'!$C$1407:$L$1898,4,0)","v":0},{"$f":"VLOOKUP(\"52020JN27\",'[3]Pegar datos'!$C$1407:$L$1898,5,0)/1000000","v":0},{"$f":"VLOOKUP(\"52020JN27\",'[3]Pegar datos'!$C$1407:$L$1898,6,0)","v":0}]
["2020-06-01",{"$f":"VLOOKUP(\"62020M3\",'[4]Pegar datos'!$C$1409:$L$1900,3,0)","v":0},{"$f":"VLOOKUP(\"62020M3\",'[4]Pegar datos'!$C$1409:$L$1900,4,0)","v":0},{"$f":"VLOOKUP(\"62020M3\",'[4]Pegar datos'!$C$1409:$L$1900,5,0)/1000000","v":0},{"$f":"VLOOKUP(\"62020M3\",'[4]Pegar datos'!$C$1409:$L$1900,6,0)","v":0},{"$f":"VLOOKUP(\"62020M10\",'[4]Pegar datos'!$C$1409:$L$1900,3,0)","v":0},{"$f":"VLOOKUP(\"62020M10\",'[4]Pegar datos'!$C$1409:$L$1900,4,0)","v":0},{"$f":"VLOOKUP(\"62020M10\",'[4]Pegar datos'!$C$1409:$L$1900,5,0)/1000000","v":0},{"$f":"VLOOKUP(\"62020M10\",'[4]Pegar datos'!$C$1409:$L$1900,6,0)","v":0},{"$f":"VLOOKUP(\"62020M20\",'[4]Pegar datos'!$C$1409:$L$1900,3,0)","v":0},{"$f":"VLOOKUP(\"62020M20\",'[4]Pegar datos'!$C$1409:$L$1900,4,0)","v":0},{"$f":"VLOOKUP(\"62020M20\",'[4]Pegar datos'!$C$1409:$L$1900,5,0)/1000000","v":0},{"$f":"VLOOKUP(\"62020M20\",'[4]Pegar datos'!$C$1409:$L$1900,6,0)","v":0},null,"2020-06-01",{"$f":"VLOOKUP(\"62020CEMEX\",'[4]Pegar datos'!$C$1409:$L$1900,3,0)","v":3},{"$f":"VLOOKUP(\"62020CEMEX\",'[4]Pegar datos'!$C$1409:$L$1900,4,0)","v":600},{"$f":"VLOOKUP(\"62020CEMEX\",'[4]Pegar datos'!$C$1409:$L$1900,5,0)/1000000","v":0.36499999999999999},{"$f":"VLOOKUP(\"62020CEMEX\",'[4]Pegar datos'!$C$1409:$L$1900,6,0)","v":0},{"$f":"VLOOKUP(\"62020WALMART\",'[4]Pegar datos'!$C$1409:$L$1900,3,0)","v":0},{"$f":"VLOOKUP(\"62020WALMART\",'[4]Pegar datos'!$C$1409:$L$1900,4,0)","v":0},{"$f":"VLOOKUP(\"62020WALMART\",'[4]Pegar datos'!$C$1409:$L$1900,5,0)/1000000","v":0},{"$f":"VLOOKUP(\"62020WALMART\",'[4]Pegar datos'!$C$1409:$L$1900,6,0)","v":0},{"$f":"VLOOKUP(\"62020GMEXICO\",'[4]Pegar datos'!$C$1409:$L$1900,3,0)","v":0},{"$f":"VLOOKUP(\"62020GMEXICO\",'[4]Pegar datos'!$C$1409:$L$1900,4,0)","v":0},{"$f":"VLOOKUP(\"62020GMEXICO\",'[4]Pegar datos'!$C$1409:$L$1900,5,0)/1000000","v":0},{"$f":"VLOOKUP(\"62020GMEXICO\",'[4]Pegar datos'!$C$1409:$L$1900,6,0)","v":0},null,"2020-06-01",{"$f":"VLOOKUP(\"62020GCARSO\",'[4]Pegar datos'!$C$1409:$L$1900,3,0)","v":2},{"$f":"VLOOKUP(\"62020GCARSO\",'[4]Pegar datos'!$C$1409:$L$1900,4,0)","v":300},{"$f":"VLOOKUP(\"62020GCARSO\",'[4]Pegar datos'!$C$1409:$L$1900,5,0)/1000000","v":1.5740000000000001},{"$f":"VLOOKUP(\"62020GCARSO\",'[4]Pegar datos'!$C$1409:$L$1900,6,0)","v":100},{"$f":"VLOOKUP(\"62020FEMSA\",'[4]Pegar datos'!$C$1409:$L$1900,3,0)","v":0},{"$f":"VLOOKUP(\"62020FEMSA\",'[4]Pegar datos'!$C$1409:$L$1900,4,0)","v":0},{"$f":"VLOOKUP(\"62020FEMSA\",'[4]Pegar datos'!$C$1409:$L$1900,5,0)/1000000","v":0},{"$f":"VLOOKUP(\"62020FEMSA\",'[4]Pegar datos'!$C$1409:$L$1900,6,0)","v":0},{"$f":"VLOOKUP(\"62020MR26\",'[4]Pegar datos'!$C$1409:$L$1900,3,0)","v":0},{"$f":"VLOOKUP(\"62020MR26\",'[4]Pegar datos'!$C$1409:$L$1900,4,0)","v":0},{"$f":"VLOOKUP(\"62020MR26\",'[4]Pegar datos'!$C$1409:$L$1900,5,0)/1000000","v":0},{"$f":"VLOOKUP(\"62020MR26\",'[4]Pegar datos'!$C$1409:$L$1900,6,0)","v":0},null,"2020-06-01",{"$f":"VLOOKUP(\"62020MY31\",'[4]Pegar datos'!$C$1409:$L$1900,3,0)","v":0},{"$f":"VLOOKUP(\"62020MY31\",'[4]Pegar datos'!$C$1409:$L$1900,4,0)","v":0},{"$f":"VLOOKUP(\"62020MY31\",'[4]Pegar datos'!$C$1409:$L$1900,5,0)/1000000","v":0},{"$f":"VLOOKUP(\"62020MY31\",'[4]Pegar datos'!$C$1409:$L$1900,6,0)","v":0},{"$f":"VLOOKUP(\"62020MY31\",'[4]Pegar datos'!$C$1409:$L$1900,3,0)","v":0},{"$f":"VLOOKUP(\"62020MY31\",'[4]Pegar datos'!$C$1409:$L$1900,4,0)","v":0},{"$f":"VLOOKUP(\"62020MY31\",'[4]Pegar datos'!$C$1409:$L$1900,5,0)/1000000","v":0},{"$f":"VLOOKUP(\"62020MY31\",'[4]Pegar datos'!$C$1409:$L$1900,6,0)","v":0},{"$f":"VLOOKUP(\"62020JN27\",'[4]Pegar datos'!$C$1409:$L$1900,3,0)","v":0},{"$f":"VLOOKUP(\"62020JN27\",'[4]Pegar datos'!$C$1409:$L$1900,4,0)","v":0},{"$f":"VLOOKUP(\"62020JN27\",'[4]Pegar datos'!$C$1409:$L$1900,5,0)/1000000","v":0},{"$f":"VLOOKUP(\"62020JN27\",'[4]Pegar datos'!$C$1409:$L$1900,6,0)","v":0}]
["2020-07-01",{"$f":"VLOOKUP(\"72020M3\",'[5]Pegar datos'!$C$1409:$L$1903,3,0)","v":0},{"$f":"VLOOKUP(\"72020M3\",'[5]Pegar datos'!$C$1409:$L$1903,4,0)","v":0},{"$f":"VLOOKUP(\"72020M3\",'[5]Pegar datos'!$C$1409:$L$1903,5,0)/1000000","v":0},{"$f":"VLOOKUP(\"72020M3\",'[5]Pegar datos'!$C$1409:$L$1903,6,0)","v":0},{"$f":"VLOOKUP(\"72020M10\",'[5]Pegar datos'!$C$1409:$L$1903,3,0)","v":0},{"$f":"VLOOKUP(\"72020M10\",'[5]Pegar datos'!$C$1409:$L$1903,4,0)","v":0},{"$f":"VLOOKUP(\"72020M10\",'[5]Pegar datos'!$C$1409:$L$1903,5,0)/1000000","v":0},{"$f":"VLOOKUP(\"72020M10\",'[5]Pegar datos'!$C$1409:$L$1903,6,0)","v":0},{"$f":"VLOOKUP(\"72020M20\",'[5]Pegar datos'!$C$1409:$L$1903,3,0)","v":0},{"$f":"VLOOKUP(\"72020M20\",'[5]Pegar datos'!$C$1409:$L$1903,4,0)","v":0},{"$f":"VLOOKUP(\"72020M20\",'[5]Pegar datos'!$C$1409:$L$1903,5,0)/1000000","v":0},{"$f":"VLOOKUP(\"72020M20\",'[5]Pegar datos'!$C$1409:$L$1903,6,0)","v":0},null,"2020-07-01",{"$f":"VLOOKUP(\"72020CEMEX\",'[5]Pegar datos'!$C$1409:$L$1903,3,0)","v":0},{"$f":"VLOOKUP(\"72020CEMEX\",'[5]Pegar datos'!$C$1409:$L$1903,4,0)","v":0},{"$f":"VLOOKUP(\"72020CEMEX\",'[5]Pegar datos'!$C$1409:$L$1903,5,0)/1000000","v":0},{"$f":"VLOOKUP(\"72020CEMEX\",'[5]Pegar datos'!$C$1409:$L$1903,6,0)","v":0},{"$f":"VLOOKUP(\"72020WALMART\",'[5]Pegar datos'!$C$1409:$L$1903,3,0)","v":0},{"$f":"VLOOKUP(\"72020WALMART\",'[5]Pegar datos'!$C$1409:$L$1903,4,0)","v":0},{"$f":"VLOOKUP(\"72020WALMART\",'[5]Pegar datos'!$C$1409:$L$1903,5,0)/1000000","v":0},{"$f":"VLOOKUP(\"72020WALMART\",'[5]Pegar datos'!$C$1409:$L$1903,6,0)","v":0},{"$f":"VLOOKUP(\"72020GMEXICO\",'[5]Pegar datos'!$C$1409:$L$1903,3,0)","v":1},{"$f":"VLOOKUP(\"72020GMEXICO\",'[5]Pegar datos'!$C$1409:$L$1903,4,0)","v":100},{"$f":"VLOOKUP(\"72020GMEXICO\",'[5]Pegar datos'!$C$1409:$L$1903,5,0)/1000000","v":0.55989999999999995},{"$f":"VLOOKUP(\"72020GMEXICO\",'[5]Pegar datos'!$C$1409:$L$1903,6,0)","v":0},null,"2020-07-01",{"$f":"VLOOKUP(\"72020GCARSO\",'[5]Pegar datos'!$C$1409:$L$1903,3,0)","v":0},{"$f":"VLOOKUP(\"72020GCARSO\",'[5]Pegar datos'!$C$1409:$L$1903,4,0)","v":0},{"$f":"VLOOKUP(\"72020GCARSO\",'[5]Pegar datos'!$C$1409:$L$1903,5,0)/1000000","v":0},{"$f":"VLOOKUP(\"72020GCARSO\",'[5]Pegar datos'!$C$1409:$L$1903,6,0)","v":0},{"$f":"VLOOKUP(\"72020FEMSA\",'[5]Pegar datos'!$C$1409:$L$1903,3,0)","v":0},{"$f":"VLOOKUP(\"72020FEMSA\",'[5]Pegar datos'!$C$1409:$L$1903,4,0)","v":0},{"$f":"VLOOKUP(\"72020FEMSA\",'[5]Pegar datos'!$C$1409:$L$1903,5,0)/1000000","v":0},{"$f":"VLOOKUP(\"72020FEMSA\",'[5]Pegar datos'!$C$1409:$L$1903,6,0)","v":0},{"$f":"VLOOKUP(\"72020MR26\",'[5]Pegar datos'!$C$1409:$L$1903,3,0)","v":0},{"$f":"VLOOKUP(\"72020MR26\",'[5]Pegar datos'!$C$1409:$L$1903,4,0)","v":0},{"$f":"VLOOKUP(\"72020MR26\",'[5]Pegar datos'!$C$1409:$L$1903,5,0)/1000000","v":0},{"$f":"VLOOKUP(\"72020MR26\",'[5]Pegar datos'!$C$1409:$L$1903,6,0)","v":0},null,"2020-07-01",{"$f":"VLOOKUP(\"72020MY31\",'[5]Pegar datos'!$C$1409:$L$1903,3,0)","v":0},{"$f":"VLOOKUP(\"72020MY31\",'[5]Pegar datos'!$C$1409:$L$1903,4,0)","v":0},{"$f":"VLOOKUP(\"72020MY31\",'[5]Pegar datos'!$C$1409:$L$1903,5,0)/1000000","v":0},{"$f":"VLOOKUP(\"72020MY31\",'[5]Pegar datos'!$C$1409:$L$1903,6,0)","v":0},{"$f":"VLOOKUP(\"72020MY31\",'[5]Pegar datos'!$C$1409:$L$1903,3,0)","v":0},{"$f":"VLOOKUP(\"72020MY31\",'[5]Pegar datos'!$C$1409:$L$1903,4,0)","v":0},{"$f":"VLOOKUP(\"72020MY31\",'[5]Pegar datos'!$C$1409:$L$1903,5,0)/1000000","v":0},{"$f":"VLOOKUP(\"72020MY31\",'[5]Pegar datos'!$C$1409:$L$1903,6,0)","v":0},{"$f":"VLOOKUP(\"72020JN27\",'[5]Pegar datos'!$C$1409:$L$1903,3,0)","v":0},{"$f":"VLOOKUP(\"72020JN27\",'[5]Pegar datos'!$C$1409:$L$1903,4,0)","v":0},{"$f":"VLOOKUP(\"72020JN27\",'[5]Pegar datos'!$C$1409:$L$1903,5,0)/1000000","v":0},{"$f":"VLOOKUP(\"72020JN27\",'[5]Pegar datos'!$C$1409:$L$1903,6,0)","v":0}]
["2020-08-01",{"$f":"VLOOKUP(\"82020M3\",'[6]Pegar datos'!$C$1409:$L$1906,3,0)","v":0},{"$f":"VLOOKUP(\"82020M3\",'[6]Pegar datos'!$C$1409:$L$1906,4,0)","v":0},{"$f":"VLOOKUP(\"82020M3\",'[6]Pegar datos'!$C$1409:$L$1906,5,0)/1000000","v":0},{"$f":"VLOOKUP(\"82020M3\",'[6]Pegar datos'!$C$1409:$L$1906,6,0)","v":0},{"$f":"VLOOKUP(\"82020M10\",'[6]Pegar datos'!$C$1409:$L$1906,3,0)","v":0},{"$f":"VLOOKUP(\"82020M10\",'[6]Pegar datos'!$C$1409:$L$1906,4,0)","v":0},{"$f":"VLOOKUP(\"82020M10\",'[6]Pegar datos'!$C$1409:$L$1906,5,0)/1000000","v":0},{"$f":"VLOOKUP(\"82020M10\",'[6]Pegar datos'!$C$1409:$L$1906,6,0)","v":0},{"$f":"VLOOKUP(\"82020M20\",'[6]Pegar datos'!$C$1409:$L$1906,3,0)","v":0},{"$f":"VLOOKUP(\"82020M20\",'[6]Pegar datos'!$C$1409:$L$1906,4,0)","v":0},{"$f":"VLOOKUP(\"82020M20\",'[6]Pegar datos'!$C$1409:$L$1906,5,0)/1000000","v":0},{"$f":"VLOOKUP(\"82020M20\",'[6]Pegar datos'!$C$1409:$L$1906,6,0)","v":0},null,"2020-08-01",{"$f":"VLOOKUP(\"82020CEMEX\",'[6]Pegar datos'!$C$1409:$L$1906,3,0)","v":0},{"$f":"VLOOKUP(\"82020CEMEX\",'[6]Pegar datos'!$C$1409:$L$1906,4,0)","v":0},{"$f":"VLOOKUP(\"82020CEMEX\",'[6]Pegar datos'!$C$1409:$L$1906,5,0)/1000000","v":0},{"$f":"VLOOKUP(\"82020CEMEX\",'[6]Pegar datos'!$C$1409:$L$1906,6,0)","v":0},{"$f":"VLOOKUP(\"82020WALMART\",'[6]Pegar datos'!$C$1409:$L$1906,3,0)","v":1},{"$f":"VLOOKUP(\"82020WALMART\",'[6]Pegar datos'!$C$1409:$L$1906,4,0)","v":250},{"$f":"VLOOKUP(\"82020WALMART\",'[6]Pegar datos'!$C$1409:$L$1906,5,0)/1000000","v":1.2969999999999999},{"$f":"VLOOKUP(\"82020WALMART\",'[6]Pegar datos'!$C$1409:$L$1906,6,0)","v":250},{"$f":"VLOOKUP(\"82020GMEXICO\",'[6]Pegar datos'!$C$1409:$L$1906,3,0)","v":1},{"$f":"VLOOKUP(\"82020GMEXICO\",'[6]Pegar datos'!$C$1409:$L$1906,4,0)","v":100},{"$f":"VLOOKUP(\"82020GMEXICO\",'[6]Pegar datos'!$C$1409:$L$1906,5,0)/1000000","v":0.57299999999999995},{"$f":"VLOOKUP(\"82020GMEXICO\",'[6]Pegar datos'!$C$1409:$L$1906,6,0)","v":100},null,"2020-08-01",{"$f":"VLOOKUP(\"82020GCARSO\",'[6]Pegar datos'!$C$1409:$L$1906,3,0)","v":0},{"$f":"VLOOKUP(\"82020GCARSO\",'[6]Pegar datos'!$C$1409:$L$1906,4,0)","v":0},{"$f":"VLOOKUP(\"82020GCARSO\",'[6]Pegar datos'!$C$1409:$L$1906,5,0)/1000000","v":0},{"$f":"VLOOKUP(\"82020GCARSO\",'[6]Pegar datos'!$C$1409:$L$1906,6,0)","v":0},{"$f":"VLOOKUP(\"82020FEMSA\",'[6]Pegar datos'!$C$1409:$L$1906,3,0)","v":0},{"$f":"VLOOKUP(\"82020FEMSA\",'[6]Pegar datos'!$C$1409:$L$1906,4,0)","v":0},{"$f":"VLOOKUP(\"82020FEMSA\",'[6]Pegar datos'!$C$1409:$L$1906,5,0)/1000000","v":0},{"$f":"VLOOKUP(\"82020FEMSA\",'[6]Pegar datos'!$C$1409:$L$1906,6,0)","v":0},{"$f":"VLOOKUP(\"82020MR26\",'[6]Pegar datos'!$C$1409:$L$1906,3,0)","v":0},{"$f":"VLOOKUP(\"82020MR26\",'[6]Pegar datos'!$C$1409:$L$1906,4,0)","v":0},{"$f":"VLOOKUP(\"82020MR26\",'[6]Pegar datos'!$C$1409:$L$1906,5,0)/1000000","v":0},{"$f":"VLOOKUP(\"82020MR26\",'[6]Pegar datos'!$C$1409:$L$1906,6,0)","v":0},null,"2020-08-01",{"$f":"VLOOKUP(\"82020MY31\",'[6]Pegar datos'!$C$1409:$L$1906,3,0)","v":0},{"$f":"VLOOKUP(\"82020MY31\",'[6]Pegar datos'!$C$1409:$L$1906,4,0)","v":0},{"$f":"VLOOKUP(\"82020MY31\",'[6]Pegar datos'!$C$1409:$L$1906,5,0)/1000000","v":0},{"$f":"VLOOKUP(\"82020MY31\",'[6]Pegar datos'!$C$1409:$L$1906,6,0)","v":0},{"$f":"VLOOKUP(\"82020MY31\",'[6]Pegar datos'!$C$1409:$L$1906,3,0)","v":0},{"$f":"VLOOKUP(\"82020MY31\",'[6]Pegar datos'!$C$1409:$L$1906,4,0)","v":0},{"$f":"VLOOKUP(\"82020MY31\",'[6]Pegar datos'!$C$1409:$L$1906,5,0)/1000000","v":0},{"$f":"VLOOKUP(\"82020MY31\",'[6]Pegar datos'!$C$1409:$L$1906,6,0)","v":0},{"$f":"VLOOKUP(\"82020JN27\",'[6]Pegar datos'!$C$1409:$L$1906,3,0)","v":0},{"$f":"VLOOKUP(\"82020JN27\",'[6]Pegar datos'!$C$1409:$L$1906,4,0)","v":0},{"$f":"VLOOKUP(\"82020JN27\",'[6]Pegar datos'!$C$1409:$L$1906,5,0)/1000000","v":0},{"$f":"VLOOKUP(\"82020JN27\",'[6]Pegar datos'!$C$1409:$L$1906,6,0)","v":0}]
["2020-09-01",{"$f":"VLOOKUP(\"92020M3\",'[7]Pegar datos'!$C$1409:$L$1909,3,0)","v":0},{"$f":"VLOOKUP(\"92020M3\",'[7]Pegar datos'!$C$1409:$L$1909,4,0)","v":0},{"$f":"VLOOKUP(\"92020M3\",'[7]Pegar datos'!$C$1409:$L$1909,5,0)/1000000","v":0},{"$f":"VLOOKUP(\"92020M3\",'[7]Pegar datos'!$C$1409:$L$1909,6,0)","v":0},{"$f":"VLOOKUP(\"92020M10\",'[7]Pegar datos'!$C$1409:$L$1909,3,0)","v":0},{"$f":"VLOOKUP(\"92020M10\",'[7]Pegar datos'!$C$1409:$L$1909,4,0)","v":0},{"$f":"VLOOKUP(\"92020M10\",'[7]Pegar datos'!$C$1409:$L$1909,5,0)/1000000","v":0},{"$f":"VLOOKUP(\"92020M10\",'[7]Pegar datos'!$C$1409:$L$1909,6,0)","v":0},{"$f":"VLOOKUP(\"92020M20\",'[7]Pegar datos'!$C$1409:$L$1909,3,0)","v":0},{"$f":"VLOOKUP(\"92020M20\",'[7]Pegar datos'!$C$1409:$L$1909,4,0)","v":0},{"$f":"VLOOKUP(\"92020M20\",'[7]Pegar datos'!$C$1409:$L$1909,5,0)/1000000","v":0},{"$f":"VLOOKUP(\"92020M20\",'[7]Pegar datos'!$C$1409:$L$1909,6,0)","v":0},null,"2020-09-01",{"$f":"VLOOKUP(\"92020CEMEX\",'[7]Pegar datos'!$C$1409:$L$1909,3,0)","v":0},{"$f":"VLOOKUP(\"92020CEMEX\",'[7]Pegar datos'!$C$1409:$L$1909,4,0)","v":0},{"$f":"VLOOKUP(\"92020CEMEX\",'[7]Pegar datos'!$C$1409:$L$1909,5,0)/1000000","v":0},{"$f":"VLOOKUP(\"92020CEMEX\",'[7]Pegar datos'!$C$1409:$L$1909,6,0)","v":0},{"$f":"VLOOKUP(\"92020WALMART\",'[7]Pegar datos'!$C$1409:$L$1909,3,0)","v":0},{"$f":"VLOOKUP(\"92020WALMART\",'[7]Pegar datos'!$C$1409:$L$1909,4,0)","v":0},{"$f":"VLOOKUP(\"92020WALMART\",'[7]Pegar datos'!$C$1409:$L$1909,5,0)/1000000","v":0},{"$f":"VLOOKUP(\"92020WALMART\",'[7]Pegar datos'!$C$1409:$L$1909,6,0)","v":250},{"$f":"VLOOKUP(\"92020GMEXICO\",'[7]Pegar datos'!$C$1409:$L$1909,3,0)","v":1},{"$f":"VLOOKUP(\"92020GMEXICO\",'[7]Pegar datos'!$C$1409:$L$1909,4,0)","v":100},{"$f":"VLOOKUP(\"92020GMEXICO\",'[7]Pegar datos'!$C$1409:$L$1909,5,0)/1000000","v":0.55100000000000005},{"$f":"VLOOKUP(\"92020GMEXICO\",'[7]Pegar datos'!$C$1409:$L$1909,6,0)","v":200},null,"2020-09-01",{"$f":"VLOOKUP(\"92020GCARSO\",'[7]Pegar datos'!$C$1409:$L$1909,3,0)","v":0},{"$f":"VLOOKUP(\"92020GCARSO\",'[7]Pegar datos'!$C$1409:$L$1909,4,0)","v":0},{"$f":"VLOOKUP(\"92020GCARSO\",'[7]Pegar datos'!$C$1409:$L$1909,5,0)/1000000","v":0},{"$f":"VLOOKUP(\"92020GCARSO\",'[7]Pegar datos'!$C$1409:$L$1909,6,0)","v":0},{"$f":"VLOOKUP(\"92020FEMSA\",'[7]Pegar datos'!$C$1409:$L$1909,3,0)","v":0},{"$f":"VLOOKUP(\"92020FEMSA\",'[7]Pegar datos'!$C$1409:$L$1909,4,0)","v":0},{"$f":"VLOOKUP(\"92020FEMSA\",'[7]Pegar datos'!$C$1409:$L$1909,5,0)/1000000","v":0},{"$f":"VLOOKUP(\"92020FEMSA\",'[7]Pegar datos'!$C$1409:$L$1909,6,0)","v":0},{"$f":"VLOOKUP(\"92020MR26\",'[7]Pegar datos'!$C$1409:$L$1909,3,0)","v":0},{"$f":"VLOOKUP(\"92020MR26\",'[7]Pegar datos'!$C$1409:$L$1909,4,0)","v":0},{"$f":"VLOOKUP(\"92020MR26\",'[7]Pegar datos'!$C$1409:$L$1909,5,0)/1000000","v":0},{"$f":"VLOOKUP(\"92020MR26\",'[7]Pegar datos'!$C$1409:$L$1909,6,0)","v":0},null,"2020-09-01",{"$f":"VLOOKUP(\"92020MY31\",'[7]Pegar datos'!$C$1409:$L$1909,3,0)","v":0},{"$f":"VLOOKUP(\"92020MY31\",'[7]Pegar datos'!$C$1409:$L$1909,4,0)","v":0},{"$f":"VLOOKUP(\"92020MY31\",'[7]Pegar datos'!$C$1409:$L$1909,5,0)/1000000","v":0},{"$f":"VLOOKUP(\"92020MY31\",'[7]Pegar datos'!$C$1409:$L$1909,6,0)","v":0},{"$f":"VLOOKUP(\"92020MY31\",'[7]Pegar datos'!$C$1409:$L$1909,3,0)","v":0},{"$f":"VLOOKUP(\"92020MY31\",'[7]Pegar datos'!$C$1409:$L$1909,4,0)","v":0},{"$f":"VLOOKUP(\"92020MY31\",'[7]Pegar datos'!$C$1409:$L$1909,5,0)/1000000","v":0},{"$f":"VLOOKUP(\"92020MY31\",'[7]Pegar datos'!$C$1409:$L$1909,6,0)","v":0},{"$f":"VLOOKUP(\"92020JN27\",'[7]Pegar datos'!$C$1409:$L$1909,3,0)","v":0},{"$f":"VLOOKUP(\"92020JN27\",'[7]Pegar datos'!$C$1409:$L$1909,4,0)","v":0},{"$f":"VLOOKUP(\"92020JN27\",'[7]Pegar datos'!$C$1409:$L$1909,5,0)/1000000","v":0},{"$f":"VLOOKUP(\"92020JN27\",'[7]Pegar datos'!$C$1409:$L$1909,6,0)","v":0}]
["2020-10-01",{"$f":"VLOOKUP(\"102020M3\",'[8]Pegar datos'!$C$1409:$L$1912,3,0)","v":0},{"$f":"VLOOKUP(\"102020M3\",'[8]Pegar datos'!$C$1409:$L$1912,4,0)","v":0},{"$f":"VLOOKUP(\"102020M3\",'[8]Pegar datos'!$C$1409:$L$1912,5,0)/1000000","v":0},{"$f":"VLOOKUP(\"102020M3\",'[8]Pegar datos'!$C$1409:$L$1912,6,0)","v":0},{"$f":"VLOOKUP(\"102020M10\",'[8]Pegar datos'!$C$1409:$L$1912,3,0)","v":0},{"$f":"VLOOKUP(\"102020M10\",'[8]Pegar datos'!$C$1409:$L$1912,4,0)","v":0},{"$f":"VLOOKUP(\"102020M10\",'[8]Pegar datos'!$C$1409:$L$1912,5,0)/1000000","v":0},{"$f":"VLOOKUP(\"102020M10\",'[8]Pegar datos'!$C$1409:$L$1912,6,0)","v":0},{"$f":"VLOOKUP(\"102020M20\",'[8]Pegar datos'!$C$1409:$L$1912,3,0)","v":0},{"$f":"VLOOKUP(\"102020M20\",'[8]Pegar datos'!$C$1409:$L$1912,4,0)","v":0},{"$f":"VLOOKUP(\"102020M20\",'[8]Pegar datos'!$C$1409:$L$1912,5,0)/1000000","v":0},{"$f":"VLOOKUP(\"102020M20\",'[8]Pegar datos'!$C$1409:$L$1912,6,0)","v":0},null,"2020-10-01",{"$f":"VLOOKUP(\"102020CEMEX\",'[8]Pegar datos'!$C$1409:$L$1912,3,0)","v":0},{"$f":"VLOOKUP(\"102020CEMEX\",'[8]Pegar datos'!$C$1409:$L$1912,4,0)","v":0},{"$f":"VLOOKUP(\"102020CEMEX\",'[8]Pegar datos'!$C$1409:$L$1912,5,0)/1000000","v":0},{"$f":"VLOOKUP(\"102020CEMEX\",'[8]Pegar datos'!$C$1409:$L$1912,6,0)","v":0},{"$f":"VLOOKUP(\"102020WALMART\",'[8]Pegar datos'!$C$1409:$L$1912,3,0)","v":0},{"$f":"VLOOKUP(\"102020WALMART\",'[8]Pegar datos'!$C$1409:$L$1912,4,0)","v":0},{"$f":"VLOOKUP(\"102020WALMART\",'[8]Pegar datos'!$C$1409:$L$1912,5,0)/1000000","v":0},{"$f":"VLOOKUP(\"102020WALMART\",'[8]Pegar datos'!$C$1409:$L$1912,6,0)","v":250},{"$f":"VLOOKUP(\"102020GMEXICO\",'[8]Pegar datos'!$C$1409:$L$1912,3,0)","v":0},{"$f":"VLOOKUP(\"102020GMEXICO\",'[8]Pegar datos'!$C$1409:$L$1912,4,0)","v":0},{"$f":"VLOOKUP(\"102020GMEXICO\",'[8]Pegar datos'!$C$1409:$L$1912,5,0)/1000000","v":0},{"$f":"VLOOKUP(\"102020GMEXICO\",'[8]Pegar datos'!$C$1409:$L$1912,6,0)","v":200},null,"2020-10-01",{"$f":"VLOOKUP(\"102020GCARSO\",'[8]Pegar datos'!$C$1409:$L$1912,3,0)","v":0},{"$f":"VLOOKUP(\"102020GCARSO\",'[8]Pegar datos'!$C$1409:$L$1912,4,0)","v":0},{"$f":"VLOOKUP(\"102020GCARSO\",'[8]Pegar datos'!$C$1409:$L$1912,5,0)/1000000","v":0},{"$f":"VLOOKUP(\"102020GCARSO\",'[8]Pegar datos'!$C$1409:$L$1912,6,0)","v":0},{"$f":"VLOOKUP(\"102020FEMSA\",'[8]Pegar datos'!$C$1409:$L$1912,3,0)","v":5},{"$f":"VLOOKUP(\"102020FEMSA\",'[8]Pegar datos'!$C$1409:$L$1912,4,0)","v":180},{"$f":"VLOOKUP(\"102020FEMSA\",'[8]Pegar datos'!$C$1409:$L$1912,5,0)/1000000","v":2.0839599999999998},{"$f":"VLOOKUP(\"102020FEMSA\",'[8]Pegar datos'!$C$1409:$L$1912,6,0)","v":180},{"$f":"VLOOKUP(\"102020MR26\",'[8]Pegar datos'!$C$1409:$L$1912,3,0)","v":0},{"$f":"VLOOKUP(\"102020MR26\",'[8]Pegar datos'!$C$1409:$L$1912,4,0)","v":0},{"$f":"VLOOKUP(\"102020MR26\",'[8]Pegar datos'!$C$1409:$L$1912,5,0)/1000000","v":0},{"$f":"VLOOKUP(\"102020MR26\",'[8]Pegar datos'!$C$1409:$L$1912,6,0)","v":0},null,"2020-10-01",{"$f":"VLOOKUP(\"102020MY31\",'[8]Pegar datos'!$C$1409:$L$1912,3,0)","v":0},{"$f":"VLOOKUP(\"102020MY31\",'[8]Pegar datos'!$C$1409:$L$1912,4,0)","v":0},{"$f":"VLOOKUP(\"102020MY31\",'[8]Pegar datos'!$C$1409:$L$1912,5,0)/1000000","v":0},{"$f":"VLOOKUP(\"102020MY31\",'[8]Pegar datos'!$C$1409:$L$1912,6,0)","v":0},{"$f":"VLOOKUP(\"102020MY31\",'[8]Pegar datos'!$C$1409:$L$1912,3,0)","v":0},{"$f":"VLOOKUP(\"102020MY31\",'[8]Pegar datos'!$C$1409:$L$1912,4,0)","v":0},{"$f":"VLOOKUP(\"102020MY31\",'[8]Pegar datos'!$C$1409:$L$1912,5,0)/1000000","v":0},{"$f":"VLOOKUP(\"102020MY31\",'[8]Pegar datos'!$C$1409:$L$1912,6,0)","v":0},{"$f":"VLOOKUP(\"102020JN27\",'[8]Pegar datos'!$C$1409:$L$1912,3,0)","v":0},{"$f":"VLOOKUP(\"102020JN27\",'[8]Pegar datos'!$C$1409:$L$1912,4,0)","v":0},{"$f":"VLOOKUP(\"102020JN27\",'[8]Pegar datos'!$C$1409:$L$1912,5,0)/1000000","v":0},{"$f":"VLOOKUP(\"102020JN27\",'[8]Pegar datos'!$C$1409:$L$1912,6,0)","v":0}]
["2020-11-01",{"$f":"VLOOKUP(\"112020M3\",'[9]Pegar datos'!$C$1409:$L$1915,3,0)","v":0},{"$f":"VLOOKUP(\"112020M3\",'[9]Pegar datos'!$C$1409:$L$1915,4,0)","v":0},{"$f":"VLOOKUP(\"112020M3\",'[9]Pegar datos'!$C$1409:$L$1915,5,0)/1000000","v":0},{"$f":"VLOOKUP(\"112020M3\",'[9]Pegar datos'!$C$1409:$L$1915,6,0)","v":0},{"$f":"VLOOKUP(\"112020M10\",'[9]Pegar datos'!$C$1409:$L$1915,3,0)","v":0},{"$f":"VLOOKUP(\"112020M10\",'[9]Pegar datos'!$C$1409:$L$1915,4,0)","v":0},{"$f":"VLOOKUP(\"112020M10\",'[9]Pegar datos'!$C$1409:$L$1915,5,0)/1000000","v":0},{"$f":"VLOOKUP(\"112020M10\",'[9]Pegar datos'!$C$1409:$L$1915,6,0)","v":0},{"$f":"VLOOKUP(\"112020M20\",'[9]Pegar datos'!$C$1409:$L$1915,3,0)","v":0},{"$f":"VLOOKUP(\"112020M20\",'[9]Pegar datos'!$C$1409:$L$1915,4,0)","v":0},{"$f":"VLOOKUP(\"112020M20\",'[9]Pegar datos'!$C$1409:$L$1915,5,0)/1000000","v":0},{"$f":"VLOOKUP(\"112020M20\",'[9]Pegar datos'!$C$1409:$L$1915,6,0)","v":0},null,"2020-11-01",{"$f":"VLOOKUP(\"112020CEMEX\",'[9]Pegar datos'!$C$1409:$L$1915,3,0)","v":0},{"$f":"VLOOKUP(\"112020CEMEX\",'[9]Pegar datos'!$C$1409:$L$1915,4,0)","v":0},{"$f":"VLOOKUP(\"112020CEMEX\",'[9]Pegar datos'!$C$1409:$L$1915,5,0)/1000000","v":0},{"$f":"VLOOKUP(\"112020CEMEX\",'[9]Pegar datos'!$C$1409:$L$1915,6,0)","v":0},{"$f":"VLOOKUP(\"112020WALMART\",'[9]Pegar datos'!$C$1409:$L$1915,3,0)","v":2},{"$f":"VLOOKUP(\"112020WALMART\",'[9]Pegar datos'!$C$1409:$L$1915,4,0)","v":250},{"$f":"VLOOKUP(\"112020WALMART\",'[9]Pegar datos'!$C$1409:$L$1915,5,0)/1000000","v":1.3583750000000001},{"$f":"VLOOKUP(\"112020WALMART\",'[9]Pegar datos'!$C$1409:$L$1915,6,0)","v":250},{"$f":"VLOOKUP(\"112020GMEXICO\",'[9]Pegar datos'!$C$1409:$L$1915,3,0)","v":2},{"$f":"VLOOKUP(\"112020GMEXICO\",'[9]Pegar datos'!$C$1409:$L$1915,4,0)","v":200},{"$f":"VLOOKUP(\"112020GMEXICO\",'[9]Pegar datos'!$C$1409:$L$1915,5,0)/1000000","v":1.2746},{"$f":"VLOOKUP(\"112020GMEXICO\",'[9]Pegar datos'!$C$1409:$L$1915,6,0)","v":0},null,"2020-11-01",{"$f":"VLOOKUP(\"112020GCARSO\",'[9]Pegar datos'!$C$1409:$L$1915,3,0)","v":0},{"$f":"VLOOKUP(\"112020GCARSO\",'[9]Pegar datos'!$C$1409:$L$1915,4,0)","v":0},{"$f":"VLOOKUP(\"112020GCARSO\",'[9]Pegar datos'!$C$1409:$L$1915,5,0)/1000000","v":0},{"$f":"VLOOKUP(\"112020GCARSO\",'[9]Pegar datos'!$C$1409:$L$1915,6,0)","v":0},{"$f":"VLOOKUP(\"112020FEMSA\",'[9]Pegar datos'!$C$1409:$L$1915,3,0)","v":4},{"$f":"VLOOKUP(\"112020FEMSA\",'[9]Pegar datos'!$C$1409:$L$1915,4,0)","v":180},{"$f":"VLOOKUP(\"112020FEMSA\",'[9]Pegar datos'!$C$1409:$L$1915,5,0)/1000000","v":2.43418},{"$f":"VLOOKUP(\"112020FEMSA\",'[9]Pegar datos'!$C$1409:$L$1915,6,0)","v":0},{"$f":"VLOOKUP(\"112020MR26\",'[9]Pegar datos'!$C$1409:$L$1915,3,0)","v":0},{"$f":"VLOOKUP(\"112020MR26\",'[9]Pegar datos'!$C$1409:$L$1915,4,0)","v":0},{"$f":"VLOOKUP(\"112020MR26\",'[9]Pegar datos'!$C$1409:$L$1915,5,0)/1000000","v":0},{"$f":"VLOOKUP(\"112020MR26\",'[9]Pegar datos'!$C$1409:$L$1915,6,0)","v":0},null,"2020-11-01",{"$f":"VLOOKUP(\"112020MY31\",'[9]Pegar datos'!$C$1409:$L$1915,3,0)","v":0},{"$f":"VLOOKUP(\"112020MY31\",'[9]Pegar datos'!$C$1409:$L$1915,4,0)","v":0},{"$f":"VLOOKUP(\"112020MY31\",'[9]Pegar datos'!$C$1409:$L$1915,5,0)/1000000","v":0},{"$f":"VLOOKUP(\"112020MY31\",'[9]Pegar datos'!$C$1409:$L$1915,6,0)","v":0},{"$f":"VLOOKUP(\"112020MY31\",'[9]Pegar datos'!$C$1409:$L$1915,3,0)","v":0},{"$f":"VLOOKUP(\"112020MY31\",'[9]Pegar datos'!$C$1409:$L$1915,4,0)","v":0},{"$f":"VLOOKUP(\"112020MY31\",'[9]Pegar datos'!$C$1409:$L$1915,5,0)/1000000","v":0},{"$f":"VLOOKUP(\"112020MY31\",'[9]Pegar datos'!$C$1409:$L$1915,6,0)","v":0},{"$f":"VLOOKUP(\"112020JN27\",'[9]Pegar datos'!$C$1409:$L$1915,3,0)","v":0},{"$f":"VLOOKUP(\"112020JN27\",'[9]Pegar datos'!$C$1409:$L$1915,4,0)","v":0},{"$f":"VLOOKUP(\"112020JN27\",'[9]Pegar datos'!$C$1409:$L$1915,5,0)/1000000","v":0},{"$f":"VLOOKUP(\"112020JN27\",'[9]Pegar datos'!$C$1409:$L$1915,6,0)","v":0}]
["2020-12-01",{"$f":"VLOOKUP(\"122020M3\",'[10]Pegar datos'!$C$1409:$L$1918,3,0)","v":0},{"$f":"VLOOKUP(\"122020M3\",'[10]Pegar datos'!$C$1409:$L$1918,4,0)","v":0},{"$f":"VLOOKUP(\"122020M3\",'[10]Pegar datos'!$C$1409:$L$1918,5,0)/1000000","v":0},{"$f":"VLOOKUP(\"122020M3\",'[10]Pegar datos'!$C$1409:$L$1918,6,0)","v":0},{"$f":"VLOOKUP(\"122020M10\",'[10]Pegar datos'!$C$1409:$L$1918,3,0)","v":0},{"$f":"VLOOKUP(\"122020M10\",'[10]Pegar datos'!$C$1409:$L$1918,4,0)","v":0},{"$f":"VLOOKUP(\"122020M10\",'[10]Pegar datos'!$C$1409:$L$1918,5,0)/1000000","v":0},{"$f":"VLOOKUP(\"122020M10\",'[10]Pegar datos'!$C$1409:$L$1918,6,0)","v":0},{"$f":"VLOOKUP(\"122020M20\",'[10]Pegar datos'!$C$1409:$L$1918,3,0)","v":0},{"$f":"VLOOKUP(\"122020M20\",'[10]Pegar datos'!$C$1409:$L$1918,4,0)","v":0},{"$f":"VLOOKUP(\"122020M20\",'[10]Pegar datos'!$C$1409:$L$1918,5,0)/1000000","v":0},{"$f":"VLOOKUP(\"122020M20\",'[10]Pegar datos'!$C$1409:$L$1918,6,0)","v":0},null,"2020-12-01",{"$f":"VLOOKUP(\"122020CEMEX\",'[10]Pegar datos'!$C$1409:$L$1918,3,0)","v":0},{"$f":"VLOOKUP(\"122020CEMEX\",'[10]Pegar datos'!$C$1409:$L$1918,4,0)","v":0},{"$f":"VLOOKUP(\"122020CEMEX\",'[10]Pegar datos'!$C$1409:$L$1918,5,0)/1000000","v":0},{"$f":"VLOOKUP(\"122020CEMEX\",'[10]Pegar datos'!$C$1409:$L$1918,6,0)","v":0},{"$f":"VLOOKUP(\"122020WALMART\",'[10]Pegar datos'!$C$1409:$L$1918,3,0)","v":2},{"$f":"VLOOKUP(\"122020WALMART\",'[10]Pegar datos'!$C$1409:$L$1918,4,0)","v":500},{"$f":"VLOOKUP(\"122020WALMART\",'[10]Pegar datos'!$C$1409:$L$1918,5,0)/1000000","v":2.8607499999999999},{"$f":"VLOOKUP(\"122020WALMART\",'[10]Pegar datos'!$C$1409:$L$1918,6,0)","v":250},{"$f":"VLOOKUP(\"122020GMEXICO\",'[10]Pegar datos'!$C$1409:$L$1918,3,0)","v":0},{"$f":"VLOOKUP(\"122020GMEXICO\",'[10]Pegar datos'!$C$1409:$L$1918,4,0)","v":0},{"$f":"VLOOKUP(\"122020GMEXICO\",'[10]Pegar datos'!$C$1409:$L$1918,5,0)/1000000","v":0},{"$f":"VLOOKUP(\"122020GMEXICO\",'[10]Pegar datos'!$C$1409:$L$1918,6,0)","v":0},null,"2020-12-01",{"$f":"VLOOKUP(\"122020GCARSO\",'[10]Pegar datos'!$C$1409:$L$1918,3,0)","v":0},{"$f":"VLOOKUP(\"122020GCARSO\",'[10]Pegar datos'!$C$1409:$L$1918,4,0)","v":0},{"$f":"VLOOKUP(\"122020GCARSO\",'[10]Pegar datos'!$C$1409:$L$1918,5,0)/1000000","v":0},{"$f":"VLOOKUP(\"122020GCARSO\",'[10]Pegar datos'!$C$1409:$L$1918,6,0)","v":0},{"$f":"VLOOKUP(\"122020FEMSA\",'[10]Pegar datos'!$C$1409:$L$1918,3,0)","v":0},{"$f":"VLOOKUP(\"122020FEMSA\",'[10]Pegar datos'!$C$1409:$L$1918,4,0)","v":0},{"$f":"VLOOKUP(\"122020FEMSA\",'[10]Pegar datos'!$C$1409:$L$1918,5,0)/1000000","v":0},{"$f":"VLOOKUP(\"122020FEMSA\",'[10]Pegar datos'!$C$1409:$L$1918,6,0)","v":0},{"$f":"VLOOKUP(\"122020MR26\",'[10]Pegar datos'!$C$1409:$L$1918,3,0)","v":0},{"$f":"VLOOKUP(\"122020MR26\",'[10]Pegar datos'!$C$1409:$L$1918,4,0)","v":0},{"$f":"VLOOKUP(\"122020MR26\",'[10]Pegar datos'!$C$1409:$L$1918,5,0)/1000000","v":0},{"$f":"VLOOKUP(\"122020MR26\",'[10]Pegar datos'!$C$1409:$L$1918,6,0)","v":0},null,"2020-12-01",{"$f":"VLOOKUP(\"122020MY31\",'[10]Pegar datos'!$C$1409:$L$1918,3,0)","v":0},{"$f":"VLOOKUP(\"122020MY31\",'[10]Pegar datos'!$C$1409:$L$1918,4,0)","v":0},{"$f":"VLOOKUP(\"122020MY31\",'[10]Pegar datos'!$C$1409:$L$1918,5,0)/1000000","v":0},{"$f":"VLOOKUP(\"122020MY31\",'[10]Pegar datos'!$C$1409:$L$1918,6,0)","v":0},{"$f":"VLOOKUP(\"122020MY31\",'[10]Pegar datos'!$C$1409:$L$1918,3,0)","v":0},{"$f":"VLOOKUP(\"122020MY31\",'[10]Pegar datos'!$C$1409:$L$1918,4,0)","v":0},{"$f":"VLOOKUP(\"122020MY31\",'[10]Pegar datos'!$C$1409:$L$1918,5,0)/1000000","v":0},{"$f":"VLOOKUP(\"122020MY31\",'[10]Pegar datos'!$C$1409:$L$1918,6,0)","v":0},{"$f":"VLOOKUP(\"122020JN27\",'[10]Pegar datos'!$C$1409:$L$1918,3,0)","v":0},{"$f":"VLOOKUP(\"122020JN27\",'[10]Pegar datos'!$C$1409:$L$1918,4,0)","v":0},{"$f":"VLOOKUP(\"122020JN27\",'[10]Pegar datos'!$C$1409:$L$1918,5,0)/1000000","v":0},{"$f":"VLOOKUP(\"122020JN27\",'[10]Pegar datos'!$C$1409:$L$1918,6,0)","v":0}]
["(1) In Millions",null,null,null,null,null,null,null,null,null,null,null,null,null,"(1) In Millions",null,null,null,null,null,null,null,null,null,null,null,null,null,"(1) In Millions",null,null,null,null,null,null,null,null,null,null,null,null,null,"(1) In Millions"]
[null,null,null,null,null,null,null,null,null,null,null,null,null,null,null,null,null,null,null,null,null,null,null,null,null,null,null,null,null,null,null,null,null,null,null,null,null,null,null,null,null,null,"* JN21 December 2016 Open Interest data have been updated"]

{"sheet":"Options Data","index":4,"n_rows":62,"n_cols":27,"rows_kept":62,"cut":false,"hidden":false,"merged":[[35,15,36,15],[35,16,36,16],[35,17,36,17],[35,18,36,18],[34,1,34,4],[34,5,34,8],[34,9,34,12],[34,15,34,18],[35,1,36,1],[35,2,36,2],[35,3,36,3],[35,4,36,4],[35,5,36,5],[35,6,36,6],[35,7,36,7],[35,8,36,8],[35,9,36,9],[35,10,36,10],[35,11,36,11],[35,12,36,12],[5,23,5,26],[6,12,7,12],[6,11,7,11],[6,26,7,26],[6,15,7,15],[6,16,7,16],[6,17,7,17],[6,18,7,18],[6,19,7,19],[6,20,7,20],[6,21,7,21],[6,22,7,22],[5,1,5,4],[5,5,5,8],[5,9,5,12],[5,15,5,18],[5,19,5,22],[6,1,7,1],[6,2,7,2],[6,3,7,3],[6,4,7,4],[6,5,7,5],[6,23,7,23],[6,24,7,24],[6,25,7,25],[6,6,7,6],[6,7,7,7],[6,8,7,8],[6,9,7,9],[6,10,7,10]]}
["MEXICAN STOCK EXCHANGE",null,null,null,null,null,null,null,null,null,null,null,null,null,"MEXICAN STOCK EXCHANGE"]
["DECEMBER OPERATIONAL HIGHLIGHTS",null,null,null,null,null,null,null,null,null,null,null,null,null,"DECEMBER OPERATIONAL HIGHLIGHTS"]
[]
["OPERATING FIGURES OPTIONS MARKET",null,null,null,null,null,null,null,null,null,null,null,null,null,"OPERATING FIGURES OPTIONS MARKET"]
[]
[null,"IPC INDEX",null,null,null,"DOLLAR",null,null,null,"AMERICA MOVIL",null,null,null,null,null,"TELEVISA",null,null,null,"GRUPO MEXICO",null,null,null,"ORBIA"]
[null,"Trades","Volume","Notional Value(1)","Open Interest","Trades","Volume","Notional Value","Open Interest","Trades","Volume","Notional Value","Open Interest",null,null,"Trades","Volume","Notional Value","Open Interest","Trades","Volume","Notional Value","Open Interest","Trades","Volume","Notional Value","Open Interest"]
[]
["2019-01-01",220,4501,1936770000,4275,21,11700,2284550000,9200,5,1100,1650000,31100,null,"2019-01-01",6,455,2002000,255,0,0,0,0,0,0,0,0]
["2019-02-01",165,446,199950000,4536,2,1000,186500000,10200,4,5100,7650000,30350,null,"2019-02-01",0,0,0,255,1,2000,8800000,2000,0,0,0,0]
["2019-03-01",201,590,246395000,1825,8,2530,496297500,2530,4,20000,27500000,40000,null,"2019-03-01",1,100,440000,250,0,0,0,0,1,5000,23000000,0]
["2019-04-01",165,194,85560000,1892,10,3030,578810000,5560,4,15600,21490000,55600,null,"2019-04-01",0,0,0,250,3,20000,106000000,20000,0,0,0,0]
["2019-05-01",213,376,160515000,1992,15,2981,589069500,6951,7,38600,53290000,55000,null,"2019-05-01",0,0,0,250,4,27000,138000000,17000,0,0,0,0]
["2019-06-01",436,920,376145000,756,14,5093,999992000,5793,2,10000,14000000,10000,null,"2019-06-01",0,0,0,0,2,10000,50000000,0,0,0,0,0]
["2019-07-01",361,493,212740000,893,10,3500,678150000,8693,0,0,0,10000,null,"2019-07-01",0,0,0,0,0,0,0,0,3,15000,60000000,15000]
["2019-08-01",308,824,335095000,1219,20,6918,1369105000,10193,0,0,0,10000,null,"2019-08-01",0,0,0,0,0,0,0,0,1,15000,60000000,0]
["2019-09-01",402,683,291080000,449,8,1806,355930000,3206,4,10500,15225000,10500,null,"2019-09-01",0,0,0,0,0,0,0,0,0,0,0,0]
["2019-10-01",423,604,262470000,563,8,3050,594550000,20000,12,29733,43112850,34983,null,"2019-10-01",0,0,0,0,0,0,0,0,0,0,0,0]
["2019-11-01",392,690,297985000,869,2,1250,248250000,6256,14,70000,101500000,104983,null,"2019-11-01",0,0,0,0,0,0,0,0,0,0,0,0]
["2019-12-01",622,766,337740000,328,8,4117,797850000,1815,16,104983,152225350,0,null,"2019-12-01",0,0,0,0,0,0,0,0,0,0,0,0]
["2020-01-01",775,1062,479055000,624,14,3000,579400000,4815,6,885,1283750,885,null,"2020-01-01",0,0,0,0,0,0,0,0,0,0,0,0]
["2020-02-01",{"$f":"VLOOKUP(\"22020IPC\",'[1]Pegar datos'!$C$2768:$L$3044,3,0)","v":608},{"$f":"VLOOKUP(\"22020IPC\",'[1]Pegar datos'!$C$2768:$L$3044,4,0)","v":923},{"$f":"VLOOKUP(\"22020IPC\",'[1]Pegar datos'!$C$2768:$L$3044,5,0)","v":410950000},{"$f":"VLOOKUP(\"22020IPC\",'[1]Pegar datos'!$C$2768:$L$3044,6,0)","v":831},{"$f":"VLOOKUP(\"22020DOLAR\",'[1]Pegar datos'!$C$2768:$L$3044,3,0)","v":10},{"$f":"VLOOKUP(\"22020DOLAR\",'[1]Pegar datos'!$C$2768:$L$3044,4,0)","v":25615},{"$f":"VLOOKUP(\"22020DOLAR\",'[1]Pegar datos'!$C$2768:$L$3044,5,0)","v":5012985000},{"$f":"VLOOKUP(\"22020DOLAR\",'[1]Pegar datos'!$C$2768:$L$3044,6,0)","v":26075},{"$f":"VLOOKUP(\"22020AMOVIL\",'[1]Pegar datos'!$C$2768:$L$3044,3,0)","v":2},{"$f":"VLOOKUP(\"22020AMOVIL\",'[1]Pegar datos'!$C$2768:$L$3044,4,0)","v":6625},{"$f":"VLOOKUP(\"22020AMOVIL\",'[1]Pegar datos'!$C$2768:$L$3044,5,0)","v":10506250},{"$f":"VLOOKUP(\"22020AMOVIL\",'[1]Pegar datos'!$C$2768:$L$3044,6,0)","v":6885},null,"2020-02-01",{"$f":"VLOOKUP(\"22020TELEVISA\",'[1]Pegar datos'!$C$2768:$L$3044,3,0)","v":0},{"$f":"VLOOKUP(\"22020TELEVISA\",'[1]Pegar datos'!$C$2768:$L$3044,4,0)","v":0},{"$f":"VLOOKUP(\"22020TELEVISA\",'[1]Pegar datos'!$C$2768:$L$3044,5,0)/1000000","v":0},{"$f":"VLOOKUP(\"22020TELEVISA\",'[1]Pegar datos'!$C$2768:$L$3044,6,0)","v":0},{"$f":"VLOOKUP(\"22020GMEXICO\",'[1]Pegar datos'!$C$2768:$L$3044,3,0)","v":7},{"$f":"VLOOKUP(\"22020GMEXICO\",'[1]Pegar datos'!$C$2768:$L$3044,4,0)","v":2000},{"$f":"VLOOKUP(\"22020GMEXICO\",'[1]Pegar datos'!$C$2768:$L$3044,5,0)/1000000","v":9.6},{"$f":"VLOOKUP(\"22020GMEXICO\",'[1]Pegar datos'!$C$2768:$L$3044,6,0)","v":2000},{"$f":"VLOOKUP(\"22020MEXICHEM\",'[1]Pegar datos'!$C$2768:$L$3044,3,0)","v":0},{"$f":"VLOOKUP(\"22020MEXICHEM\",'[1]Pegar datos'!$C$2768:$L$3044,4,0)","v":0},{"$f":"VLOOKUP(\"22020MEXICHEM\",'[1]Pegar datos'!$C$2768:$L$3044,5,0)/1000000","v":0},{"$f":"VLOOKUP(\"22020MEXICHEM\",'[1]Pegar datos'!$C$2768:$L$3044,6,0)","v":0}]
["2020-03-01",{"$f":"VLOOKUP(\"32020IPC\",'[2]Pegar datos'!$C$2769:$L$3045,3,0)","v":434},{"$f":"VLOOKUP(\"32020IPC\",'[2]Pegar datos'!$C$2769:$L$3045,4,0)","v":551},{"$f":"VLOOKUP(\"32020IPC\",'[2]Pegar datos'!$C$2769:$L$3045,5,0)","v":218870000},{"$f":"VLOOKUP(\"32020IPC\",'[2]Pegar datos'!$C$2769:$L$3045,6,0)","v":315},{"$f":"VLOOKUP(\"32020DOLAR\",'[2]Pegar datos'!$C$2769:$L$3045,3,0)","v":10},{"$f":"VLOOKUP(\"32020DOLAR\",'[2]Pegar datos'!$C$2769:$L$3045,4,0)","v":22724},{"$f":"VLOOKUP(\"32020DOLAR\",'[2]Pegar datos'!$C$2769:$L$3045,5,0)","v":4475225000},{"$f":"VLOOKUP(\"32020DOLAR\",'[2]Pegar datos'!$C$2769:$L$3045,6,0)","v":10599},{"$f":"VLOOKUP(\"32020AMOVIL\",'[2]Pegar datos'!$C$2769:$L$3045,3,0)","v":1},{"$f":"VLOOKUP(\"32020AMOVIL\",'[2]Pegar datos'!$C$2769:$L$3045,4,0)","v":6000},{"$f":"VLOOKUP(\"32020AMOVIL\",'[2]Pegar datos'!$C$2769:$L$3045,5,0)","v":9600000},{"$f":"VLOOKUP(\"32020AMOVIL\",'[2]Pegar datos'!$C$2769:$L$3045,6,0)","v":6000},null,"2020-03-01",{"$f":"VLOOKUP(\"32020TELEVISA\",'[2]Pegar datos'!$C$2769:$L$3045,3,0)","v":0},{"$f":"VLOOKUP(\"32020TELEVISA\",'[2]Pegar datos'!$C$2769:$L$3045,4,0)","v":0},{"$f":"VLOOKUP(\"32020TELEVISA\",'[2]Pegar datos'!$C$2769:$L$3045,5,0)/1000000","v":0},{"$f":"VLOOKUP(\"32020TELEVISA\",'[2]Pegar datos'!$C$2769:$L$3045,6,0)","v":0},{"$f":"VLOOKUP(\"32020GMEXICO\",'[2]Pegar datos'!$C$2769:$L$3045,3,0)","v":0},{"$f":"VLOOKUP(\"32020GMEXICO\",'[2]Pegar datos'!$C$2769:$L$3045,4,0)","v":0},{"$f":"VLOOKUP(\"32020GMEXICO\",'[2]Pegar datos'!$C$2769:$L$3045,5,0)/1000000","v":0},{"$f":"VLOOKUP(\"32020GMEXICO\",'[2]Pegar datos'!$C$2769:$L$3045,6,0)","v":0},{"$f":"VLOOKUP(\"32020MEXICHEM\",'[2]Pegar datos'!$C$2769:$L$3045,3,0)","v":0},{"$f":"VLOOKUP(\"32020MEXICHEM\",'[2]Pegar datos'!$C$2769:$L$3045,4,0)","v":0},{"$f":"VLOOKUP(\"32020MEXICHEM\",'[2]Pegar datos'!$C$2769:$L$3045,5,0)/1000000","v":0},{"$f":"VLOOKUP(\"32020MEXICHEM\",'[2]Pegar datos'!$C$2769:$L$3045,6,0)","v":0}]
["2020-04-01",161,163,56610000,347,3,72,17808000,10623,0,0,0,6000,null,"2020-04-01",{"$f":"VLOOKUP(\"32020TELEVISA\",'[2]Pegar datos'!$C$2769:$L$3045,3,0)","v":0},{"$f":"VLOOKUP(\"32020TELEVISA\",'[2]Pegar datos'!$C$2769:$L$3045,4,0)","v":0},{"$f":"VLOOKUP(\"32020TELEVISA\",'[2]Pegar datos'!$C$2769:$L$3045,5,0)/1000000","v":0},{"$f":"VLOOKUP(\"32020TELEVISA\",'[2]Pegar datos'!$C$2769:$L$3045,6,0)","v":0},{"$f":"VLOOKUP(\"32020GMEXICO\",'[2]Pegar datos'!$C$2769:$L$3045,3,0)","v":0},{"$f":"VLOOKUP(\"32020GMEXICO\",'[2]Pegar datos'!$C$2769:$L$3045,4,0)","v":0},{"$f":"VLOOKUP(\"32020GMEXICO\",'[2]Pegar datos'!$C$2769:$L$3045,5,0)/1000000","v":0},{"$f":"VLOOKUP(\"32020GMEXICO\",'[2]Pegar datos'!$C$2769:$L$3045,6,0)","v":0},{"$f":"VLOOKUP(\"32020MEXICHEM\",'[2]Pegar datos'!$C$2769:$L$3045,3,0)","v":0},{"$f":"VLOOKUP(\"32020MEXICHEM\",'[2]Pegar datos'!$C$2769:$L$3045,4,0)","v":0},{"$f":"VLOOKUP(\"32020MEXICHEM\",'[2]Pegar datos'!$C$2769:$L$3045,5,0)/1000000","v":0},{"$f":"VLOOKUP(\"32020MEXICHEM\",'[2]Pegar datos'!$C$2769:$L$3045,6,0)","v":0}]
["2020-05-01",{"$f":"VLOOKUP(\"52020IPC\",'[3]Pegar datos'!$C$2773:$L$3049,3,0)","v":185},{"$f":"VLOOKUP(\"52020IPC\",'[3]Pegar datos'!$C$2773:$L$3049,4,0)","v":189},{"$f":"VLOOKUP(\"52020IPC\",'[3]Pegar datos'!$C$2773:$L$3049,5,0)/1000000","v":68.14},{"$f":"VLOOKUP(\"52020IPC\",'[3]Pegar datos'!$C$2773:$L$3049,6,0)","v":405},{"$f":"VLOOKUP(\"52020DOLAR\",'[3]Pegar datos'!$C$2773:$L$3049,3,0)","v":20},{"$f":"VLOOKUP(\"52020DOLAR\",'[3]Pegar datos'!$C$2773:$L$3049,4,0)","v":1925},{"$f":"VLOOKUP(\"52020DOLAR\",'[3]Pegar datos'!$C$2773:$L$3049,5,0)/1000000","v":452.65499999999997},{"$f":"VLOOKUP(\"52020DOLAR\",'[3]Pegar datos'!$C$2773:$L$3049,6,0)","v":12548},{"$f":"VLOOKUP(\"52020AMOVIL\",'[3]Pegar datos'!$C$2773:$L$3049,3,0)","v":0},{"$f":"VLOOKUP(\"52020AMOVIL\",'[3]Pegar datos'!$C$2773:$L$3049,4,0)","v":0},{"$f":"VLOOKUP(\"52020AMOVIL\",'[3]Pegar datos'!$C$2773:$L$3049,5,0)/1000000","v":0},{"$f":"VLOOKUP(\"52020AMOVIL\",'[3]Pegar datos'!$C$2773:$L$3049,6,0)","v":6000},null,"2020-05-01",{"$f":"VLOOKUP(\"52020TELEVISA\",'[3]Pegar datos'!$C$2773:$L$3049,3,0)","v":0},{"$f":"VLOOKUP(\"52020TELEVISA\",'[3]Pegar datos'!$C$2773:$L$3049,4,0)","v":0},{"$f":"VLOOKUP(\"52020TELEVISA\",'[3]Pegar datos'!$C$2773:$L$3049,5,0)/1000000","v":0},{"$f":"VLOOKUP(\"52020TELEVISA\",'[3]Pegar datos'!$C$2773:$L$3049,6,0)","v":0},{"$f":"VLOOKUP(\"52020GMEXICO\",'[3]Pegar datos'!$C$2773:$L$3049,3,0)","v":0},{"$f":"VLOOKUP(\"52020GMEXICO\",'[3]Pegar datos'!$C$2773:$L$3049,4,0)","v":0},{"$f":"VLOOKUP(\"52020GMEXICO\",'[3]Pegar datos'!$C$2773:$L$3049,5,0)/1000000","v":0},{"$f":"VLOOKUP(\"52020GMEXICO\",'[3]Pegar datos'!$C$2773:$L$3049,6,0)","v":0},{"$f":"VLOOKUP(\"52020MEXICHEM\",'[3]Pegar datos'!$C$2773:$L$3049,3,0)","v":0},{"$f":"VLOOKUP(\"52020MEXICHEM\",'[3]Pegar datos'!$C$2773:$L$3049,4,0)","v":0},{"$f":"VLOOKUP(\"52020MEXICHEM\",'[3]Pegar datos'!$C$2773:$L$3049,5,0)/1000000","v":0},{"$f":"VLOOKUP(\"52020MEXICHEM\",'[3]Pegar datos'!$C$2773:$L$3049,6,0)","v":0}]
["2020-06-01",{"$f":"VLOOKUP(\"62020IPC\",'[4]Pegar datos'!$C$2775:$L$3051,3,0)","v":498},{"$f":"VLOOKUP(\"62020IPC\",'[4]Pegar datos'!$C$2775:$L$3051,4,0)","v":504},{"$f":"VLOOKUP(\"62020IPC\",'[4]Pegar datos'!$C$2775:$L$3051,5,0)/1000000","v":185.3},{"$f":"VLOOKUP(\"62020IPC\",'[4]Pegar datos'!$C$2775:$L$3051,6,0)","v":182},{"$f":"VLOOKUP(\"62020DOLAR\",'[4]Pegar datos'!$C$2775:$L$3051,3,0)","v":11},{"$f":"VLOOKUP(\"62020DOLAR\",'[4]Pegar datos'!$C$2775:$L$3051,4,0)","v":2525},{"$f":"VLOOKUP(\"62020DOLAR\",'[4]Pegar datos'!$C$2775:$L$3051,5,0)/1000000","v":555.54999999999995},{"$f":"VLOOKUP(\"62020DOLAR\",'[4]Pegar datos'!$C$2775:$L$3051,6,0)","v":5800},{"$f":"VLOOKUP(\"62020AMOVIL\",'[4]Pegar datos'!$C$2775:$L$3051,3,0)","v":0},{"$f":"VLOOKUP(\"62020AMOVIL\",'[4]Pegar datos'!$C$2775:$L$3051,4,0)","v":0},{"$f":"VLOOKUP(\"62020AMOVIL\",'[4]Pegar datos'!$C$2775:$L$3051,5,0)/1000000","v":0},{"$f":"VLOOKUP(\"62020AMOVIL\",'[4]Pegar datos'!$C$2775:$L$3051,6,0)","v":0},null,"2020-06-01",{"$f":"VLOOKUP(\"62020TELEVISA\",'[4]Pegar datos'!$C$2775:$L$3051,3,0)","v":0},{"$f":"VLOOKUP(\"62020TELEVISA\",'[4]Pegar datos'!$C$2775:$L$3051,4,0)","v":0},{"$f":"VLOOKUP(\"62020TELEVISA\",'[4]Pegar datos'!$C$2775:$L$3051,5,0)/1000000","v":0},{"$f":"VLOOKUP(\"62020TELEVISA\",'[4]Pegar datos'!$C$2775:$L$3051,6,0)","v":0},{"$f":"VLOOKUP(\"62020GMEXICO\",'[4]Pegar datos'!$C$2775:$L$3051,3,0)","v":0},{"$f":"VLOOKUP(\"62020GMEXICO\",'[4]Pegar datos'!$C$2775:$L$3051,4,0)","v":0},{"$f":"VLOOKUP(\"62020GMEXICO\",'[4]Pegar datos'!$C$2775:$L$3051,5,0)/1000000","v":0},{"$f":"VLOOKUP(\"62020GMEXICO\",'[4]Pegar datos'!$C$2775:$L$3051,6,0)","v":0},{"$f":"VLOOKUP(\"62020MEXICHEM\",'[4]Pegar datos'!$C$2775:$L$3051,3,0)","v":0},{"$f":"VLOOKUP(\"62020MEXICHEM\",'[4]Pegar datos'!$C$2775:$L$3051,4,0)","v":0},{"$f":"VLOOKUP(\"62020MEXICHEM\",'[4]Pegar datos'!$C$2775:$L$3051,5,0)/1000000","v":0},{"$f":"VLOOKUP(\"62020MEXICHEM\",'[4]Pegar datos'!$C$2775:$L$3051,6,0)","v":0}]
["2020-07-01",{"$f":"VLOOKUP(\"72020IPC\",'[5]Pegar datos'!$C$2778:$L$3054,3,0)","v":488},{"$f":"VLOOKUP(\"72020IPC\",'[5]Pegar datos'!$C$2778:$L$3054,4,0)","v":491},{"$f":"VLOOKUP(\"72020IPC\",'[5]Pegar datos'!$C$2778:$L$3054,5,0)/1000000","v":178.88499999999999},{"$f":"VLOOKUP(\"72020IPC\",'[5]Pegar datos'!$C$2778:$L$3054,6,0)","v":256},{"$f":"VLOOKUP(\"72020DOLAR\",'[5]Pegar datos'!$C$2778:$L$3054,3,0)","v":8},{"$f":"VLOOKUP(\"72020DOLAR\",'[5]Pegar datos'!$C$2778:$L$3054,4,0)","v":2000},{"$f":"VLOOKUP(\"72020DOLAR\",'[5]Pegar datos'!$C$2778:$L$3054,5,0)/1000000","v":448.6},{"$f":"VLOOKUP(\"72020DOLAR\",'[5]Pegar datos'!$C$2778:$L$3054,6,0)","v":7800},{"$f":"VLOOKUP(\"72020AMOVIL\",'[5]Pegar datos'!$C$2778:$L$3054,3,0)","v":1},{"$f":"VLOOKUP(\"72020AMOVIL\",'[5]Pegar datos'!$C$2778:$L$3054,4,0)","v":10000},{"$f":"VLOOKUP(\"72020AMOVIL\",'[5]Pegar datos'!$C$2778:$L$3054,5,0)/1000000","v":14},{"$f":"VLOOKUP(\"72020AMOVIL\",'[5]Pegar datos'!$C$2778:$L$3054,6,0)","v":10000},null,"2020-07-01",{"$f":"VLOOKUP(\"72020TELEVISA\",'[5]Pegar datos'!$C$2778:$L$3054,3,0)","v":0},{"$f":"VLOOKUP(\"72020TELEVISA\",'[5]Pegar datos'!$C$2778:$L$3054,4,0)","v":0},{"$f":"VLOOKUP(\"72020TELEVISA\",'[5]Pegar datos'!$C$2778:$L$3054,5,0)/1000000","v":0},{"$f":"VLOOKUP(\"72020TELEVISA\",'[5]Pegar datos'!$C$2778:$L$3054,6,0)","v":0},{"$f":"VLOOKUP(\"72020GMEXICO\",'[5]Pegar datos'!$C$2778:$L$3054,3,0)","v":0},{"$f":"VLOOKUP(\"72020GMEXICO\",'[5]Pegar datos'!$C$2778:$L$3054,4,0)","v":0},{"$f":"VLOOKUP(\"72020GMEXICO\",'[5]Pegar datos'!$C$2778:$L$3054,5,0)/1000000","v":0},{"$f":"VLOOKUP(\"72020GMEXICO\",'[5]Pegar datos'!$C$2778:$L$3054,6,0)","v":0},{"$f":"VLOOKUP(\"72020MEXICHEM\",'[5]Pegar datos'!$C$2778:$L$3054,3,0)","v":0},{"$f":"VLOOKUP(\"72020MEXICHEM\",'[5]Pegar datos'!$C$2778:$L$3054,4,0)","v":0},{"$f":"VLOOKUP(\"72020MEXICHEM\",'[5]Pegar datos'!$C$2778:$L$3054,5,0)/1000000","v":0},{"$f":"VLOOKUP(\"72020MEXICHEM\",'[5]Pegar datos'!$C$2778:$L$3054,6,0)","v":0}]
["2020-08-01",{"$f":"VLOOKUP(\"82020IPC\",'[6]Pegar datos'!$C$2781:$L$3057,3,0)","v":359},{"$f":"VLOOKUP(\"82020IPC\",'[6]Pegar datos'!$C$2781:$L$3057,4,0)","v":558},{"$f":"VLOOKUP(\"82020IPC\",'[6]Pegar datos'!$C$2781:$L$3057,5,0)/1000000","v":210.535},{"$f":"VLOOKUP(\"82020IPC\",'[6]Pegar datos'!$C$2781:$L$3057,6,0)","v":446},{"$f":"VLOOKUP(\"82020DOLAR\",'[6]Pegar datos'!$C$2781:$L$3057,3,0)","v":6},{"$f":"VLOOKUP(\"82020DOLAR\",'[6]Pegar datos'!$C$2781:$L$3057,4,0)","v":300},{"$f":"VLOOKUP(\"82020DOLAR\",'[6]Pegar datos'!$C$2781:$L$3057,5,0)/1000000","v":64.5},{"$f":"VLOOKUP(\"82020DOLAR\",'[6]Pegar datos'!$C$2781:$L$3057,6,0)","v":8000},{"$f":"VLOOKUP(\"82020AMOVIL\",'[6]Pegar datos'!$C$2781:$L$3057,3,0)","v":2},{"$f":"VLOOKUP(\"82020AMOVIL\",'[6]Pegar datos'!$C$2781:$L$3057,4,0)","v":10001},{"$f":"VLOOKUP(\"82020AMOVIL\",'[6]Pegar datos'!$C$2781:$L$3057,5,0)/1000000","v":14.501099999999999},{"$f":"VLOOKUP(\"82020AMOVIL\",'[6]Pegar datos'!$C$2781:$L$3057,6,0)","v":20000},null,"2020-08-01",{"$f":"VLOOKUP(\"82020TELEVISA\",'[6]Pegar datos'!$C$2781:$L$3057,3,0)","v":0},{"$f":"VLOOKUP(\"82020TELEVISA\",'[6]Pegar datos'!$C$2781:$L$3057,4,0)","v":0},{"$f":"VLOOKUP(\"82020TELEVISA\",'[6]Pegar datos'!$C$2781:$L$3057,5,0)/1000000","v":0},{"$f":"VLOOKUP(\"82020TELEVISA\",'[6]Pegar datos'!$C$2781:$L$3057,6,0)","v":0},{"$f":"VLOOKUP(\"82020GMEXICO\",'[6]Pegar datos'!$C$2781:$L$3057,3,0)","v":0},{"$f":"VLOOKUP(\"82020GMEXICO\",'[6]Pegar datos'!$C$2781:$L$3057,4,0)","v":0},{"$f":"VLOOKUP(\"82020GMEXICO\",'[6]Pegar datos'!$C$2781:$L$3057,5,0)/1000000","v":0},{"$f":"VLOOKUP(\"82020GMEXICO\",'[6]Pegar datos'!$C$2781:$L$3057,6,0)","v":0},{"$f":"VLOOKUP(\"82020MEXICHEM\",'[6]Pegar datos'!$C$2781:$L$3057,3,0)","v":0},{"$f":"VLOOKUP(\"82020MEXICHEM\",'[6]Pegar datos'!$C$2781:$L$3057,4,0)","v":0},{"$f":"VLOOKUP(\"82020MEXICHEM\",'[6]Pegar datos'!$C$2781:$L$3057,5,0)/1000000","v":0},{"$f":"VLOOKUP(\"82020MEXICHEM\",'[6]Pegar datos'!$C$2781:$L$3057,6,0)","v":0}]
["2020-09-01",{"$f":"VLOOKUP(\"92020IPC\",'[7]Pegar datos'!$C$2784:$L$3060,3,0)","v":418},{"$f":"VLOOKUP(\"92020IPC\",'[7]Pegar datos'!$C$2784:$L$3060,4,0)","v":1038},{"$f":"VLOOKUP(\"92020IPC\",'[7]Pegar datos'!$C$2784:$L$3060,5,0)/1000000","v":383.65499999999997},{"$f":"VLOOKUP(\"92020IPC\",'[7]Pegar datos'!$C$2784:$L$3060,6,0)","v":738},{"$f":"VLOOKUP(\"92020DOLAR\",'[7]Pegar datos'!$C$2784:$L$3060,3,0)","v":19},{"$f":"VLOOKUP(\"92020DOLAR\",'[7]Pegar datos'!$C$2784:$L$3060,4,0)","v":11120},{"$f":"VLOOKUP(\"92020DOLAR\",'[7]Pegar datos'!$C$2784:$L$3060,5,0)/1000000","v":2426.5},{"$f":"VLOOKUP(\"92020DOLAR\",'[7]Pegar datos'!$C$2784:$L$3060,6,0)","v":3280},{"$f":"VLOOKUP(\"92020AMOVIL\",'[7]Pegar datos'!$C$2784:$L$3060,3,0)","v":0},{"$f":"VLOOKUP(\"92020AMOVIL\",'[7]Pegar datos'!$C$2784:$L$3060,4,0)","v":0},{"$f":"VLOOKUP(\"92020AMOVIL\",'[7]Pegar datos'!$C$2784:$L$3060,5,0)/1000000","v":0},{"$f":"VLOOKUP(\"92020AMOVIL\",'[7]Pegar datos'!$C$2784:$L$3060,6,0)","v":0},null,"2020-09-01",{"$f":"VLOOKUP(\"92020TELEVISA\",'[7]Pegar datos'!$C$2784:$L$3060,3,0)","v":0},{"$f":"VLOOKUP(\"92020TELEVISA\",'[7]Pegar datos'!$C$2784:$L$3060,4,0)","v":0},{"$f":"VLOOKUP(\"92020TELEVISA\",'[7]Pegar datos'!$C$2784:$L$3060,5,0)/1000000","v":0},{"$f":"VLOOKUP(\"92020TELEVISA\",'[7]Pegar datos'!$C$2784:$L$3060,6,0)","v":0},{"$f":"VLOOKUP(\"92020GMEXICO\",'[7]Pegar datos'!$C$2784:$L$3060,3,0)","v":0},{"$f":"VLOOKUP(\"92020GMEXICO\",'[7]Pegar datos'!$C$2784:$L$3060,4,0)","v":0},{"$f":"VLOOKUP(\"92020GMEXICO\",'[7]Pegar datos'!$C$2784:$L$3060,5,0)/1000000","v":0},{"$f":"VLOOKUP(\"92020GMEXICO\",'[7]Pegar datos'!$C$2784:$L$3060,6,0)","v":0},{"$f":"VLOOKUP(\"92020MEXICHEM\",'[7]Pegar datos'!$C$2784:$L$3060,3,0)","v":0},{"$f":"VLOOKUP(\"92020MEXICHEM\",'[7]Pegar datos'!$C$2784:$L$3060,4,0)","v":0},{"$f":"VLOOKUP(\"92020MEXICHEM\",'[7]Pegar datos'!$C$2784:$L$3060,5,0)/1000000","v":0},{"$f":"VLOOKUP(\"92020MEXICHEM\",'[7]Pegar datos'!$C$2784:$L$3060,6,0)","v":0}]
["2020-10-01",{"$f":"VLOOKUP(\"102020IPC\",'[8]Pegar datos'!$C$2787:$L$3063,3,0)","v":488},{"$f":"VLOOKUP(\"102020IPC\",'[8]Pegar datos'!$C$2787:$L$3063,4,0)","v":1623},{"$f":"VLOOKUP(\"102020IPC\",'[8]Pegar datos'!$C$2787:$L$3063,5,0)/1000000","v":594.44500000000005},{"$f":"VLOOKUP(\"102020IPC\",'[8]Pegar datos'!$C$2787:$L$3063,6,0)","v":1848},{"$f":"VLOOKUP(\"102020DOLAR\",'[8]Pegar datos'!$C$2787:$L$3063,3,0)","v":7},{"$f":"VLOOKUP(\"102020DOLAR\",'[8]Pegar datos'!$C$2787:$L$3063,4,0)","v":2600},{"$f":"VLOOKUP(\"102020DOLAR\",'[8]Pegar datos'!$C$2787:$L$3063,5,0)/1000000","v":571.4},{"$f":"VLOOKUP(\"102020DOLAR\",'[8]Pegar datos'!$C$2787:$L$3063,6,0)","v":5880},{"$f":"VLOOKUP(\"102020AMOVIL\",'[8]Pegar datos'!$C$2787:$L$3063,3,0)","v":0},{"$f":"VLOOKUP(\"102020AMOVIL\",'[8]Pegar datos'!$C$2787:$L$3063,4,0)","v":0},{"$f":"VLOOKUP(\"102020AMOVIL\",'[8]Pegar datos'!$C$2787:$L$3063,5,0)/1000000","v":0},{"$f":"VLOOKUP(\"102020AMOVIL\",'[8]Pegar datos'!$C$2787:$L$3063,6,0)","v":0},null,"2020-10-01",{"$f":"VLOOKUP(\"102020TELEVISA\",'[8]Pegar datos'!$C$2787:$L$3063,3,0)","v":0},{"$f":"VLOOKUP(\"102020TELEVISA\",'[8]Pegar datos'!$C$2787:$L$3063,4,0)","v":0},{"$f":"VLOOKUP(\"102020TELEVISA\",'[8]Pegar datos'!$C$2787:$L$3063,5,0)/1000000","v":0},{"$f":"VLOOKUP(\"102020TELEVISA\",'[8]Pegar datos'!$C$2787:$L$3063,6,0)","v":0},{"$f":"VLOOKUP(\"102020GMEXICO\",'[8]Pegar datos'!$C$2787:$L$3063,3,0)","v":0},{"$f":"VLOOKUP(\"102020GMEXICO\",'[8]Pegar datos'!$C$2787:$L$3063,4,0)","v":0},{"$f":"VLOOKUP(\"102020GMEXICO\",'[8]Pegar datos'!$C$2787:$L$3063,5,0)/1000000","v":0},{"$f":"VLOOKUP(\"102020GMEXICO\",'[8]Pegar datos'!$C$2787:$L$3063,6,0)","v":0},{"$f":"VLOOKUP(\"102020MEXICHEM\",'[8]Pegar datos'!$C$2787:$L$3063,3,0)","v":0},{"$f":"VLOOKUP(\"102020MEXICHEM\",'[8]Pegar datos'!$C$2787:$L$3063,4,0)","v":0},{"$f":"VLOOKUP(\"102020MEXICHEM\",'[8]Pegar datos'!$C$2787:$L$3063,5,0)/1000000","v":0},{"$f":"VLOOKUP(\"102020MEXICHEM\",'[8]Pegar datos'!$C$2787:$L$3063,6,0)","v":0}]
["2020-11-01",{"$f":"VLOOKUP(\"112020IPC\",'[9]Pegar datos'!$C$2790:$L$3066,3,0)","v":178},{"$f":"VLOOKUP(\"112020IPC\",'[9]Pegar datos'!$C$2790:$L$3066,4,0)","v":178},{"$f":"VLOOKUP(\"112020IPC\",'[9]Pegar datos'!$C$2790:$L$3066,5,0)/1000000","v":69.424999999999997},{"$f":"VLOOKUP(\"112020IPC\",'[9]Pegar datos'!$C$2790:$L$3066,6,0)","v":1890},{"$f":"VLOOKUP(\"112020DOLAR\",'[9]Pegar datos'!$C$2790:$L$3066,3,0)","v":5},{"$f":"VLOOKUP(\"112020DOLAR\",'[9]Pegar datos'!$C$2790:$L$3066,4,0)","v":1000},{"$f":"VLOOKUP(\"112020DOLAR\",'[9]Pegar datos'!$C$2790:$L$3066,5,0)/1000000","v":204.4},{"$f":"VLOOKUP(\"112020DOLAR\",'[9]Pegar datos'!$C$2790:$L$3066,6,0)","v":6880},{"$f":"VLOOKUP(\"112020AMOVIL\",'[9]Pegar datos'!$C$2790:$L$3066,3,0)","v":0},{"$f":"VLOOKUP(\"112020AMOVIL\",'[9]Pegar datos'!$C$2790:$L$3066,4,0)","v":0},{"$f":"VLOOKUP(\"112020AMOVIL\",'[9]Pegar datos'!$C$2790:$L$3066,5,0)/1000000","v":0},{"$f":"VLOOKUP(\"112020AMOVIL\",'[9]Pegar datos'!$C$2790:$L$3066,6,0)","v":0},null,"2020-11-01",{"$f":"VLOOKUP(\"112020TELEVISA\",'[9]Pegar datos'!$C$2790:$L$3066,3,0)","v":0},{"$f":"VLOOKUP(\"112020TELEVISA\",'[9]Pegar datos'!$C$2790:$L$3066,4,0)","v":0},{"$f":"VLOOKUP(\"112020TELEVISA\",'[9]Pegar datos'!$C$2790:$L$3066,5,0)/1000000","v":0},{"$f":"VLOOKUP(\"112020TELEVISA\",'[9]Pegar datos'!$C$2790:$L$3066,6,0)","v":0},{"$f":"VLOOKUP(\"112020GMEXICO\",'[9]Pegar datos'!$C$2790:$L$3066,3,0)","v":0},{"$f":"VLOOKUP(\"112020GMEXICO\",'[9]Pegar datos'!$C$2790:$L$3066,4,0)","v":0},{"$f":"VLOOKUP(\"112020GMEXICO\",'[9]Pegar datos'!$C$2790:$L$3066,5,0)/1000000","v":0},{"$f":"VLOOKUP(\"112020GMEXICO\",'[9]Pegar datos'!$C$2790:$L$3066,6,0)","v":0},{"$f":"VLOOKUP(\"112020MEXICHEM\",'[9]Pegar datos'!$C$2790:$L$3066,3,0)","v":0},{"$f":"VLOOKUP(\"112020MEXICHEM\",'[9]Pegar datos'!$C$2790:$L$3066,4,0)","v":0},{"$f":"VLOOKUP(\"112020MEXICHEM\",'[9]Pegar datos'!$C$2790:$L$3066,5,0)/1000000","v":0},{"$f":"VLOOKUP(\"112020MEXICHEM\",'[9]Pegar datos'!$C$2790:$L$3066,6,0)","v":0}]
["2020-12-01",{"$f":"VLOOKUP(\"122020IPC\",'[10]Pegar datos'!$C$2793:$L$3069,3,0)","v":369},{"$f":"VLOOKUP(\"122020IPC\",'[10]Pegar datos'!$C$2793:$L$3069,4,0)","v":370},{"$f":"VLOOKUP(\"122020IPC\",'[10]Pegar datos'!$C$2793:$L$3069,5,0)/1000000","v":161.06},{"$f":"VLOOKUP(\"122020IPC\",'[10]Pegar datos'!$C$2793:$L$3069,6,0)","v":168},{"$f":"VLOOKUP(\"122020DOLAR\",'[10]Pegar datos'!$C$2793:$L$3069,3,0)","v":14},{"$f":"VLOOKUP(\"122020DOLAR\",'[10]Pegar datos'!$C$2793:$L$3069,4,0)","v":5200},{"$f":"VLOOKUP(\"122020DOLAR\",'[10]Pegar datos'!$C$2793:$L$3069,5,0)/1000000","v":1088.5999999999999},{"$f":"VLOOKUP(\"122020DOLAR\",'[10]Pegar datos'!$C$2793:$L$3069,6,0)","v":80},{"$f":"VLOOKUP(\"122020AMOVIL\",'[10]Pegar datos'!$C$2793:$L$3069,3,0)","v":0},{"$f":"VLOOKUP(\"122020AMOVIL\",'[10]Pegar datos'!$C$2793:$L$3069,4,0)","v":0},{"$f":"VLOOKUP(\"122020AMOVIL\",'[10]Pegar datos'!$C$2793:$L$3069,5,0)/1000000","v":0},{"$f":"VLOOKUP(\"122020AMOVIL\",'[10]Pegar datos'!$C$2793:$L$3069,6,0)","v":0},null,"2020-12-01",{"$f":"VLOOKUP(\"122020TELEVISA\",'[10]Pegar datos'!$C$2793:$L$3069,3,0)","v":0},{"$f":"VLOOKUP(\"122020TELEVISA\",'[10]Pegar datos'!$C$2793:$L$3069,4,0)","v":0},{"$f":"VLOOKUP(\"122020TELEVISA\",'[10]Pegar datos'!$C$2793:$L$3069,5,0)/1000000","v":0},{"$f":"VLOOKUP(\"122020TELEVISA\",'[10]Pegar datos'!$C$2793:$L$3069,6,0)","v":0},{"$f":"VLOOKUP(\"122020GMEXICO\",'[10]Pegar datos'!$C$2793:$L$3069,3,0)","v":0},{"$f":"VLOOKUP(\"122020GMEXICO\",'[10]Pegar datos'!$C$2793:$L$3069,4,0)","v":0},{"$f":"VLOOKUP(\"122020GMEXICO\",'[10]Pegar datos'!$C$2793:$L$3069,5,0)/1000000","v":0},{"$f":"VLOOKUP(\"122020GMEXICO\",'[10]Pegar datos'!$C$2793:$L$3069,6,0)","v":0},{"$f":"VLOOKUP(\"122020MEXICHEM\",'[10]Pegar datos'!$C$2793:$L$3069,3,0)","v":0},{"$f":"VLOOKUP(\"122020MEXICHEM\",'[10]Pegar datos'!$C$2793:$L$3069,4,0)","v":0},{"$f":"VLOOKUP(\"122020MEXICHEM\",'[10]Pegar datos'!$C$2793:$L$3069,5,0)/1000000","v":0},{"$f":"VLOOKUP(\"122020MEXICHEM\",'[10]Pegar datos'!$C$2793:$L$3069,6,0)","v":0}]
["(1) In Millions"]
[]
[null,"CEMEX",null,null,null,"WALMEX",null,null,null,"NAFTRAC",null,null,null,null,null,"FEMSA"]
[null,"Trades","Volume","Notional Value","Open Interest","Trades","Volume","Notional Value","Open Interest","Trades","Volume","Notional Value","Open Interest",null,null,"Trades","Volume","Notional Value","Open Interest"]
[]
["2019-01-01",6,10300,10305000,10240,0,0,0,42540,2,2,8600,2,null,"2019-01-01",0,0,0,0]
["2019-02-01",8,34190,32190000,31860,3,2000,9800000,44540,0,0,0,2,null,"2019-02-01",0,0,0,0]
["2019-03-01",5,30000,27000000,10000,6,4000,19900000,44540,0,0,0,0,null,"2019-03-01",0,0,0,0]
["2019-04-01",5,37000,33300000,31000,3,4100,23350000,48640,0,0,0,0,null,"2019-04-01",0,0,0,0]
["2019-05-01",15,93500,80400000,78500,1,1300,6630000,48340,0,0,0,0,null,"2019-05-01",0,0,0,0]
["2019-06-01",2,20000,14000000,20000,0,0,0,0,0,0,0,0,null,"2019-06-01",0,0,0,0]
["2019-07-01",2,10000,7000000,30000,0,0,0,0,0,0,0,0,null,"2019-07-01",0,0,0,0]
["2019-08-01",4,27500,17875000,55000,1,10000,57000000,10000,0,0,0,0,null,"2019-08-01",0,0,0,0]
["2019-09-01",6,30000,21500000,10000,5,5585,32650000,15585,0,0,0,0,null,"2019-09-01",0,0,0,0]
["2019-10-01",1,5000,3750000,15000,6,7000,39750000,15085,0,0,0,0,null,"2019-10-01",0,0,0,0]
["2019-11-01",8,30380,22025500,25000,6,24085,132113000,15150,0,0,0,0,null,"2019-11-01",0,0,0,0]
["2019-12-01",1,15000,10500000,15000,0,0,0,0,0,0,0,0,null,"2019-12-01",0,0,0,0]
["2020-01-01",12,24358,17050600,24358,1,12,67200,12,0,0,0,0,null,"2020-01-01",0,0,0,0]
["2020-02-01",{"$f":"VLOOKUP(\"22020CEMEX\",'[1]Pegar datos'!$C$2768:$L$3044,3,0)","v":7},{"$f":"VLOOKUP(\"22020CEMEX\",'[1]Pegar datos'!$C$2768:$L$3044,4,0)","v":35378},{"$f":"VLOOKUP(\"22020CEMEX\",'[1]Pegar datos'!$C$2768:$L$3044,5,0)","v":24662600},{"$f":"VLOOKUP(\"22020CEMEX\",'[1]Pegar datos'!$C$2768:$L$3044,6,0)","v":35348},{"$f":"VLOOKUP(\"22020WALMART\",'[1]Pegar datos'!$C$2768:$L$3044,3,0)","v":1},{"$f":"VLOOKUP(\"22020WALMART\",'[1]Pegar datos'!$C$2768:$L$3044,4,0)","v":12},{"$f":"VLOOKUP(\"22020WALMART\",'[1]Pegar datos'!$C$2768:$L$3044,5,0)","v":67200},{"$f":"VLOOKUP(\"22020WALMART\",'[1]Pegar datos'!$C$2768:$L$3044,6,0)","v":0},{"$f":"VLOOKUP(\"22020NAFTRAC\",'[1]Pegar datos'!$C$2768:$L$3044,3,0)","v":0},{"$f":"VLOOKUP(\"22020NAFTRAC\",'[1]Pegar datos'!$C$2768:$L$3044,4,0)","v":0},{"$f":"VLOOKUP(\"22020NAFTRAC\",'[1]Pegar datos'!$C$2768:$L$3044,5,0)/1000000","v":0},{"$f":"VLOOKUP(\"22020NAFTRAC\",'[1]Pegar datos'!$C$2768:$L$3044,6,0)","v":0},null,"2020-02-01",{"$f":"VLOOKUP(\"22020FEMSA\",'[1]Pegar datos'!$C$2768:$L$3044,3,0)","v":0},{"$f":"VLOOKUP(\"22020FEMSA\",'[1]Pegar datos'!$C$2768:$L$3044,4,0)","v":0},{"$f":"VLOOKUP(\"22020FEMSA\",'[1]Pegar datos'!$C$2768:$L$3044,5,0)/1000000","v":0},{"$f":"VLOOKUP(\"22020FEMSA\",'[1]Pegar datos'!$C$2768:$L$3044,6,0)","v":0}]
["2020-03-01",{"$f":"VLOOKUP(\"32020CEMEX\",'[2]Pegar datos'!$C$2769:$L$3045,3,0)","v":0},{"$f":"VLOOKUP(\"32020CEMEX\",'[2]Pegar datos'!$C$2769:$L$3045,4,0)","v":0},{"$f":"VLOOKUP(\"32020CEMEX\",'[2]Pegar datos'!$C$2769:$L$3045,5,0)","v":0},{"$f":"VLOOKUP(\"32020CEMEX\",'[2]Pegar datos'!$C$2769:$L$3045,6,0)","v":10000},{"$f":"VLOOKUP(\"32020WALMART\",'[2]Pegar datos'!$C$2769:$L$3045,3,0)","v":0},{"$f":"VLOOKUP(\"32020WALMART\",'[2]Pegar datos'!$C$2769:$L$3045,4,0)","v":0},{"$f":"VLOOKUP(\"32020WALMART\",'[2]Pegar datos'!$C$2769:$L$3045,5,0)/1000000","v":0},{"$f":"VLOOKUP(\"32020WALMART\",'[2]Pegar datos'!$C$2769:$L$3045,6,0)","v":0},{"$f":"VLOOKUP(\"32020NAFTRAC\",'[2]Pegar datos'!$C$2769:$L$3045,3,0)","v":0},{"$f":"VLOOKUP(\"32020NAFTRAC\",'[2]Pegar datos'!$C$2769:$L$3045,4,0)","v":0},{"$f":"VLOOKUP(\"32020NAFTRAC\",'[2]Pegar datos'!$C$2769:$L$3045,5,0)/1000000","v":0},{"$f":"VLOOKUP(\"32020NAFTRAC\",'[2]Pegar datos'!$C$2769:$L$3045,6,0)","v":0},null,"2020-03-01",{"$f":"VLOOKUP(\"32020FEMSA\",'[2]Pegar datos'!$C$2769:$L$3045,3,0)","v":0},{"$f":"VLOOKUP(\"32020FEMSA\",'[2]Pegar datos'!$C$2769:$L$3045,4,0)","v":0},{"$f":"VLOOKUP(\"32020FEMSA\",'[2]Pegar datos'!$C$2769:$L$3045,5,0)/1000000","v":0},{"$f":"VLOOKUP(\"32020FEMSA\",'[2]Pegar datos'!$C$2769:$L$3045,6,0)","v":0}]
["2020-04-01",0,0,0,10000,0,0,0,0,0,0,0,0,null,"2020-04-01",{"$f":"VLOOKUP(\"32020FEMSA\",'[2]Pegar datos'!$C$2769:$L$3045,3,0)","v":0},{"$f":"VLOOKUP(\"32020FEMSA\",'[2]Pegar datos'!$C$2769:$L$3045,4,0)","v":0},{"$f":"VLOOKUP(\"32020FEMSA\",'[2]Pegar datos'!$C$2769:$L$3045,5,0)/1000000","v":0},{"$f":"VLOOKUP(\"32020FEMSA\",'[2]Pegar datos'!$C$2769:$L$3045,6,0)","v":0}]
["2020-05-01",{"$f":"VLOOKUP(\"52020CEMEX\",'[3]Pegar datos'!$C$2773:$L$3049,3,0)","v":0},{"$f":"VLOOKUP(\"52020CEMEX\",'[3]Pegar datos'!$C$2773:$L$3049,4,0)","v":0},{"$f":"VLOOKUP(\"52020CEMEX\",'[3]Pegar datos'!$C$2773:$L$3049,5,0)/1000000","v":0},{"$f":"VLOOKUP(\"52020CEMEX\",'[3]Pegar datos'!$C$2773:$L$3049,6,0)","v":10000},{"$f":"VLOOKUP(\"52020WALMART\",'[3]Pegar datos'!$C$2773:$L$3049,3,0)","v":0},{"$f":"VLOOKUP(\"52020WALMART\",'[3]Pegar datos'!$C$2773:$L$3049,4,0)","v":0},{"$f":"VLOOKUP(\"52020WALMART\",'[3]Pegar datos'!$C$2773:$L$3049,5,0)/1000000","v":0},{"$f":"VLOOKUP(\"52020WALMART\",'[3]Pegar datos'!$C$2773:$L$3049,6,0)","v":0},{"$f":"VLOOKUP(\"52020NAFTRAC\",'[3]Pegar datos'!$C$2773:$L$3049,3,0)","v":0},{"$f":"VLOOKUP(\"52020NAFTRAC\",'[3]Pegar datos'!$C$2773:$L$3049,4,0)","v":0},{"$f":"VLOOKUP(\"52020NAFTRAC\",'[3]Pegar datos'!$C$2773:$L$3049,5,0)/1000000","v":0},{"$f":"VLOOKUP(\"52020NAFTRAC\",'[3]Pegar datos'!$C$2773:$L$3049,6,0)","v":0},null,"2020-05-01",{"$f":"VLOOKUP(\"52020FEMSA\",'[3]Pegar datos'!$C$2773:$L$3049,3,0)","v":0},{"$f":"VLOOKUP(\"52020FEMSA\",'[3]Pegar datos'!$C$2773:$L$3049,4,0)","v":0},{"$f":"VLOOKUP(\"52020FEMSA\",'[3]Pegar datos'!$C$2773:$L$3049,5,0)/1000000","v":0},{"$f":"VLOOKUP(\"52020FEMSA\",'[3]Pegar datos'!$C$2773:$L$3049,6,0)","v":0}]
["2020-06-01",{"$f":"VLOOKUP(\"62020CEMEX\",'[4]Pegar datos'!$C$2775:$L$3051,3,0)","v":0},{"$f":"VLOOKUP(\"62020CEMEX\",'[4]Pegar datos'!$C$2775:$L$3051,4,0)","v":0},{"$f":"VLOOKUP(\"62020CEMEX\",'[4]Pegar datos'!$C$2775:$L$3051,5,0)/1000000","v":0},{"$f":"VLOOKUP(\"62020CEMEX\",'[4]Pegar datos'!$C$2775:$L$3051,6,0)","v":0},{"$f":"VLOOKUP(\"62020WALMART\",'[4]Pegar datos'!$C$2775:$L$3051,3,0)","v":0},{"$f":"VLOOKUP(\"62020WALMART\",'[4]Pegar datos'!$C$2775:$L$3051,4,0)","v":0},{"$f":"VLOOKUP(\"62020WALMART\",'[4]Pegar datos'!$C$2775:$L$3051,5,0)/1000000","v":0},{"$f":"VLOOKUP(\"62020WALMART\",'[4]Pegar datos'!$C$2775:$L$3051,6,0)","v":0},{"$f":"VLOOKUP(\"62020NAFTRAC\",'[4]Pegar datos'!$C$2775:$L$3051,3,0)","v":0},{"$f":"VLOOKUP(\"62020NAFTRAC\",'[4]Pegar datos'!$C$2775:$L$3051,4,0)","v":0},{"$f":"VLOOKUP(\"62020NAFTRAC\",'[4]Pegar datos'!$C$2775:$L$3051,5,0)/1000000","v":0},{"$f":"VLOOKUP(\"62020NAFTRAC\",'[4]Pegar datos'!$C$2775:$L$3051,6,0)","v":0},null,"2020-06-01",{"$f":"VLOOKUP(\"62020FEMSA\",'[4]Pegar datos'!$C$2775:$L$3051,3,0)","v":0},{"$f":"VLOOKUP(\"62020FEMSA\",'[4]Pegar datos'!$C$2775:$L$3051,4,0)","v":0},{"$f":"VLOOKUP(\"62020FEMSA\",'[4]Pegar datos'!$C$2775:$L$3051,5,0)/1000000","v":0},{"$f":"VLOOKUP(\"62020FEMSA\",'[4]Pegar datos'!$C$2775:$L$3051,6,0)","v":0}]
["2020-07-01",{"$f":"VLOOKUP(\"72020CEMEX\",'[5]Pegar datos'!$C$2778:$L$3054,3,0)","v":0},{"$f":"VLOOKUP(\"72020CEMEX\",'[5]Pegar datos'!$C$2778:$L$3054,4,0)","v":0},{"$f":"VLOOKUP(\"72020CEMEX\",'[5]Pegar datos'!$C$2778:$L$3054,5,0)/1000000","v":0},{"$f":"VLOOKUP(\"72020CEMEX\",'[5]Pegar datos'!$C$2778:$L$3054,6,0)","v":0},{"$f":"VLOOKUP(\"72020WALMART\",'[5]Pegar datos'!$C$2778:$L$3054,3,0)","v":0},{"$f":"VLOOKUP(\"72020WALMART\",'[5]Pegar datos'!$C$2778:$L$3054,4,0)","v":0},{"$f":"VLOOKUP(\"72020WALMART\",'[5]Pegar datos'!$C$2778:$L$3054,5,0)/1000000","v":0},{"$f":"VLOOKUP(\"72020WALMART\",'[5]Pegar datos'!$C$2778:$L$3054,6,0)","v":0},{"$f":"VLOOKUP(\"72020NAFTRAC\",'[5]Pegar datos'!$C$2778:$L$3054,3,0)","v":0},{"$f":"VLOOKUP(\"72020NAFTRAC\",'[5]Pegar datos'!$C$2778:$L$3054,4,0)","v":0},{"$f":"VLOOKUP(\"72020NAFTRAC\",'[5]Pegar datos'!$C$2778:$L$3054,5,0)/1000000","v":0},{"$f":"VLOOKUP(\"72020NAFTRAC\",'[5]Pegar datos'!$C$2778:$L$3054,6,0)","v":0},null,"2020-07-01",{"$f":"VLOOKUP(\"72020FEMSA\",'[5]Pegar datos'!$C$2778:$L$3054,3,0)","v":0},{"$f":"VLOOKUP(\"72020FEMSA\",'[5]Pegar datos'!$C$2778:$L$3054,4,0)","v":0},{"$f":"VLOOKUP(\"72020FEMSA\",'[5]Pegar datos'!$C$2778:$L$3054,5,0)/1000000","v":0},{"$f":"VLOOKUP(\"72020FEMSA\",'[5]Pegar datos'!$C$2778:$L$3054,6,0)","v":0}]
["2020-08-01",{"$f":"VLOOKUP(\"82020CEMEX\",'[6]Pegar datos'!$C$2781:$L$3057,3,0)","v":6},{"$f":"VLOOKUP(\"82020CEMEX\",'[6]Pegar datos'!$C$2781:$L$3057,4,0)","v":23000},{"$f":"VLOOKUP(\"82020CEMEX\",'[6]Pegar datos'!$C$2781:$L$3057,5,0)/1000000","v":17.25},{"$f":"VLOOKUP(\"82020CEMEX\",'[6]Pegar datos'!$C$2781:$L$3057,6,0)","v":23000},{"$f":"VLOOKUP(\"82020WALMART\",'[6]Pegar datos'!$C$2781:$L$3057,3,0)","v":1},{"$f":"VLOOKUP(\"82020WALMART\",'[6]Pegar datos'!$C$2781:$L$3057,4,0)","v":1},{"$f":"VLOOKUP(\"82020WALMART\",'[6]Pegar datos'!$C$2781:$L$3057,5,0)/1000000","v":6.3E-3},{"$f":"VLOOKUP(\"82020WALMART\",'[6]Pegar datos'!$C$2781:$L$3057,6,0)","v":0},{"$f":"VLOOKUP(\"82020NAFTRAC\",'[6]Pegar datos'!$C$2781:$L$3057,3,0)","v":0},{"$f":"VLOOKUP(\"82020NAFTRAC\",'[6]Pegar datos'!$C$2781:$L$3057,4,0)","v":0},{"$f":"VLOOKUP(\"82020NAFTRAC\",'[6]Pegar datos'!$C$2781:$L$3057,5,0)/1000000","v":0},{"$f":"VLOOKUP(\"82020NAFTRAC\",'[6]Pegar datos'!$C$2781:$L$3057,6,0)","v":0},null,"2020-08-01",{"$f":"VLOOKUP(\"82020FEMSA\",'[6]Pegar datos'!$C$2781:$L$3057,3,0)","v":2},{"$f":"VLOOKUP(\"82020FEMSA\",'[6]Pegar datos'!$C$2781:$L$3057,4,0)","v":10000},{"$f":"VLOOKUP(\"82020FEMSA\",'[6]Pegar datos'!$C$2781:$L$3057,5,0)/1000000","v":132.5},{"$f":"VLOOKUP(\"82020FEMSA\",'[6]Pegar datos'!$C$2781:$L$3057,6,0)","v":10000}]
["2020-09-01",{"$f":"VLOOKUP(\"92020CEMEX\",'[7]Pegar datos'!$C$2784:$L$3060,3,0)","v":1},{"$f":"VLOOKUP(\"92020CEMEX\",'[7]Pegar datos'!$C$2784:$L$3060,4,0)","v":13000},{"$f":"VLOOKUP(\"92020CEMEX\",'[7]Pegar datos'!$C$2784:$L$3060,5,0)/1000000","v":9.75},{"$f":"VLOOKUP(\"92020CEMEX\",'[7]Pegar datos'!$C$2784:$L$3060,6,0)","v":26000},{"$f":"VLOOKUP(\"92020WALMART\",'[7]Pegar datos'!$C$2784:$L$3060,3,0)","v":1},{"$f":"VLOOKUP(\"92020WALMART\",'[7]Pegar datos'!$C$2784:$L$3060,4,0)","v":2000},{"$f":"VLOOKUP(\"92020WALMART\",'[7]Pegar datos'!$C$2784:$L$3060,5,0)/1000000","v":10.199999999999999},{"$f":"VLOOKUP(\"92020WALMART\",'[7]Pegar datos'!$C$2784:$L$3060,6,0)","v":2000},{"$f":"VLOOKUP(\"92020NAFTRAC\",'[7]Pegar datos'!$C$2784:$L$3060,3,0)","v":0},{"$f":"VLOOKUP(\"92020NAFTRAC\",'[7]Pegar datos'!$C$2784:$L$3060,4,0)","v":0},{"$f":"VLOOKUP(\"92020NAFTRAC\",'[7]Pegar datos'!$C$2784:$L$3060,5,0)/1000000","v":0},{"$f":"VLOOKUP(\"92020NAFTRAC\",'[7]Pegar datos'!$C$2784:$L$3060,6,0)","v":0},null,"2020-09-01",{"$f":"VLOOKUP(\"92020FEMSA\",'[7]Pegar datos'!$C$2784:$L$3060,3,0)","v":0},{"$f":"VLOOKUP(\"92020FEMSA\",'[7]Pegar datos'!$C$2784:$L$3060,4,0)","v":0},{"$f":"VLOOKUP(\"92020FEMSA\",'[7]Pegar datos'!$C$2784:$L$3060,5,0)/1000000","v":0},{"$f":"VLOOKUP(\"92020FEMSA\",'[7]Pegar datos'!$C$2784:$L$3060,6,0)","v":0}]
["2020-10-01",{"$f":"VLOOKUP(\"102020CEMEX\",'[8]Pegar datos'!$C$2787:$L$3063,3,0)","v":0},{"$f":"VLOOKUP(\"102020CEMEX\",'[8]Pegar datos'!$C$2787:$L$3063,4,0)","v":0},{"$f":"VLOOKUP(\"102020CEMEX\",'[8]Pegar datos'!$C$2787:$L$3063,5,0)/1000000","v":0},{"$f":"VLOOKUP(\"102020CEMEX\",'[8]Pegar datos'!$C$2787:$L$3063,6,0)","v":26000},{"$f":"VLOOKUP(\"102020WALMART\",'[8]Pegar datos'!$C$2787:$L$3063,3,0)","v":1},{"$f":"VLOOKUP(\"102020WALMART\",'[8]Pegar datos'!$C$2787:$L$3063,4,0)","v":5000},{"$f":"VLOOKUP(\"102020WALMART\",'[8]Pegar datos'!$C$2787:$L$3063,5,0)/1000000","v":25.5},{"$f":"VLOOKUP(\"102020WALMART\",'[8]Pegar datos'!$C$2787:$L$3063,6,0)","v":7000},{"$f":"VLOOKUP(\"102020NAFTRAC\",'[8]Pegar datos'!$C$2787:$L$3063,3,0)","v":0},{"$f":"VLOOKUP(\"102020NAFTRAC\",'[8]Pegar datos'!$C$2787:$L$3063,4,0)","v":0},{"$f":"VLOOKUP(\"102020NAFTRAC\",'[8]Pegar datos'!$C$2787:$L$3063,5,0)/1000000","v":0},{"$f":"VLOOKUP(\"102020NAFTRAC\",'[8]Pegar datos'!$C$2787:$L$3063,6,0)","v":0},null,"2020-10-01",{"$f":"VLOOKUP(\"102020FEMSA\",'[8]Pegar datos'!$C$2787:$L$3063,3,0)","v":0},{"$f":"VLOOKUP(\"102020FEMSA\",'[8]Pegar datos'!$C$2787:$L$3063,4,0)","v":0},{"$f":"VLOOKUP(\"102020FEMSA\",'[8]Pegar datos'!$C$2787:$L$3063,5,0)/1000000","v":0},{"$f":"VLOOKUP(\"102020FEMSA\",'[8]Pegar datos'!$C$2787:$L$3063,6,0)","v":0}]
["2020-11-01",{"$f":"VLOOKUP(\"112020CEMEX\",'[9]Pegar datos'!$C$2790:$L$3066,3,0)","v":0},{"$f":"VLOOKUP(\"112020CEMEX\",'[9]Pegar datos'!$C$2790:$L$3066,4,0)","v":0},{"$f":"VLOOKUP(\"112020CEMEX\",'[9]Pegar datos'!$C$2790:$L$3066,5,0)/1000000","v":0},{"$f":"VLOOKUP(\"112020CEMEX\",'[9]Pegar datos'!$C$2790:$L$3066,6,0)","v":26000},{"$f":"VLOOKUP(\"112020WALMART\",'[9]Pegar datos'!$C$2790:$L$3066,3,0)","v":0},{"$f":"VLOOKUP(\"112020WALMART\",'[9]Pegar datos'!$C$2790:$L$3066,4,0)","v":0},{"$f":"VLOOKUP(\"112020WALMART\",'[9]Pegar datos'!$C$2790:$L$3066,5,0)/1000000","v":0},{"$f":"VLOOKUP(\"112020WALMART\",'[9]Pegar datos'!$C$2790:$L$3066,6,0)","v":7000},{"$f":"VLOOKUP(\"112020NAFTRAC\",'[9]Pegar datos'!$C$2790:$L$3066,3,0)","v":0},{"$f":"VLOOKUP(\"112020NAFTRAC\",'[9]Pegar datos'!$C$2790:$L$3066,4,0)","v":0},{"$f":"VLOOKUP(\"112020NAFTRAC\",'[9]Pegar datos'!$C$2790:$L$3066,5,0)/1000000","v":0},{"$f":"VLOOKUP(\"112020NAFTRAC\",'[9]Pegar datos'!$C$2790:$L$3066,6,0)","v":0},null,"2020-11-01",{"$f":"VLOOKUP(\"112020FEMSA\",'[9]Pegar datos'!$C$2790:$L$3066,3,0)","v":4},{"$f":"VLOOKUP(\"112020FEMSA\",'[9]Pegar datos'!$C$2790:$L$3066,4,0)","v":420},{"$f":"VLOOKUP(\"112020FEMSA\",'[9]Pegar datos'!$C$2790:$L$3066,5,0)/1000000","v":5.88},{"$f":"VLOOKUP(\"112020FEMSA\",'[9]Pegar datos'!$C$2790:$L$3066,6,0)","v":420}]
["2020-12-01",{"$f":"VLOOKUP(\"122020CEMEX\",'[10]Pegar datos'!$C$2793:$L$3069,3,0)","v":0},{"$f":"VLOOKUP(\"122020CEMEX\",'[10]Pegar datos'!$C$2793:$L$3069,4,0)","v":0},{"$f":"VLOOKUP(\"122020CEMEX\",'[10]Pegar datos'!$C$2793:$L$3069,5,0)/1000000","v":0},{"$f":"VLOOKUP(\"122020CEMEX\",'[10]Pegar datos'!$C$2793:$L$3069,6,0)","v":0},{"$f":"VLOOKUP(\"122020WALMART\",'[10]Pegar datos'!$C$2793:$L$3069,3,0)","v":1},{"$f":"VLOOKUP(\"122020WALMART\",'[10]Pegar datos'!$C$2793:$L$3069,4,0)","v":2000},{"$f":"VLOOKUP(\"122020WALMART\",'[10]Pegar datos'!$C$2793:$L$3069,5,0)/1000000","v":10.4},{"$f":"VLOOKUP(\"122020WALMART\",'[10]Pegar datos'!$C$2793:$L$3069,6,0)","v":2000},{"$f":"VLOOKUP(\"122020NAFTRAC\",'[10]Pegar datos'!$C$2793:$L$3069,3,0)","v":0},{"$f":"VLOOKUP(\"122020NAFTRAC\",'[10]Pegar datos'!$C$2793:$L$3069,4,0)","v":0},{"$f":"VLOOKUP(\"122020NAFTRAC\",'[10]Pegar datos'!$C$2793:$L$3069,5,0)/1000000","v":0},{"$f":"VLOOKUP(\"122020NAFTRAC\",'[10]Pegar datos'!$C$2793:$L$3069,6,0)","v":0},null,"2020-12-01",{"$f":"VLOOKUP(\"122020FEMSA\",'[10]Pegar datos'!$C$2793:$L$3069,3,0)","v":0},{"$f":"VLOOKUP(\"122020FEMSA\",'[10]Pegar datos'!$C$2793:$L$3069,4,0)","v":0},{"$f":"VLOOKUP(\"122020FEMSA\",'[10]Pegar datos'!$C$2793:$L$3069,5,0)/1000000","v":0},{"$f":"VLOOKUP(\"122020FEMSA\",'[10]Pegar datos'!$C$2793:$L$3069,6,0)","v":420}]
["(1) In Millions"]

{"sheet":"AuC","index":5,"n_rows":29,"n_cols":13,"rows_kept":29,"cut":false,"hidden":false,"merged":[[11,11,12,11],[11,12,12,12],[17,9,18,9],[17,10,18,10],[23,6,24,6],[23,7,24,7],[23,8,24,8],[23,9,24,9],[23,10,24,10],[11,6,12,6],[11,7,12,7],[11,8,12,8],[11,9,12,9],[11,10,12,10],[17,12,18,12],[23,12,24,12],[11,1,12,1],[11,2,12,2],[11,3,12,3],[11,4,12,4],[11,5,12,5],[23,0,24,0],[17,1,18,1],[17,2,18,2],[17,3,18,3],[17,4,18,4],[23,1,24,1],[23,2,24,2],[23,3,24,3],[23,4,24,4],[17,5,18,5],[17,6,18,6],[17,7,18,7],[17,8,18,8],[23,11,24,11],[23,5,24,5],[5,9,6,9],[5,10,6,10],[5,11,6,11],[5,12,6,12],[17,0,18,0],[11,0,12,0],[5,1,6,1],[5,2,6,2],[5,3,6,3],[5,4,6,4],[5,5,6,5],[5,6,6,6],[5,7,6,7],[5,8,6,8],[5,0,6,0],[17,11,18,11]]}
["MEXICAN STOCK EXCHANGE"]
["DECEMBER OPERATIONAL HIGHLIGHTS"]
[]
["ASSETS UNDER CUSTODY"]
[]
["Local","2019-01-01","2019-02-01","2019-03-01","2019-04-01","2019-05-01","2019-06-01","2019-07-01","2019-08-01","2019-09-01","2019-10-01","2019-11-01","2019-12-01"]
[]
["Equity (1)",12855062.078834299,12768087.789466586,12756663.574914301,13089849.378594914,12921441.2894774,13044123.0068992,12932354.470441099,12748165.594357843,13205430.942737188,13327390.58921211,13331266.332547618,13449594.534640538]
["Debt  (1)",11030570.33711813,11054223.343892697,11094428.99634596,11175813.179415397,11270224.657497156,11334355.112994,11354273.435582504,11421514.102142561,11508654.716512252,11685764.077459078,11725899.124468904,11779792.2541961]
[]
[]
["Local","2020-01-01","2020-02-01","2020-03-01","2020-04-01","2020-05-01","2020-06-01","2020-07-01","2020-08-01","2020-09-01","2020-10-01","2020-11-01","2020-12-01"]
[]
["Equity  (1)",13710823.952169033,13704726.015469026,12695482.827460205,12285905.232182804,12710570.020234022,13024339.213662244,13003186.35957302,13571700.78266532,13130583.935788507,13341646.923696026,13668548.029702729,14228256.374172112]
["Debt  (1)",11742419.423139993,11789212.863527488,11845028.704896133,11884988.325536868,11973128.501936221,12032560.631756071,12092223.801495794,12147127.285895381,12236310.701711597,12277383.958467105,12390527.557225766,12478843.220221095]
[]
[]
["Global","2019-01-01","2019-02-01","2019-03-01","2019-04-01","2019-05-01","2019-06-01","2019-07-01","2019-08-01","2019-09-01","2019-10-01","2019-11-01","2019-12-01"]
[]
["Equity  (1)",812548.50283386814,816163.87548364163,820952.61787184794,844497.87448215717,836829.58255943784,835546.29635812307,848872.48532095423,803234.73948530201,831202.41607842804,828374.70566161687,873377.94403048663,879770.17466534826]
["Debt  (1)",232203.16692838672,231226.64525568459,229283.60313973622,228537.71399781251,230739.61804806511,225194.17655296208,216939.16698753586,224581.25790382136,218595.01607513227,215773.24434806075,204787.52929903541,199955.36624653172]
[]
[]
["Global","2020-01-01","2020-02-01","2020-03-01","2020-04-01","2020-05-01","2020-06-01","2020-07-01","2020-08-01","2020-09-01","2020-10-01","2020-11-01","2020-12-01"]
[]
["Equity  (1)",919374.60832477722,932599.27282173524,940441.13109909231,996492.95586120954,1002592.6686883768,1071953.7194405685,1095425.9550216084,1127804.7374979889,1130373.9076228114,1147454.3243578654,1162531.8782560113,1203341.8401769649]
["Debt  (1)",192163.96350132173,186546.36913242517,205313.13997624585,210094.47131733625,207975.73765705238,200271.01940675333,195003.71412859033,197229.13269080664,201010.23595873444,204584.38546934223,197526.07939695354,195141.74882308766]
[]
["(1) In Millions"]